- Раздел: Пейзаж
- Дата съёмки: 01.10.2006 14:09
- Дата загрузки фото: 15.03.2020 20:56
- Оригинальная фотография: 2358 x 1769 (2,7 Мб)
- Технические характеристики:
- Фотоаппарат: Minolta DiMAGE A1
- Выдержка: 0,0
- Гиперфокальное расстояние: inf m
- Диафрагма: 3,5
- Светочувствительность: 100
- Фокусное расстояние: 15,0 mm (35 mm equivalent: 60,0 mm)
- Полный EXIF
- Adobe
- ColorTransform: YCbCr
- Composite
- Aperture: 3,5
- CircleOfConfusion: 0,007 mm
- FOV: 33,0 deg
- FocalLength35efl: 15,0 mm (35 mm equivalent: 60,0 mm)
- HyperfocalDistance: inf m
- Megapixels: 4,2
- ScaleFactor35efl: 4,2
- ShutterSpeed: 0,0
- ExifIFD
- ApertureValue: 2,8
- BrightnessValue: 9
- ColorSpace: sRGB
- Contrast: Normal
- CreateDate: 2006:10:01 14:09:57
- CustomRendered: Custom
- DateTimeOriginal: 2006:10:01 14:09:57
- DigitalZoomRatio: 0
- ExposureCompensation: 0
- ExposureMode: Auto
- ExposureProgram: Aperture-priority AE
- ExposureTime: 0,0
- FNumber: 3,5
- Flash: Off, Did not fire
- FocalLength: 15,0 mm
- FocalLengthIn35mmFormat: 63 mm
- GainControl: None
- ISO: 100
- LightSource: Unknown
- MaxApertureValue: 2,8
- MeteringMode: Spot
- Saturation: Normal
- SceneCaptureType: Standard
- Sharpness: Normal
- ShutterSpeedValue: 1/1024
- SubjectArea: 1280 960 320 384
- SubjectDistanceRange: Distant
- WhiteBalance: Auto
- ICC-header
- ICC-meas
- ICC-view
- IFD0
- ImageDescription: Minolta DSC
- Make: Minolta Co., Ltd.
- Model: DiMAGE A1
- ModifyDate: 2020:03:15 20:49:58
- IFD1
- IPTC
- Caption-Abstract: Minolta DSC
- DateCreated: 2006:10:01
- System
- XMP-aux
- ApproximateFocusDistance: 4294967295
- FlashCompensation: 0
- IsMergedHDR: True
- XMP-crs
- AlreadyApplied: True
- AutoLateralCA: 0
- Blacks2012: -31
- BlueHue: 0
- BlueSaturation: 0
- Clarity2012: 0
- ColorNoiseReduction: 25
- ColorNoiseReductionDetail: 0
- ColorNoiseReductionSmoothness: 100
- ColorTemperature: 5050
- Contrast2012: +7
- ConvertToGrayscale: False
- CropAngle: 0
- CropBottom: 0.968896
- CropConstrainToWarp: 1
- CropLeft: 0.065951
- CropRight: 0.987107
- CropTop: 0.04774
- DefringeGreenAmount: 0
- DefringeGreenHueHi: 60
- DefringeGreenHueLo: 40
- DefringePurpleAmount: 0
- DefringePurpleHueHi: 70
- DefringePurpleHueLo: 30
- Dehaze: +29
- Exposure2012: +1.00
- GrainAmount: 0
- GreenHue: 0
- GreenSaturation: 0
- HasCrop: True
- HasSettings: True
- Highlights2012: -68
- HueAdjustmentAqua: 0
- HueAdjustmentBlue: 0
- HueAdjustmentGreen: 0
- HueAdjustmentMagenta: 0
- HueAdjustmentOrange: 0
- HueAdjustmentPurple: 0
- HueAdjustmentRed: 0
- HueAdjustmentYellow: 0
- LensManualDistortionAmount: 0
- LensProfileEnable: 0
- LensProfileSetup: LensDefaults
- LookAmount: 1.000000
- LookGroup: Profiles
- LookParametersConvertToGrayscale: False
- LookParametersLookTable: E1095149FDB39D7A057BAB208837E2E1
- LookParametersProcessVersion: 11.0
- LookParametersToneCurvePV2012: 0, 0, 22, 16, 40, 35, 127, 127, 224, 230, 240, 246, 255, 255
- LookParametersToneCurvePV2012Blue: 0, 0, 255, 255
- LookParametersToneCurvePV2012Green: 0, 0, 255, 255
- LookParametersToneCurvePV2012Red: 0, 0, 255, 255
- LookParametersVersion: 12.2
- LookSupportsAmount: false
- LookSupportsMonochrome: false
- LookSupportsOutputReferred: false
- LuminanceAdjustmentAqua: 0
- LuminanceAdjustmentBlue: 0
- LuminanceAdjustmentGreen: 0
- LuminanceAdjustmentMagenta: 0
- LuminanceAdjustmentOrange: 0
- LuminanceAdjustmentPurple: 0
- LuminanceAdjustmentRed: 0
- LuminanceAdjustmentYellow: 0
- LuminanceSmoothing: 0
- OverrideLookVignette: False
- ParametricDarks: 0
- ParametricHighlightSplit: 75
- ParametricHighlights: 0
- ParametricLights: 0
- ParametricMidtoneSplit: 50
- ParametricShadowSplit: 25
- ParametricShadows: 0
- PerspectiveAspect: 0
- PerspectiveHorizontal: 0
- PerspectiveRotate: 0.0
- PerspectiveScale: 100
- PerspectiveUpright: 0
- PerspectiveVertical: 0
- PerspectiveX: 0.00
- PerspectiveY: 0.00
- PostCropVignetteAmount: 0
- ProcessVersion: 11.0
- RawFileName: PICT3053-HDR.dng
- RedHue: 0
- RedSaturation: 0
- Saturation: -1
- SaturationAdjustmentAqua: 0
- SaturationAdjustmentBlue: 0
- SaturationAdjustmentGreen: 0
- SaturationAdjustmentMagenta: 0
- SaturationAdjustmentOrange: 0
- SaturationAdjustmentPurple: 0
- SaturationAdjustmentRed: 0
- SaturationAdjustmentYellow: 0
- ShadowTint: 0
- Shadows2012: +46
- SharpenDetail: 25
- SharpenEdgeMasking: 0
- SharpenRadius: +1.0
- Sharpness: 40
- SplitToningBalance: 0
- SplitToningHighlightHue: 0
- SplitToningHighlightSaturation: 0
- SplitToningShadowHue: 0
- SplitToningShadowSaturation: 0
- Texture: +30
- Tint: +5
- ToneCurve: 0, 0, 255, 255
- ToneCurveBlue: 0, 0, 255, 255
- ToneCurveGreen: 0, 0, 255, 255
- ToneCurveName: Linear
- ToneCurveName2012: Strong Contrast
- ToneCurvePV2012: 0, 0, 32, 16, 64, 50, 128, 128, 192, 202, 255, 255
- ToneCurvePV2012Blue: 0, 0, 255, 255
- ToneCurvePV2012Green: 0, 0, 255, 255
- ToneCurvePV2012Red: 0, 0, 255, 255
- ToneCurveRed: 0, 0, 255, 255
- ToneMapStrength: 0
- Version: 12.2
- Vibrance: +14
- VignetteAmount: 0
- WhiteBalance: As Shot
- Whites2012: 0
- XMP-dc
- Description: Minolta DSC
- Format: image/jpeg
- XMP-xmp
- CreateDate: 2006:10:01 14:09:57.1
- ModifyDate: 2020:03:15 20:49:58+03:00
- XMP-xmpMM
- Просмотров: 308
- Рейтинг: голосов еще нет
- Отзывов: 0