Мечта Мичурина |
![](img/title-line.gif) |
![](img/title-shadow.gif) | |
Мечта Мичурина
Виноград залез на елку :)
- Раздел: Другое, разное
- Дата съёмки: 07.10.2007 10:09
- Дата загрузки фото: 07.10.2007 16:40
- Оригинальная фотография: 1200 x 894 (264 Кб)
- Технические характеристики:
- Фотоаппарат: FujiFilm FinePix S6500fd
- Выдержка: 1/160
- Гиперфокальное расстояние: 323,54 m
- Диафрагма: 4,9
- Светочувствительность:
- Фокусное расстояние: 66,7mm (35mm эквивалент: 714,1mm)
- Полный EXIF
- Composite
- Aperture: 4,9
- CircleOfConfusion: 0,003 mm
- FocalLength35efl: 66,7mm (35mm equivalent: 714,1mm)
- HyperfocalDistance: 323,54 m
- ScaleFactor35efl: 10,7
- ShutterSpeed: 1/160
- ExifIFD
- ApertureValue: 4,9
- BrightnessValue: 6,07
- CreateDate: 2007:10:07 10:09:55
- CustomRendered: Normal
- DateTimeOriginal: 2007:10:07 10:09:55
- ExifImageLength: 894
- ExifImageWidth: 1200
- ExposureCompensation: 0
- ExposureMode: Auto
- ExposureProgram: Aperture-priority AE
- ExposureTime: 1/160
- FNumber: 4,9
- Flash: Off
- FocalLength: 66,7mm
- ISO:
- LightSource: Unknown (0)
- MaxApertureValue: 2,8
- MeteringMode: Multi-segment
- SceneCaptureType: Standard
- SceneType: Directly photographed
- SensingMethod: One-chip color area
- Sharpness: Normal
- ShutterSpeedValue: 1/160
- WhiteBalance: Auto
- ICC-header
- IFD0
- Make: FUJIFILM
- Model: FinePix S6500fd
- ModifyDate: 2007:10:07 15:00:35
- Orientation: Horizontal (normal)
- Software: ACD Systems Digital Imaging
- IPTC
- XMP-crs
- AlreadyApplied: True
- BlueHue: 0
- BlueSaturation: 0
- Brightness: 0
- CameraProfile: Embedded
- ChromaticAberrationB: 0
- ChromaticAberrationR: 0
- Clarity: 32
- ColorNoiseReduction: 16
- Contrast: +5
- ConvertToGrayscale: False
- CropAngle: 0
- CropBottom: 0.971564
- CropHeight: 2001
- CropLeft: 0.030806
- CropRight: 0.973934
- CropTop: 0.034755
- CropUnit: 0
- CropWidth: 2686
- Defringe: 0
- Exposure: -0.24
- FillLight: 39
- GreenHue: 0
- GreenSaturation: 0
- HasCrop: True
- HasSettings: True
- HighlightRecovery: 0
- HueAdjustmentAqua: 0
- HueAdjustmentBlue: -4
- HueAdjustmentGreen: -4
- HueAdjustmentMagenta: 0
- HueAdjustmentOrange: 0
- HueAdjustmentPurple: 0
- HueAdjustmentRed: 0
- HueAdjustmentYellow: 0
- IncrementalTemperature: 0
- IncrementalTint: +1
- LuminanceAdjustmentAqua: 0
- LuminanceAdjustmentBlue: +27
- LuminanceAdjustmentGreen: -1
- LuminanceAdjustmentMagenta: 0
- LuminanceAdjustmentOrange: 0
- LuminanceAdjustmentPurple: 0
- LuminanceAdjustmentRed: 0
- LuminanceAdjustmentYellow: 0
- LuminanceSmoothing: 14
- ParametricDarks: +6
- ParametricHighlightSplit: 75
- ParametricHighlights: 0
- ParametricLights: +1
- ParametricMidtoneSplit: 50
- ParametricShadowSplit: 25
- ParametricShadows: -8
- RedHue: 0
- RedSaturation: 0
- Saturation: 0
- SaturationAdjustmentAqua: 0
- SaturationAdjustmentBlue: -6
- SaturationAdjustmentGreen: +4
- SaturationAdjustmentMagenta: 0
- SaturationAdjustmentOrange: 0
- SaturationAdjustmentPurple: 0
- SaturationAdjustmentRed: 0
- SaturationAdjustmentYellow: 0
- ShadowTint: 0
- Shadows: 0
- SharpenDetail: 25
- SharpenEdgeMasking: 0
- SharpenRadius: +0.9
- Sharpness: 5
- SplitToningBalance: 0
- SplitToningHighlightHue: 0
- SplitToningHighlightSaturation: 0
- SplitToningShadowHue: 0
- SplitToningShadowSaturation: 0
- ToneCurve: 0, 0, 255, 255
- ToneCurveName: Linear
- Version: 1.0
- Vibrance: 0
- VignetteAmount: 0
- WhiteBalance: Custom
- XMP-dc
- XMP-exif
- DateTimeDigitized: 2007:10:07 10:09:550Z
- DateTimeOriginal: 2007:10:07 10:09:550Z
- FlashFired: False
- FlashFunction: False
- FlashMode: Off
- FlashRedEyeMode: False
- FlashReturn: No return detection
- SubjectDistanceRange: Unknown
- XMP-tiff
- ImageHeight: 2001
- ImageWidth: 2686
- XMP-xmp
- ModifyDate: 2007:10:06 16:19:350Z
Получить код для блога
Вставка фотографии в текущем разрешении |
Вставка миниатюры |
HTML (для вставки в блог):
BBCode (для вставки в форум):
Ссылка на фото:
Ссылка на миниатюру:
- Послать ссылку другу
Комментарии к фотографии |