» Участники » Uzzik » Fuji S6500fd Первые шаги » Багажник тоже пригодился :) |
Багажник тоже пригодился :) |
Багажник тоже пригодился :)
- Раздел: Другое, разное
- Дата съёмки: 07.10.2007 12:40
- Дата загрузки фото: 07.10.2007 16:41
- Оригинальная фотография: 1200 x 900 (413 Кб)
- Технические характеристики:
- Фотоаппарат: FujiFilm FinePix S6500fd
- Выдержка: 1/75
- Гиперфокальное расстояние: 13,94 m
- Диафрагма: 5,0
- Светочувствительность:
- Фокусное расстояние: 14,0mm (35mm эквивалент: 149,5mm)
- Экспокоррекция: -0,67
- Полный EXIF
- Composite
- Aperture: 5,0
- CircleOfConfusion: 0,003 mm
- FocalLength35efl: 14,0mm (35mm equivalent: 149,5mm)
- HyperfocalDistance: 13,94 m
- ScaleFactor35efl: 10,7
- ShutterSpeed: 1/75
- ExifIFD
- ApertureValue: 5,0
- BrightnessValue: 4,4
- CreateDate: 2007:10:07 12:40:32
- CustomRendered: Normal
- DateTimeOriginal: 2007:10:07 12:40:32
- ExifImageLength: 900
- ExifImageWidth: 1200
- ExposureCompensation: -0,67
- ExposureMode: Auto
- ExposureProgram: Aperture-priority AE
- ExposureTime: 1/75
- FNumber: 5,0
- Flash: Off
- FocalLength: 14,0mm
- ISO:
- LightSource: Unknown (0)
- MaxApertureValue: 2,8
- MeteringMode: Multi-segment
- SceneCaptureType: Standard
- SceneType: Directly photographed
- SensingMethod: One-chip color area
- Sharpness: Normal
- ShutterSpeedValue: 1/75
- WhiteBalance: Auto
- ICC-header
- IFD0
- Make: FUJIFILM
- Model: FinePix S6500fd
- ModifyDate: 2007:10:07 15:10:14
- Orientation: Horizontal (normal)
- Software: ACD Systems Digital Imaging
- IPTC
- XMP-crs
- AlreadyApplied: True
- BlueHue: 0
- BlueSaturation: 0
- Brightness: +5
- CameraProfile: Embedded
- ChromaticAberrationB: 0
- ChromaticAberrationR: 0
- Clarity: 35
- ColorNoiseReduction: 15
- Contrast: -2
- ConvertToGrayscale: False
- CropAngle: 0
- CropBottom: 0.962085
- CropHeight: 2055
- CropLeft: 0
- CropRight: 0.947867
- CropTop: 0
- CropUnit: 0
- CropWidth: 2700
- Defringe: 0
- Exposure: +0.42
- FillLight: 55
- GreenHue: 0
- GreenSaturation: 0
- HasCrop: True
- HasSettings: True
- HighlightRecovery: 18
- HueAdjustmentAqua: 0
- HueAdjustmentBlue: 0
- HueAdjustmentGreen: 0
- HueAdjustmentMagenta: 0
- HueAdjustmentOrange: 0
- HueAdjustmentPurple: 0
- HueAdjustmentRed: 0
- HueAdjustmentYellow: 0
- IncrementalTemperature: 0
- IncrementalTint: 0
- LuminanceAdjustmentAqua: 0
- LuminanceAdjustmentBlue: 0
- LuminanceAdjustmentGreen: 0
- LuminanceAdjustmentMagenta: 0
- LuminanceAdjustmentOrange: 0
- LuminanceAdjustmentPurple: 0
- LuminanceAdjustmentRed: 0
- LuminanceAdjustmentYellow: 0
- LuminanceSmoothing: 35
- ParametricDarks: +4
- ParametricHighlightSplit: 75
- ParametricHighlights: -1
- ParametricLights: -1
- ParametricMidtoneSplit: 50
- ParametricShadowSplit: 25
- ParametricShadows: 0
- RedHue: 0
- RedSaturation: 0
- Saturation: +6
- SaturationAdjustmentAqua: 0
- SaturationAdjustmentBlue: 0
- SaturationAdjustmentGreen: 0
- SaturationAdjustmentMagenta: 0
- SaturationAdjustmentOrange: 0
- SaturationAdjustmentPurple: 0
- SaturationAdjustmentRed: 0
- SaturationAdjustmentYellow: 0
- ShadowTint: 0
- Shadows: 5
- SharpenDetail: 25
- SharpenEdgeMasking: 0
- SharpenRadius: +1.0
- Sharpness: 0
- SplitToningBalance: 0
- SplitToningHighlightHue: 0
- SplitToningHighlightSaturation: 0
- SplitToningShadowHue: 0
- SplitToningShadowSaturation: 0
- ToneCurve: 0, 0, 255, 255
- ToneCurveName: Linear
- Version: 1.0
- Vibrance: +4
- VignetteAmount: 0
- WhiteBalance: As Shot
- XMP-dc
- XMP-exif
- DateTimeDigitized: 2007:10:07 12:40:320Z
- DateTimeOriginal: 2007:10:07 12:40:320Z
- FlashFired: False
- FlashFunction: False
- FlashMode: Off
- FlashRedEyeMode: False
- FlashReturn: No return detection
- SubjectDistanceRange: Unknown
- XMP-tiff
- ImageHeight: 2055
- ImageWidth: 2700
- XMP-xmp
- ModifyDate: 2007:10:06 16:36:080Z
- Просмотров: 446
- Рейтинг: голосов еще нет
- Отзывов: 0
Получить код для блога
Вставка фотографии в текущем разрешении |
Вставка миниатюры |
HTML (для вставки в блог):
BBCode (для вставки в форум):
Ссылка на фото:
Ссылка на миниатюру:
- Послать ссылку другу
Комментарии к фотографии |