- Раздел: Животные
- Дата съёмки: неизвестно
- Дата загрузки фото: 26.06.2020 19:53
- Оригинальная фотография: 1200 x 800 (606 Кб)
- Технические характеристики:
- Фотоаппарат: Canon EOS 550D
- Выдержка: 0,0
- Светочувствительность: 100
- Полный EXIF
- Composite
- CircleOfConfusion: 0,019 mm
- Megapixels: 0,960
- ScaleFactor35efl: 1,6
- ShutterSpeed: 0,0
- ExifIFD
- ColorSpace: sRGB
- CreateDate: 2020:06:09 16:53:53
- CustomRendered: Normal
- DateTimeOriginal: 2020:06:09 16:53:53
- ExifImageHeight: 800
- ExifImageWidth: 1200
- ExposureCompensation: 0
- ExposureMode: Manual
- ExposureProgram: Manual
- ExposureTime: 0,0
- Flash: Off, Did not fire
- ISO: 100
- MeteringMode: Center-weighted average
- SceneCaptureType: Standard
- SerialNumber: 2133373093
- ShutterSpeedValue: 1/256
- WhiteBalance: Manual
- ICC-header
- ICC-meas
- ICC-view
- IFD0
- Make: Canon
- Model: Canon EOS 550D
- ModifyDate: 2020:06:12 09:31:37
- Orientation: Horizontal (normal)
- Software: ACDSee Pro 9
- IFD1
- IPTC
- DateCreated: 2020:06:09
- System
- XMP-aux
- Firmware: 1.0.9
- FlashCompensation: 0
- ImageNumber: 0
- XMP-crs
- AlreadyApplied: True
- AutoLateralCA: 0
- AutoWhiteVersion: 134348800
- Blacks2012: -17
- BlueHue: 0
- BlueSaturation: 0
- Clarity2012: 0
- ColorNoiseReduction: 25
- ColorNoiseReductionDetail: 50
- ColorNoiseReductionSmoothness: 50
- ColorTemperature: 5133
- Contrast2012: +25
- ConvertToGrayscale: False
- DefringeGreenAmount: 0
- DefringeGreenHueHi: 60
- DefringeGreenHueLo: 40
- DefringePurpleAmount: 0
- DefringePurpleHueHi: 70
- DefringePurpleHueLo: 30
- Dehaze: 0
- Exposure2012: +1.25
- GrainAmount: 0
- GreenHue: 0
- GreenSaturation: 0
- HasCrop: False
- HasSettings: True
- Highlights2012: 0
- HueAdjustmentAqua: 0
- HueAdjustmentBlue: 0
- HueAdjustmentGreen: 0
- HueAdjustmentMagenta: 0
- HueAdjustmentOrange: 0
- HueAdjustmentPurple: 0
- HueAdjustmentRed: 0
- HueAdjustmentYellow: 0
- LensManualDistortionAmount: 0
- LensProfileEnable: 0
- LensProfileSetup: LensDefaults
- LuminanceAdjustmentAqua: 0
- LuminanceAdjustmentBlue: 0
- LuminanceAdjustmentGreen: 0
- LuminanceAdjustmentMagenta: 0
- LuminanceAdjustmentOrange: 0
- LuminanceAdjustmentPurple: 0
- LuminanceAdjustmentRed: 0
- LuminanceAdjustmentYellow: 0
- LuminanceSmoothing: 0
- ParametricDarks: 0
- ParametricHighlightSplit: 75
- ParametricHighlights: 0
- ParametricLights: 0
- ParametricMidtoneSplit: 50
- ParametricShadowSplit: 25
- ParametricShadows: 0
- PerspectiveAspect: 0
- PerspectiveHorizontal: 0
- PerspectiveRotate: 0.0
- PerspectiveScale: 100
- PerspectiveUpright: 0
- PerspectiveVertical: 0
- PostCropVignetteAmount: 0
- ProcessVersion: 6.7
- RedHue: 0
- RedSaturation: 0
- Saturation: 0
- SaturationAdjustmentAqua: 0
- SaturationAdjustmentBlue: 0
- SaturationAdjustmentGreen: 0
- SaturationAdjustmentMagenta: 0
- SaturationAdjustmentOrange: 0
- SaturationAdjustmentPurple: 0
- SaturationAdjustmentRed: 0
- SaturationAdjustmentYellow: 0
- ShadowTint: 0
- Shadows2012: +47
- SharpenDetail: 25
- SharpenEdgeMasking: 0
- SharpenRadius: +1.0
- Sharpness: 25
- SplitToningBalance: 0
- SplitToningHighlightHue: 0
- SplitToningHighlightSaturation: 0
- SplitToningShadowHue: 0
- SplitToningShadowSaturation: 0
- Tint: +3
- ToneCurve: 0, 0, 255, 255
- ToneCurveBlue: 0, 0, 255, 255
- ToneCurveGreen: 0, 0, 255, 255
- ToneCurveName: Linear
- ToneCurveName2012: Linear
- ToneCurvePV2012: 0, 0, 255, 255
- ToneCurvePV2012Blue: 0, 0, 255, 255
- ToneCurvePV2012Green: 0, 0, 255, 255
- ToneCurvePV2012Red: 0, 0, 255, 255
- ToneCurveRed: 0, 0, 255, 255
- ToneMapStrength: 0
- Version: 9.3
- Vibrance: 0
- VignetteAmount: 0
- WhiteBalance: Custom
- Whites2012: +20
- XMP-dc
- XMP-x
- XMP-xmp
- CreateDate: 2020:06:09 16:53:53.57
- ModifyDate: 2020:06:10 16:07:19+05:00
- XMP-xmpMM
- Просмотров: 42
- Рейтинг: голосов еще нет
- Отзывов: отключены