- Раздел: Тесты фототехники
- Дата съёмки: неизвестно
- Дата загрузки фото: 05.07.2020 23:44
- Оригинальная фотография: 2731 x 1821 (2,8 Мб)
- Технические характеристики:
- Фотоаппарат: Panasonic DC-S1
- Выдержка: 0,0
- Гиперфокальное расстояние: inf m
- Диафрагма: 3,2
- Светочувствительность: 1600
- Фокусное расстояние: 200,0 mm (35 mm equivalent: 200,0 mm)
- Экспокоррекция: -1
- Полный EXIF
- Adobe
- ColorTransform: YCbCr
- Composite
- Aperture: 3,2
- CircleOfConfusion: 0,030 mm
- FOV: 10,0 deg
- FocalLength35efl: 200,0 mm (35 mm equivalent: 200,0 mm)
- HyperfocalDistance: inf m
- Megapixels: 5,0
- ScaleFactor35efl: 1,0
- ShutterSpeed: 0,0
- ExifIFD
- ApertureValue: 2,8
- ColorSpace: sRGB
- Contrast: Normal
- CreateDate: 2020:07:05 20:02:59
- CustomRendered: Normal
- DateTimeOriginal: 2020:07:05 20:02:59
- DigitalZoomRatio: 0
- ExifImageHeight: 1821
- ExifImageWidth: 2731
- ExposureCompensation: -1
- ExposureMode: Auto
- ExposureProgram: Aperture-priority AE
- ExposureTime: 0,0
- FNumber: 3,2
- Flash: Off, Did not fire
- FocalLength: 200,0 mm
- FocalLengthIn35mmFormat: 200 mm
- GainControl: High gain up
- ISO: 1600
- LensModel: LUMIX S 70-200/F2.8
- LensSerialNumber: N/A
- LightSource: Unknown
- MaxApertureValue: 2,8
- MeteringMode: Multi-segment
- Saturation: Normal
- SceneCaptureType: Standard
- SceneType: Directly photographed
- SensingMethod: One-chip color area
- SerialNumber: WJ9DC003801
- Sharpness: Normal
- ShutterSpeedValue: 1/128
- WhiteBalance: Auto
- ICC-header
- ICC-meas
- ICC-view
- IFD0
- Artist: Andrew Nik
- BitsPerSample: 8 8 8
- ImageHeight: 4000
- ImageWidth: 6000
- Make: Panasonic
- Model: DC-S1
- ModifyDate: 2020:07:05 23:42:13
- Orientation: Horizontal (normal)
- PhotometricInterpretation: RGB
- SamplesPerPixel: 3
- IFD1
- IPTC
- By-line: Andrew Nik
- DateCreated: 2020:07:05
- System
- XMP-aux
- DistortionCorrectionAlreadyApplied: True
- LateralChromaticAberrationCorrectionAlreadyApplied: True
- Lens: LUMIX S 70-200/F2.8
- XMP-crs
- AlreadyApplied: True
- AutoLateralCA: 1
- Blacks2012: 0
- BlueHue: 0
- BlueSaturation: 0
- CameraProfile: Camera Standard
- Clarity2012: 0
- ColorNoiseReduction: 25
- ColorNoiseReductionDetail: 50
- ColorNoiseReductionSmoothness: 50
- ColorTemperature: 5200
- Contrast2012: 0
- ConvertToGrayscale: False
- DefringeGreenAmount: 0
- DefringeGreenHueHi: 60
- DefringeGreenHueLo: 40
- DefringePurpleAmount: 0
- DefringePurpleHueHi: 70
- DefringePurpleHueLo: 30
- Dehaze: +8
- Exposure2012: 0.00
- GradientBasedCorrActive: true
- GradientBasedCorrAmount: 1.000000
- GradientBasedCorrBrightness: 0.000000
- GradientBasedCorrClarity: 0.000000
- GradientBasedCorrClarity2012: 0.000000
- GradientBasedCorrContrast: 0.000000
- GradientBasedCorrContrast2012: 0.000000
- GradientBasedCorrCorrectionRangeMaskColorAmount: 0.500000
- GradientBasedCorrCorrectionRangeMaskDepthFeather: 0.500000
- GradientBasedCorrCorrectionRangeMaskDepthMax: 1.000000
- GradientBasedCorrCorrectionRangeMaskDepthMin: 0.000000
- GradientBasedCorrCorrectionRangeMaskLumFeather: 0.500000
- GradientBasedCorrCorrectionRangeMaskLumMax: 1.000000
- GradientBasedCorrCorrectionRangeMaskLumMin: 0.000000
- GradientBasedCorrCorrectionRangeMaskType: 0
- GradientBasedCorrCorrectionRangeMaskVersion: +2
- GradientBasedCorrDefringe: 0.000000
- GradientBasedCorrExposure: 0.000000
- GradientBasedCorrExposure2012: -0.087500
- GradientBasedCorrHighlights2012: -0.480000
- GradientBasedCorrHue: 0.000000
- GradientBasedCorrLocalBlacks2012: 0.000000
- GradientBasedCorrLocalDehaze: 0.000000
- GradientBasedCorrLocalTexture: 0.000000
- GradientBasedCorrLocalWhites2012: 0.000000
- GradientBasedCorrLuminanceNoise: 0.000000
- GradientBasedCorrMaskFullX: 0.314000
- GradientBasedCorrMaskFullY: 0.553000
- GradientBasedCorrMaskValue: 1.000000
- GradientBasedCorrMaskWhat: Mask/Gradient
- GradientBasedCorrMaskZeroX: 0.417333
- GradientBasedCorrMaskZeroY: 0.479000
- GradientBasedCorrMoire: 0.000000
- GradientBasedCorrSaturation: 0.000000
- GradientBasedCorrShadows2012: 0.000000
- GradientBasedCorrSharpness: 0.000000
- GradientBasedCorrTemperature: 0.000000
- GradientBasedCorrTint: 0.000000
- GradientBasedCorrWhat: Correction
- GrainAmount: 0
- GreenHue: 0
- GreenSaturation: 0
- HasCrop: False
- HasSettings: True
- Highlights2012: -36
- HueAdjustmentAqua: 0
- HueAdjustmentBlue: 0
- HueAdjustmentGreen: 0
- HueAdjustmentMagenta: 0
- HueAdjustmentOrange: 0
- HueAdjustmentPurple: 0
- HueAdjustmentRed: 0
- HueAdjustmentYellow: 0
- LensManualDistortionAmount: 0
- LensProfileEnable: 1
- LensProfileSetup: LensDefaults
- LuminanceAdjustmentAqua: 0
- LuminanceAdjustmentBlue: 0
- LuminanceAdjustmentGreen: 0
- LuminanceAdjustmentMagenta: 0
- LuminanceAdjustmentOrange: 0
- LuminanceAdjustmentPurple: 0
- LuminanceAdjustmentRed: 0
- LuminanceAdjustmentYellow: 0
- LuminanceSmoothing: 0
- OverrideLookVignette: False
- PaintCorrectionActive: true
- PaintCorrectionAmount: 1.000000
- PaintCorrectionBrightness: 0.000000
- PaintCorrectionClarity: 0.000000
- PaintCorrectionClarity2012: 0.000000
- PaintCorrectionContrast: 0.000000
- PaintCorrectionContrast2012: 0.000000
- PaintCorrectionCorrectionRangeMaskColorAmount: 0.500000
- PaintCorrectionCorrectionRangeMaskDepthFeather: 0.500000
- PaintCorrectionCorrectionRangeMaskDepthMax: 1.000000
- PaintCorrectionCorrectionRangeMaskDepthMin: 0.000000
- PaintCorrectionCorrectionRangeMaskLumFeather: 0.500000
- PaintCorrectionCorrectionRangeMaskLumMax: 1.000000
- PaintCorrectionCorrectionRangeMaskLumMin: 0.000000
- PaintCorrectionCorrectionRangeMaskType: 0
- PaintCorrectionCorrectionRangeMaskVersion: +2
- PaintCorrectionDefringe: 0.000000
- PaintCorrectionExposure: 0.000000
- PaintCorrectionExposure2012: -0.100000
- PaintCorrectionHighlights2012: -0.480000
- PaintCorrectionHue: 0.000000
- PaintCorrectionLocalBlacks2012: 0.000000
- PaintCorrectionLocalDehaze: 0.000000
- PaintCorrectionLocalTexture: 0.000000
- PaintCorrectionLocalWhites2012: 0.440000
- PaintCorrectionLuminanceNoise: 0.000000
- PaintCorrectionMaskCenterWeight: 0.000000
- PaintCorrectionMaskFlow: 0.892779
- PaintCorrectionMaskRadius: 0.233283
- PaintCorrectionMaskValue: 1.000000
- PaintCorrectionMaskWhat: Mask/Paint
- PaintCorrectionMoire: 0.000000
- PaintCorrectionSaturation: 0.000000
- PaintCorrectionShadows2012: 0.000000
- PaintCorrectionSharpness: 0.000000
- PaintCorrectionTemperature: 0.000000
- PaintCorrectionTint: 0.000000
- PaintCorrectionWhat: Correction
- ParametricDarks: 0
- ParametricHighlightSplit: 75
- ParametricHighlights: 0
- ParametricLights: 0
- ParametricMidtoneSplit: 50
- ParametricShadowSplit: 25
- ParametricShadows: 0
- PerspectiveAspect: 0
- PerspectiveHorizontal: 0
- PerspectiveRotate: 0.0
- PerspectiveScale: 100
- PerspectiveUpright: 0
- PerspectiveVertical: 0
- PerspectiveX: 0.00
- PerspectiveY: 0.00
- PostCropVignetteAmount: 0
- ProcessVersion: 11.0
- RedHue: 0
- RedSaturation: 0
- Saturation: 0
- SaturationAdjustmentAqua: 0
- SaturationAdjustmentBlue: 0
- SaturationAdjustmentGreen: 0
- SaturationAdjustmentMagenta: 0
- SaturationAdjustmentOrange: 0
- SaturationAdjustmentPurple: 0
- SaturationAdjustmentRed: 0
- SaturationAdjustmentYellow: 0
- ShadowTint: -1
- Shadows2012: 0
- SharpenDetail: 25
- SharpenEdgeMasking: 0
- SharpenRadius: +1.0
- Sharpness: 25
- SplitToningBalance: 0
- SplitToningHighlightHue: 0
- SplitToningHighlightSaturation: 0
- SplitToningShadowHue: 0
- SplitToningShadowSaturation: 0
- Texture: 0
- Tint: +30
- ToneCurve: 0, 0, 32, 22, 64, 56, 128, 128, 192, 196, 255, 255
- ToneCurveBlue: 0, 0, 255, 255
- ToneCurveGreen: 0, 0, 255, 255
- ToneCurveName: Medium Contrast
- ToneCurveName2012: Custom
- ToneCurvePV2012: 0, 0, 120, 132, 255, 255
- ToneCurvePV2012Blue: 0, 0, 255, 255
- ToneCurvePV2012Green: 0, 0, 255, 255
- ToneCurvePV2012Red: 0, 0, 255, 255
- ToneCurveRed: 0, 0, 255, 255
- ToneMapStrength: 0
- Version: 12.2.1
- Vibrance: 0
- VignetteAmount: 0
- WhiteBalance: As Shot
- Whites2012: +42
- XMP-dc
- Creator: Andrew Nik
- Format: image/jpeg
- XMP-exifEX
- XMP-xmp
- ModifyDate: 2020:07:05 23:42:13+03:00
- Rating: 0
- XMP-xmpMM
- Просмотров: 138
- Рейтинг: голосов еще нет
- Отзывов: отключены