- Раздел: Компьютеры, железо
- Дата съёмки: неизвестно
- Дата загрузки фото: 20.07.2020 03:14
- Оригинальная фотография: 4800 x 3200 (2,8 Мб)
- Технические характеристики:
- Фотоаппарат: Nikon D800
- Выдержка: 0,0
- Гиперфокальное расстояние: inf m
- Диафрагма: 10,0
- Светочувствительность: 64
- Фокусное расстояние: 17,0 mm (35 mm equivalent: 17,0 mm)
- Экспокоррекция: -1
- Полный EXIF
- Adobe
- ColorTransform: YCbCr
- Composite
- Aperture: 10,0
- CircleOfConfusion: 0,020 mm
- FOV: 93,0 deg
- FocalLength35efl: 17,0 mm (35 mm equivalent: 17,0 mm)
- HyperfocalDistance: inf m
- LensID: AF-S Nikkor 17-35mm f/2.8D IF-ED
- Megapixels: 15,4
- ScaleFactor35efl: 1,5
- ShutterSpeed: 0,0
- ExifIFD
- ApertureValue: 8,0
- CFAPattern: [Red,Green][Green,Blue]
- ColorSpace: Uncalibrated
- Contrast: Normal
- CreateDate: 2020:07:20 06:41:37
- CustomRendered: Normal
- DateTimeOriginal: 2020:07:20 06:41:37
- DigitalZoomRatio: 1,53
- ExposureCompensation: -1
- ExposureMode: Manual
- ExposureProgram: Manual
- ExposureTime: 0,0
- FNumber: 10,0
- Flash: Off, Did not fire
- FocalLength: 17,0 mm
- FocalLengthIn35mmFormat: 25 mm
- GainControl: None
- ISO: 64
- LensInfo: 17-35mm f/2.8
- LensModel: 17.0-35.0 mm f/2.8
- LightSource: Unknown
- MaxApertureValue: 2,8
- MeteringMode: Center-weighted average
- Saturation: High
- SceneCaptureType: Standard
- SceneType: Directly photographed
- SensingMethod: One-chip color area
- SensitivityType: Recommended Exposure Index
- SerialNumber: 8002139
- Sharpness: Hard
- ShutterSpeedValue: 0,5
- SubjectDistanceRange: Unknown
- UserComment: illya@xdevs.com (C) TSEMENKO ILYA
- WhiteBalance: Auto
- ICC-header
- IFD0
- Artist: Tsemenko Illya xDevs.com
- Copyright: (C)TIN
- Make: NIKON CORPORATION
- Model: NIKON D800
- ModifyDate: 2020:07:19 19:32:40
- IFD1
- IPTC
- By-line: Tsemenko Illya xDevs.com
- CopyrightNotice: (C)TIN
- DateCreated: 2020:07:20
- System
- XMP-aux
- ApproximateFocusDistance: 1
- ImageNumber: 102378
- Lens: 17.0-35.0 mm f/2.8
- LensID: 99
- XMP-crs
- AlreadyApplied: True
- AutoLateralCA: 0
- Blacks2012: -21
- BlueHue: 0
- BlueSaturation: 0
- Clarity2012: 0
- ColorNoiseReduction: 25
- ColorNoiseReductionDetail: 50
- ColorNoiseReductionSmoothness: 50
- ColorTemperature: 5400
- Contrast2012: +30
- ConvertToGrayscale: False
- DefringeGreenAmount: 0
- DefringeGreenHueHi: 60
- DefringeGreenHueLo: 40
- DefringePurpleAmount: 0
- DefringePurpleHueHi: 70
- DefringePurpleHueLo: 30
- Dehaze: 0
- Exposure2012: +0.23
- GrainAmount: 0
- GreenHue: 0
- GreenSaturation: 0
- HasCrop: False
- HasSettings: True
- Highlights2012: -66
- HueAdjustmentAqua: 0
- HueAdjustmentBlue: 0
- HueAdjustmentGreen: 0
- HueAdjustmentMagenta: 0
- HueAdjustmentOrange: 0
- HueAdjustmentPurple: 0
- HueAdjustmentRed: 0
- HueAdjustmentYellow: 0
- LensManualDistortionAmount: 0
- LensProfileEnable: 0
- LensProfileSetup: LensDefaults
- LuminanceAdjustmentAqua: 0
- LuminanceAdjustmentBlue: 0
- LuminanceAdjustmentGreen: 0
- LuminanceAdjustmentMagenta: 0
- LuminanceAdjustmentOrange: 0
- LuminanceAdjustmentPurple: 0
- LuminanceAdjustmentRed: 0
- LuminanceAdjustmentYellow: 0
- LuminanceSmoothing: 0
- ParametricDarks: 0
- ParametricHighlightSplit: 75
- ParametricHighlights: 0
- ParametricLights: 0
- ParametricMidtoneSplit: 50
- ParametricShadowSplit: 25
- ParametricShadows: 0
- PerspectiveAspect: 0
- PerspectiveHorizontal: 0
- PerspectiveRotate: 0.0
- PerspectiveScale: 100
- PerspectiveUpright: 0
- PerspectiveVertical: 0
- PerspectiveX: 0.00
- PerspectiveY: 0.00
- PostCropVignetteAmount: 0
- ProcessVersion: 10.0
- RedHue: 0
- RedSaturation: 0
- Saturation: +5
- SaturationAdjustmentAqua: 0
- SaturationAdjustmentBlue: 0
- SaturationAdjustmentGreen: 0
- SaturationAdjustmentMagenta: 0
- SaturationAdjustmentOrange: 0
- SaturationAdjustmentPurple: 0
- SaturationAdjustmentRed: 0
- SaturationAdjustmentYellow: 0
- ShadowTint: 0
- Shadows2012: +57
- SharpenDetail: 25
- SharpenEdgeMasking: 0
- SharpenRadius: +1.0
- Sharpness: 25
- SplitToningBalance: 0
- SplitToningHighlightHue: 0
- SplitToningHighlightSaturation: 0
- SplitToningShadowHue: 0
- SplitToningShadowSaturation: 0
- Tint: +28
- ToneCurve: 0, 0, 255, 255
- ToneCurveBlue: 0, 0, 255, 255
- ToneCurveGreen: 0, 0, 255, 255
- ToneCurveName: Linear
- ToneCurveName2012: Linear
- ToneCurvePV2012: 0, 0, 255, 255
- ToneCurvePV2012Blue: 0, 0, 255, 255
- ToneCurvePV2012Green: 0, 0, 255, 255
- ToneCurvePV2012Red: 0, 0, 255, 255
- ToneCurveRed: 0, 0, 255, 255
- Version: 10.2
- Vibrance: +18
- VignetteAmount: 0
- WhiteBalance: Custom
- Whites2012: +46
- XMP-dc
- Creator: Tsemenko Illya xDevs.com
- Format: image/jpeg
- Rights: (C)TIN
- XMP-xmp
- CreateDate: 2020:07:20 06:41:37.50
- ModifyDate: 2020:07:19 19:32:40-04:00
- Rating: 1
- XMP-xmpMM
- Просмотров: 222
- Рейтинг: голосов еще нет
- Отзывов: 0