- Раздел: Цветы
- Дата съёмки: 26.08.2007 11:58
- Дата загрузки фото: 10.10.2007 21:50
- Оригинальная фотография: 2613 x 4011 (2,2 Мб)
- Технические характеристики:
- Фотоаппарат: Nikon D1X
- Выдержка: 1/1250
- Гиперфокальное расстояние: 17,31 m
- Диафрагма: 3,5
- Светочувствительность: 125
- Фокусное расстояние: 35,0mm (35mm эквивалент: 52,0mm)
- Полный EXIF
- ColorTransform: YCbCr
- Composite
- Aperture: 3,5
- CircleOfConfusion: 0,020 mm
- EV: 13,6
- FocalLength35efl: 35,0mm (35mm equivalent: 52,0mm)
- HyperfocalDistance: 17,31 m
- ScaleFactor35efl: 1,5
- ShutterSpeed: 1/1250
- ExifIFD
- ApertureValue: 3,5
- CFAPattern: [Blue,Green][Green,Red]
- Contrast: Low
- CreateDate: 2007:08:26 11:58:00
- CustomRendered: Normal
- DateTimeOriginal: 2007:08:26 11:58:00
- DigitalZoomRatio: 1
- ExposureCompensation: 0
- ExposureMode: Auto
- ExposureProgram: Aperture-priority AE
- ExposureTime: 1/1250
- FNumber: 3,5
- Flash: No Flash
- FocalLength: 35,0mm
- FocalLengthIn35mmFormat: 52
- GainControl: None
- ISO: 125
- LightSource: Unknown (0)
- MaxApertureValue: 2,0
- MeteringMode: Multi-segment
- Saturation: Normal
- SceneCaptureType: Standard
- SceneType: Directly photographed
- SensingMethod: One-chip color area
- Sharpness: Normal
- ShutterSpeedValue: 1/1250
- WhiteBalance: Auto
- ICC-header
- ICC-meas
- ICC-view
- IFD0
- Copyright: Copyright,
- Make: NIKON CORPORATION
- Model: NIKON D1X
- ModifyDate: 2007:10:10 21:43:58
- Software: Ver.5.01
- IPTC
- CopyrightNotice: Copyright,
- XMP-aux
- Lens: 35.0 mm f/2.0
- LensInfo: 35
- XMP-crs
- AlreadyApplied: True
- BlueHue: 0
- BlueSaturation: 0
- Brightness: +60
- CameraProfile: ACR 3.0
- ChromaticAberrationB: 0
- ChromaticAberrationR: 0
- Clarity: 9
- ColorNoiseReduction: 2
- Contrast: +25
- ConvertToGrayscale: False
- Defringe: 0
- Exposure: 0.00
- FillLight: 0
- GreenHue: 0
- GreenSaturation: 0
- HasCrop: False
- HasSettings: True
- HighlightRecovery: 29
- HueAdjustmentAqua: 0
- HueAdjustmentBlue: 0
- HueAdjustmentGreen: 0
- HueAdjustmentMagenta: 0
- HueAdjustmentOrange: 0
- HueAdjustmentPurple: 0
- HueAdjustmentRed: 0
- HueAdjustmentYellow: 0
- LuminanceAdjustmentAqua: 0
- LuminanceAdjustmentBlue: 0
- LuminanceAdjustmentGreen: 0
- LuminanceAdjustmentMagenta: 0
- LuminanceAdjustmentOrange: 0
- LuminanceAdjustmentPurple: 0
- LuminanceAdjustmentRed: 0
- LuminanceAdjustmentYellow: 0
- LuminanceSmoothing: 0
- ParametricDarks: 0
- ParametricHighlightSplit: 75
- ParametricHighlights: 0
- ParametricLights: 0
- ParametricMidtoneSplit: 50
- ParametricShadowSplit: 25
- ParametricShadows: 0
- RedHue: 0
- RedSaturation: 0
- Saturation: 0
- SaturationAdjustmentAqua: 0
- SaturationAdjustmentBlue: 0
- SaturationAdjustmentGreen: 0
- SaturationAdjustmentMagenta: 0
- SaturationAdjustmentOrange: 0
- SaturationAdjustmentPurple: 0
- SaturationAdjustmentRed: 0
- SaturationAdjustmentYellow: 0
- ShadowTint: 0
- Shadows: 5
- SharpenDetail: 32
- SharpenEdgeMasking: 7
- SharpenRadius: +0.5
- Sharpness: 62
- SplitToningBalance: 0
- SplitToningHighlightHue: 0
- SplitToningHighlightSaturation: 0
- SplitToningShadowHue: 0
- SplitToningShadowSaturation: 0
- Temperature: 5200
- Tint: -3
- ToneCurve: 0, 0, 32, 22, 64, 56, 128, 128, 192, 196, 255, 255
- ToneCurveName: Medium Contrast
- Version: 1.0
- Vibrance: 0
- VignetteAmount: 0
- WhiteBalance: As Shot
- XMP-dc
- XMP-exif
- DateTimeDigitized: 2007:08:26 11:58:00.21+04:00
- DateTimeOriginal: 2007:08:26 11:58:00.21+04:00
- FlashFired: False
- FlashFunction: False
- FlashMode: Unknown
- FlashRedEyeMode: False
- FlashReturn: No return detection
- SubjectDistanceRange: Unknown
- XMP-tiff
- ImageHeight: 4011
- ImageWidth: 2613
- XMP-xmp
- ModifyDate: 2007:10:10 21:43:58+04:00
- Просмотров: 357
- Рейтинг: голосов еще нет
- Отзывов: 0