- Раздел: Портрет
- Дата съёмки: неизвестно
- Дата загрузки фото: 21.09.2020 22:52
- Оригинальная фотография: 473 x 843 (267 Кб)
- Технические характеристики:
- Фотоаппарат: Olympus STYLUS1
- Выдержка: 0,0
- Гиперфокальное расстояние: inf m
- Диафрагма: 2,8
- Светочувствительность: 100
- Фокусное расстояние: 300,0 mm (35 mm equivalent: 300,0 mm)
- Полный EXIF
- Adobe
- ColorTransform: YCbCr
- Composite
- Aperture: 2,8
- CircleOfConfusion: 0,030 mm
- FOV: 6,0 deg
- FocalLength35efl: 300,0 mm (35 mm equivalent: 300,0 mm)
- HyperfocalDistance: inf m
- Megapixels: 0,399
- ScaleFactor35efl: 1,0
- ShutterSpeed: 0,0
- ExifIFD
- ApertureValue: 2,0
- ColorSpace: sRGB
- CreateDate: 2020:06:12 04:58:27
- DateTimeOriginal: 2020:06:12 04:58:27
- ExifImageHeight: 843
- ExifImageWidth: 473
- ExposureCompensation: 0
- ExposureProgram: Aperture-priority AE
- ExposureTime: 0,0
- FNumber: 2,8
- Flash: Auto, Did not fire
- FocalLength: 300,0 mm
- FocalLengthIn35mmFormat: 300 mm
- ISO: 100
- MeteringMode: Multi-segment
- SerialNumber: V5CF01840
- ShutterSpeedValue: 1/512
- WhiteBalance: Manual
- ICC-header
- ICC-meas
- ICC-view
- IFD0
- ImageDescription: OLYMPUS DIGITAL CAMERA
- Make: OLYMPUS CORP.
- Model: STYLUS1
- ModifyDate: 2020:06:12 04:58:27
- Orientation: Horizontal (normal)
- Software:
- IFD1
- IPTC
- Caption-Abstract: OLYMPUS DIGITAL CAMERA
- DateCreated: 2019:07:21
- Keywords: women
- System
- XMP-aux
- XMP-crs
- AlreadyApplied: True
- AutoLateralCA: 0
- Blacks2012: -14
- BlueHue: -25
- BlueSaturation: +100
- CameraProfile: Embedded
- Clarity2012: 0
- ColorNoiseReduction: 0
- Contrast2012: +7
- ConvertToGrayscale: False
- CropAngle: 0
- CropBottom: 1
- CropConstrainToWarp: 1
- CropLeft: 0.137031
- CropRight: 0.924883
- CropTop: 0.045249
- DefringeGreenAmount: 0
- DefringeGreenHueHi: 60
- DefringeGreenHueLo: 40
- DefringePurpleAmount: 0
- DefringePurpleHueHi: 70
- DefringePurpleHueLo: 30
- Dehaze: 0
- Exposure2012: +0.52
- GrainAmount: 0
- GreenHue: +88
- GreenSaturation: 0
- HasCrop: True
- HasSettings: True
- Highlights2012: -63
- HueAdjustmentAqua: 0
- HueAdjustmentBlue: 0
- HueAdjustmentGreen: 0
- HueAdjustmentMagenta: 0
- HueAdjustmentOrange: 0
- HueAdjustmentPurple: 0
- HueAdjustmentRed: 0
- HueAdjustmentYellow: 0
- IncrementalTemperature: 0
- IncrementalTint: 0
- LensManualDistortionAmount: 0
- LensProfileEnable: 0
- LensProfileSetup: LensDefaults
- LuminanceAdjustmentAqua: 0
- LuminanceAdjustmentBlue: +100
- LuminanceAdjustmentGreen: +1
- LuminanceAdjustmentMagenta: +100
- LuminanceAdjustmentOrange: +4
- LuminanceAdjustmentPurple: +100
- LuminanceAdjustmentRed: 0
- LuminanceAdjustmentYellow: +18
- LuminanceSmoothing: 0
- OverrideLookVignette: False
- ParametricDarks: 0
- ParametricHighlightSplit: 75
- ParametricHighlights: 0
- ParametricLights: 0
- ParametricMidtoneSplit: 50
- ParametricShadowSplit: 25
- ParametricShadows: 0
- PerspectiveAspect: 0
- PerspectiveHorizontal: 0
- PerspectiveRotate: 0.0
- PerspectiveScale: 100
- PerspectiveUpright: 0
- PerspectiveVertical: 0
- PerspectiveX: 0.00
- PerspectiveY: 0.00
- PostCropVignetteAmount: 0
- ProcessVersion: 11.0
- RedHue: +86
- RedSaturation: -43
- Saturation: +2
- SaturationAdjustmentAqua: 0
- SaturationAdjustmentBlue: -64
- SaturationAdjustmentGreen: -100
- SaturationAdjustmentMagenta: -78
- SaturationAdjustmentOrange: -30
- SaturationAdjustmentPurple: -71
- SaturationAdjustmentRed: -30
- SaturationAdjustmentYellow: -63
- ShadowTint: 0
- Shadows2012: +39
- SharpenDetail: 25
- SharpenEdgeMasking: 0
- SharpenRadius: +1.0
- Sharpness: 0
- SplitToningBalance: 0
- SplitToningHighlightHue: 0
- SplitToningHighlightSaturation: 0
- SplitToningShadowHue: 195
- SplitToningShadowSaturation: 0
- Texture: 0
- ToneCurve: 0, 0, 255, 255
- ToneCurveBlue: 0, 0, 255, 255
- ToneCurveGreen: 0, 0, 255, 255
- ToneCurveName: Linear
- ToneCurveName2012: Linear
- ToneCurvePV2012: 0, 0, 255, 255
- ToneCurvePV2012Blue: 0, 0, 255, 255
- ToneCurvePV2012Green: 0, 0, 255, 255
- ToneCurvePV2012Red: 0, 0, 255, 255
- ToneCurveRed: 0, 0, 255, 255
- ToneMapStrength: 0
- Version: 12.1
- Vibrance: +18
- VignetteAmount: 0
- WhiteBalance: As Shot
- Whites2012: +9
- XMP-dc
- Description: OLYMPUS DIGITAL CAMERA
- Format: image/jpeg
- Subject: skin, women
- XMP-iptcCore
- Caption: OLYMPUS DIGITAL CAMERA
- XMP-lr
- HierarchicalSubject: skin, women
- XMP-onone
- XMP-x
- XMP-xmp
- CreateDate: 2019:07:21 18:32:06
- Label: Red
- ModifyDate: 2020:09:21 16:58:27+03:00
- Rating: 0
- XMP-xmpMM