- Раздел: Портрет
- Дата съёмки: 29.07.2007 20:51
- Дата загрузки фото: 11.10.2007 14:09
- Оригинальная фотография: 800 x 823 (206 Кб)
- Технические характеристики:
- Фотоаппарат: Canon EOS 400D DIGITAL
- Выдержка: 1/800
- Гиперфокальное расстояние: 4,88 m
- Диафрагма: 4,5
- Светочувствительность: 200
- Фокусное расстояние: 10,0mm (35mm эквивалент: 66,0mm)
- Полный EXIF
- ColorTransform: YCbCr
- Composite
- Aperture: 4,5
- CircleOfConfusion: 0,005 mm
- EV: 13,0
- FocalLength35efl: 10,0mm (35mm equivalent: 66,0mm)
- HyperfocalDistance: 4,88 m
- ScaleFactor35efl: 6,6
- ShutterSpeed: 1/800
- ExifIFD
- ApertureValue: 4,5
- ColorSpace: Uncalibrated
- CreateDate: 2007:07:29 16:55:28
- CustomRendered: Normal
- DateTimeOriginal: 2007:07:29 16:55:28
- ExifImageLength: 823
- ExifImageWidth: 800
- ExposureCompensation: 0
- ExposureMode: Manual
- ExposureProgram: Manual
- ExposureTime: 1/800
- FNumber: 4,5
- Flash: Off
- FocalLength: 10,0mm
- ISO: 200
- MaxApertureValue: 3,5
- MeteringMode: Average
- SceneCaptureType: Standard
- ShutterSpeedValue: 1/800
- WhiteBalance: Auto
- IFD0
- Artist: goldren
- Make: Nokia
- Model: N73
- ModifyDate: 2007:07:29 20:51:24
- Orientation: Horizontal (normal)
- IFD1
- IPTC
- XMP-aux
- Firmware: 1.0.5
- FlashCompensation: 0
- ImageNumber: 240
- Lens: EF-S10-22mm f/3.5-4.5 USM
- LensInfo: 10
- OwnerName: goldren
- SerialNumber: 530173201
- XMP-crs
- AlreadyApplied: True
- BlueHue: 0
- BlueSaturation: 0
- Brightness: +50
- CameraProfile: ACR 3.6
- ChromaticAberrationB: 0
- ChromaticAberrationR: 0
- Clarity: 100
- ColorNoiseReduction: 25
- Contrast: +46
- ConvertToGrayscale: False
- Defringe: 0
- Exposure: +0.35
- FillLight: 61
- GreenHue: 0
- GreenSaturation: 0
- HasCrop: False
- HasSettings: True
- HighlightRecovery: 83
- HueAdjustmentAqua: +3
- HueAdjustmentBlue: +1
- HueAdjustmentGreen: -85
- HueAdjustmentMagenta: 0
- HueAdjustmentOrange: -100
- HueAdjustmentPurple: 0
- HueAdjustmentRed: 0
- HueAdjustmentYellow: -62
- LuminanceAdjustmentAqua: -100
- LuminanceAdjustmentBlue: 0
- LuminanceAdjustmentGreen: -100
- LuminanceAdjustmentMagenta: 0
- LuminanceAdjustmentOrange: +83
- LuminanceAdjustmentPurple: 0
- LuminanceAdjustmentRed: 0
- LuminanceAdjustmentYellow: +100
- LuminanceSmoothing: 0
- ParametricDarks: +13
- ParametricHighlightSplit: 75
- ParametricHighlights: +77
- ParametricLights: -13
- ParametricMidtoneSplit: 50
- ParametricShadowSplit: 25
- ParametricShadows: +6
- RawFileName: IMG_1039.CR2
- RedHue: 0
- RedSaturation: 0
- Saturation: 0
- SaturationAdjustmentAqua: +22
- SaturationAdjustmentBlue: +18
- SaturationAdjustmentGreen: -46
- SaturationAdjustmentMagenta: 0
- SaturationAdjustmentOrange: -86
- SaturationAdjustmentPurple: 0
- SaturationAdjustmentRed: -81
- SaturationAdjustmentYellow: -32
- ShadowTint: 0
- Shadows: 40
- SharpenDetail: 25
- SharpenEdgeMasking: 0
- SharpenRadius: +1.0
- Sharpness: 25
- SplitToningBalance: +42
- SplitToningHighlightHue: 65
- SplitToningHighlightSaturation: 31
- SplitToningShadowHue: 0
- SplitToningShadowSaturation: 15
- Temperature: 6050
- Tint: -12
- ToneCurve: 0, 0, 32, 22, 64, 56, 128, 128, 192, 196, 255, 255
- ToneCurveName: Medium Contrast
- Version: 4.1
- Vibrance: 0
- VignetteAmount: 0
- WhiteBalance: Custom
- XMP-dc
- Creator: goldren
- Format: image/jpeg
- XMP-exif
- ColorSpace: Unknown (-1)
- DateTimeDigitized: 2007:07:29 16:55:28+04:00
- DateTimeOriginal: 2007:07:29 16:55:28+04:00
- ExifImageHeight: 823
- FlashFired: False
- FlashFunction: False
- FlashMode: Off
- FlashRedEyeMode: False
- FlashReturn: No return detection
- XMP-tiff
- Make: Canon
- Model: Canon EOS 400D DIGITAL
- XMP-xmp
- CreateDate: 2007:07:29 20:51:24+04:00
- ModifyDate: 2007:07:29 20:51:24+04:00
- Rating: 0
- XMP-xmpMM
- Просмотров: 244
- Рейтинг: голосов еще нет
- Отзывов: 0