| » Участники » Mutaborr » IB © August 05 » 2020.08.05 _ S80.jpg |
Уважаемые друзья и участники проекта iXBT.photo! К сожалению, 1 марта 2026 года проект iXBT.photo прекратит свою работу и будет закрыт. Мы высоко ценим ваше участие и тот вклад, который вы внесли в развитие нашего сообщества. Пожалуйста, не забудьте сохранить ваши фотографии до этой даты.
С уважением, команда iXBT.com
| 2020.08.05 _ S80.jpg |
2020.08.05 _ S80.jpg
- Раздел: Активный отдых, туризм
- Дата съёмки: неизвестно
- Дата загрузки фото: 17.01.2021 12:29
- Оригинальная фотография: 3888 x 2592 (5,8 Мб)
- Технические характеристики:
- Фотоаппарат: Sony DSC-R1
- Выдержка: 0,0
- Диафрагма: 6,3
- Светочувствительность: 160
- Фокусное расстояние: 71,0 mm
- Полный EXIF
- Adobe
- ColorTransform: YCbCr
- Composite
- Aperture: 6,3
- FocalLength35efl: 71,0 mm
- GPSAltitude: 41 m Above Sea Level
- GPSLatitude: 54 deg 50' 41,00" N
- GPSLatitudeRef: North
- GPSLongitude: 38 deg 6' 37,00" E
- GPSLongitudeRef: East
- GPSPosition: 54 deg 50' 41,00" N, 38 deg 6' 37,00" E
- Megapixels: 10,1
- ShutterSpeed: 0,0
- ExifIFD
- ApertureValue: 5,7
- ColorSpace: sRGB
- Contrast: Normal
- CreateDate: 2020:08:05 11:04:17
- CustomRendered: Custom
- DateTimeOriginal: 2020:08:05 11:04:17
- ExifImageHeight: 2592
- ExifImageWidth: 3888
- ExposureCompensation: 0
- ExposureMode: Manual
- ExposureProgram: Aperture-priority AE
- ExposureTime: 0,0
- FNumber: 6,3
- Flash: Off, Did not fire
- FocalLength: 71,0 mm
- ISO: 160
- LightSource: Unknown
- MaxApertureValue: 2,0
- MeteringMode: Multi-segment
- Saturation: Normal
- SceneCaptureType: Standard
- SceneType: Directly photographed
- Sharpness: Normal
- ShutterSpeedValue: 1/256
- WhiteBalance: Auto
- GPS
- GPSAltitude: 41,2 m
- GPSAltitudeRef: Above Sea Level
- GPSLatitude: 54 deg 50' 41,00"
- GPSLongitude: 38 deg 6' 37,00"
- GPSMapDatum: WGS-84
- GPSSpeed: 0
- GPSSpeedRef: km/h
- GPSVersionID: 2.3.0.0
- ICC-header
- ICC-meas
- ICC-view
- IFD0
- Make: SONY
- Model: DSC-R1
- ModifyDate: 2020:08:19 15:38:20
- Orientation: Horizontal (normal)
- IFD1
- IPTC
- DateCreated: 2020:08:05
- System
- XMP-aux
- LateralChromaticAberrationCorrectionAlreadyApplied: True
- Lens: 14.3-71.5 mm f/2.8-4.8
- LensInfo: 14.3-71.5mm f/2.8-4.8
- XMP-crs
- AlreadyApplied: True
- AutoLateralCA: 1
- Blacks2012: 0
- BlueHue: 0
- BlueSaturation: 0
- Clarity2012: 0
- ColorNoiseReduction: 25
- ColorNoiseReductionDetail: 50
- ColorNoiseReductionSmoothness: 50
- ColorTemperature: 5250
- Contrast2012: +59
- ConvertToGrayscale: False
- DefringeGreenAmount: 1
- DefringeGreenHueHi: 60
- DefringeGreenHueLo: 40
- DefringePurpleAmount: 1
- DefringePurpleHueHi: 70
- DefringePurpleHueLo: 30
- Dehaze: 0
- Exposure2012: 0.00
- GrainAmount: 0
- GreenHue: 0
- GreenSaturation: 0
- HasCrop: False
- HasSettings: True
- Highlights2012: -90
- HueAdjustmentAqua: 0
- HueAdjustmentBlue: 0
- HueAdjustmentGreen: 0
- HueAdjustmentMagenta: 0
- HueAdjustmentOrange: 0
- HueAdjustmentPurple: 0
- HueAdjustmentRed: 0
- HueAdjustmentYellow: 0
- LensManualDistortionAmount: 0
- LensProfileEnable: 0
- LensProfileSetup: LensDefaults
- LookAmount: 1.000000
- LookGroup: Profiles
- LookParametersClarity2012: +10
- LookParametersConvertToGrayscale: False
- LookParametersLookTable: 2FE663AB0D3CE5DA7B9F657BBCD66DFE
- LookParametersProcessVersion: 11.0
- LookParametersToneCurvePV2012: 0, 0, 32, 22, 64, 56, 128, 128, 224, 232, 240, 246, 255, 255
- LookParametersVersion: 12.1
- LookSupportsAmount: false
- LookSupportsMonochrome: false
- LookSupportsOutputReferred: false
- LuminanceAdjustmentAqua: 0
- LuminanceAdjustmentBlue: 0
- LuminanceAdjustmentGreen: 0
- LuminanceAdjustmentMagenta: 0
- LuminanceAdjustmentOrange: 0
- LuminanceAdjustmentPurple: 0
- LuminanceAdjustmentRed: 0
- LuminanceAdjustmentYellow: 0
- LuminanceSmoothing: 0
- OverrideLookVignette: False
- ParametricDarks: 0
- ParametricHighlightSplit: 75
- ParametricHighlights: 0
- ParametricLights: 0
- ParametricMidtoneSplit: 50
- ParametricShadowSplit: 25
- ParametricShadows: 0
- PerspectiveAspect: 0
- PerspectiveHorizontal: 0
- PerspectiveRotate: 0.0
- PerspectiveScale: 100
- PerspectiveUpright: 0
- PerspectiveVertical: 0
- PerspectiveX: 0.00
- PerspectiveY: 0.00
- PostCropVignetteAmount: 0
- ProcessVersion: 11.0
- RedHue: 0
- RedSaturation: 0
- Saturation: 0
- SaturationAdjustmentAqua: 0
- SaturationAdjustmentBlue: -38
- SaturationAdjustmentGreen: 0
- SaturationAdjustmentMagenta: 0
- SaturationAdjustmentOrange: -20
- SaturationAdjustmentPurple: 0
- SaturationAdjustmentRed: 0
- SaturationAdjustmentYellow: 0
- ShadowTint: 0
- Shadows2012: +70
- SharpenDetail: 25
- SharpenEdgeMasking: 0
- SharpenRadius: +1.0
- Sharpness: 40
- SplitToningBalance: 0
- SplitToningHighlightHue: 0
- SplitToningHighlightSaturation: 0
- SplitToningShadowHue: 0
- SplitToningShadowSaturation: 0
- Texture: 0
- Tint: -2
- ToneCurve: 0, 0, 32, 22, 64, 56, 128, 128, 192, 196, 255, 255
- ToneCurveBlue: 0, 0, 255, 255
- ToneCurveGreen: 0, 0, 255, 255
- ToneCurveName: Medium Contrast
- ToneCurveName2012: Linear
- ToneCurvePV2012: 0, 0, 255, 255
- ToneCurvePV2012Blue: 0, 0, 255, 255
- ToneCurvePV2012Green: 0, 0, 255, 255
- ToneCurvePV2012Red: 0, 0, 255, 255
- ToneCurveRed: 0, 0, 255, 255
- ToneMapStrength: 0
- Version: 12.1
- Vibrance: 0
- VignetteAmount: 0
- WhiteBalance: Custom
- Whites2012: +40
- XMP-dc
- XMP-exif
- XMP-x
- XMP-xmp
- ModifyDate: 2020:08:19 15:38:20+03:00
- Rating: 0
- XMP-xmpMM
- Просмотров: 127
- Рейтинг: голосов еще нет
- Отзывов: отключены
Получить код для блога
| Вставка фотографии в текущем разрешении |
Вставка миниатюры |
HTML (для вставки в блог):
BBCode (для вставки в форум):
Ссылка на фото:
Ссылка на миниатюру:
- Послать ссылку другу
| Комментарии к фотографии |