- Раздел: Другое, разное
- Дата съёмки: неизвестно
- Дата загрузки фото: 27.01.2021 10:18
- Оригинальная фотография: 4368 x 2912 (4,1 Мб)
- Технические характеристики:
- Фотоаппарат: Canon EOS 5D
- Выдержка: 0,0
- Гиперфокальное расстояние: inf m
- Диафрагма: 11,0
- Светочувствительность: 200
- Фокусное расстояние: 34,0 mm (35 mm equivalent: 34,0 mm)
- Полный EXIF
- Adobe
- ColorTransform: YCbCr
- Composite
- Aperture: 11,0
- CircleOfConfusion: 0,030 mm
- FOV: 55,0 deg
- FocalLength35efl: 34,0 mm (35 mm equivalent: 34,0 mm)
- HyperfocalDistance: inf m
- LensID: Canon EF 70-210mm f/4
- Megapixels: 12,7
- ScaleFactor35efl: 1,0
- ShutterSpeed: 0,0
- ExifIFD
- ApertureValue: 8,0
- ColorSpace: sRGB
- CreateDate: 2021:01:14 11:21:04
- CustomRendered: Normal
- DateTimeOriginal: 2021:01:14 11:21:04
- ExifImageHeight: 2912
- ExifImageWidth: 4368
- ExposureCompensation: 0
- ExposureMode: Auto
- ExposureProgram: Aperture-priority AE
- ExposureTime: 0,0
- FNumber: 11,0
- Flash: Off, Did not fire
- FocalLength: 34,0 mm
- ISO: 200
- LensInfo: 20-35mm f/?
- LensModel: 20.0-35.0 mm
- MaxApertureValue: 4,0
- MeteringMode: Unknown
- SceneCaptureType: Standard
- SerialNumber: 920601645
- ShutterSpeedValue: 1/512
- WhiteBalance: Auto
- ICC-header
- ICC-meas
- ICC-view
- IFD0
- BitsPerSample: 8 8 8
- ImageHeight: 2912
- ImageWidth: 4368
- Make: Canon
- Model: Canon EOS 5D
- ModifyDate: 2021:01:14 13:21:29
- Orientation: Horizontal (normal)
- PhotometricInterpretation: RGB
- SamplesPerPixel: 3
- IFD1
- IPTC
- DateCreated: 2021:01:14
- System
- XMP-aux
- DistortionCorrectionAlreadyApplied: True
- Firmware: 1.1.1
- FlashCompensation: 0
- ImageNumber: 2
- LateralChromaticAberrationCorrectionAlreadyApplied: True
- Lens: 20.0-35.0 mm
- LensID: 9
- VignetteCorrectionAlreadyApplied: True
- XMP-crs
- AlreadyApplied: True
- AutoLateralCA: 1
- Blacks2012: -31
- BlueHue: 0
- BlueSaturation: 0
- CameraProfile: Camera Standard
- Clarity2012: +15
- ColorNoiseReduction: 25
- ColorNoiseReductionDetail: 50
- ColorNoiseReductionSmoothness: 50
- ColorTemperature: 5550
- Contrast2012: +7
- ConvertToGrayscale: False
- DefringeGreenAmount: 0
- DefringeGreenHueHi: 60
- DefringeGreenHueLo: 40
- DefringePurpleAmount: 0
- DefringePurpleHueHi: 70
- DefringePurpleHueLo: 30
- Dehaze: 0
- Exposure2012: 0.00
- GrainAmount: 0
- GreenHue: 0
- GreenSaturation: 0
- HasCrop: False
- HasSettings: True
- Highlights2012: -81
- HueAdjustmentAqua: 0
- HueAdjustmentBlue: 0
- HueAdjustmentGreen: 0
- HueAdjustmentMagenta: 0
- HueAdjustmentOrange: 0
- HueAdjustmentPurple: 0
- HueAdjustmentRed: 0
- HueAdjustmentYellow: 0
- LensManualDistortionAmount: 0
- LensProfileChromaticAberrationScale: 100
- LensProfileDistortionScale: 100
- LensProfileEnable: 1
- LensProfileFilename: Canon (Tokina AT-X 16-28 F2.8 PRO FX) - RAW.lcp
- LensProfileIsEmbedded: False
- LensProfileSetup: Custom
- LensProfileVignettingScale: 100
- LookName:
- LuminanceAdjustmentAqua: 0
- LuminanceAdjustmentBlue: -15
- LuminanceAdjustmentGreen: 0
- LuminanceAdjustmentMagenta: 0
- LuminanceAdjustmentOrange: 0
- LuminanceAdjustmentPurple: 0
- LuminanceAdjustmentRed: 0
- LuminanceAdjustmentYellow: 0
- LuminanceSmoothing: 0
- OverrideLookVignette: False
- ParametricDarks: 0
- ParametricHighlightSplit: 75
- ParametricHighlights: 0
- ParametricLights: 0
- ParametricMidtoneSplit: 50
- ParametricShadowSplit: 25
- ParametricShadows: 0
- PerspectiveAspect: 0
- PerspectiveHorizontal: 0
- PerspectiveRotate: 0.0
- PerspectiveScale: 100
- PerspectiveUpright: 1
- PerspectiveVertical: 0
- PerspectiveX: 0.00
- PerspectiveY: 0.00
- PostCropVignetteAmount: 0
- ProcessVersion: 11.0
- RawFileName: IMG_7114.CR2
- RedHue: 0
- RedSaturation: 0
- Saturation: +6
- SaturationAdjustmentAqua: 0
- SaturationAdjustmentBlue: 0
- SaturationAdjustmentGreen: 0
- SaturationAdjustmentMagenta: 0
- SaturationAdjustmentOrange: 0
- SaturationAdjustmentPurple: 0
- SaturationAdjustmentRed: 0
- SaturationAdjustmentYellow: 0
- ShadowTint: 0
- Shadows2012: +73
- SharpenDetail: 25
- SharpenEdgeMasking: 0
- SharpenRadius: +1.0
- Sharpness: 40
- SplitToningBalance: 0
- SplitToningHighlightHue: 0
- SplitToningHighlightSaturation: 0
- SplitToningShadowHue: 0
- SplitToningShadowSaturation: 0
- Texture: 0
- Tint: +3
- ToneCurve: 0, 0, 255, 255
- ToneCurveBlue: 0, 0, 255, 255
- ToneCurveGreen: 0, 0, 255, 255
- ToneCurveName: Linear
- ToneCurveName2012: Linear
- ToneCurvePV2012: 0, 0, 255, 255
- ToneCurvePV2012Blue: 0, 0, 255, 255
- ToneCurvePV2012Green: 0, 0, 255, 255
- ToneCurvePV2012Red: 0, 0, 255, 255
- ToneCurveRed: 0, 0, 255, 255
- ToneMapStrength: 0
- Version: 12.4
- Vibrance: +20
- VignetteAmount: 0
- WhiteBalance: As Shot
- Whites2012: +50
- XMP-dc
- XMP-xmp
- ModifyDate: 2021:01:14 13:21:29+02:00
- XMP-xmpMM
- PreservedFileName: IMG_7114.CR2
- Просмотров: 52
- Рейтинг: голосов еще нет
- Отзывов: отключены