- Раздел: Другое, разное
- Дата съёмки: неизвестно
- Дата загрузки фото: 17.02.2021 20:44
- Оригинальная фотография: 4928 x 3280 (10,9 Мб)
- Технические характеристики:
- Фотоаппарат: Nikon Df
- Выдержка: 0,0
- Гиперфокальное расстояние: inf m
- Диафрагма: 8,0
- Светочувствительность: 1000
- Фокусное расстояние: 24,0 mm (35 mm equivalent: 24,0 mm)
- Полный EXIF
- Adobe
- ColorTransform: YCbCr
- Composite
- Aperture: 8,0
- CircleOfConfusion: 0,030 mm
- FOV: 73,0 deg
- FocalLength35efl: 24,0 mm (35 mm equivalent: 24,0 mm)
- HyperfocalDistance: inf m
- LensID: AF Zoom-Nikkor 24-85mm f/2.8-4D IF
- Megapixels: 16,2
- ScaleFactor35efl: 1,0
- ShutterSpeed: 0,0
- ExifIFD
- ApertureValue: 8,0
- CFAPattern: [Red,Green][Green,Blue]
- ColorSpace: sRGB
- Contrast: Normal
- CreateDate: 2020:01:25 16:10:55
- CustomRendered: Custom
- DateTimeOriginal: 2020:01:25 16:10:55
- DigitalZoomRatio: 1
- ExposureCompensation: 0
- ExposureMode: Manual
- ExposureProgram: Manual
- ExposureTime: 0,0
- FNumber: 8,0
- Flash: No Flash
- FocalLength: 24,0 mm
- FocalLengthIn35mmFormat: 24 mm
- GainControl: High gain up
- ISO: 1000
- LensInfo: 24-85mm f/2.8-4
- LensModel: 24.0-85.0 mm f/2.8-4.0
- LightSource: Unknown
- MaxApertureValue: 2,8
- MeteringMode: Center-weighted average
- Saturation: Normal
- SceneCaptureType: Standard
- SceneType: Directly photographed
- SensingMethod: One-chip color area
- SensitivityType: Recommended Exposure Index
- SerialNumber: 6008916
- Sharpness: Normal
- ShutterSpeedValue: 1/512
- SubjectDistanceRange: Unknown
- WhiteBalance: Auto
- ICC-header
- ICC-meas
- ICC-view
- IFD0
- Make: NIKON CORPORATION
- Model: NIKON Df
- ModifyDate: 2020:01:25 22:39:28
- IFD1
- IPTC
- DateCreated: 2020:01:25
- System
- XMP-aux
- ApproximateFocusDistance: 2
- ImageNumber: 154418
- Lens: 24.0-85.0 mm f/2.8-4.0
- LensID: 103
- XMP-crs
- AlreadyApplied: True
- AutoLateralCA: 0
- Blacks2012: +30
- BlueHue: -5
- BlueSaturation: +25
- CameraProfile: Kodak Gold 100 - N
- Clarity2012: 0
- ColorNoiseReduction: 25
- ColorNoiseReductionDetail: 50
- ColorNoiseReductionSmoothness: 50
- ColorTemperature: 6500
- Contrast2012: +35
- ConvertToGrayscale: False
- DefringeGreenAmount: 0
- DefringeGreenHueHi: 60
- DefringeGreenHueLo: 40
- DefringePurpleAmount: 0
- DefringePurpleHueHi: 70
- DefringePurpleHueLo: 30
- Dehaze: 0
- Exposure2012: +0.90
- GrainAmount: 0
- GreenHue: +35
- GreenSaturation: 0
- HasCrop: False
- HasSettings: True
- Highlights2012: -72
- HueAdjustmentAqua: +10
- HueAdjustmentBlue: -5
- HueAdjustmentGreen: +10
- HueAdjustmentMagenta: +20
- HueAdjustmentOrange: 0
- HueAdjustmentPurple: +20
- HueAdjustmentRed: 0
- HueAdjustmentYellow: 0
- LensManualDistortionAmount: 0
- LensProfileEnable: 0
- LensProfileSetup: LensDefaults
- LookName:
- LuminanceAdjustmentAqua: +10
- LuminanceAdjustmentBlue: -15
- LuminanceAdjustmentGreen: -5
- LuminanceAdjustmentMagenta: +20
- LuminanceAdjustmentOrange: -4
- LuminanceAdjustmentPurple: +20
- LuminanceAdjustmentRed: +5
- LuminanceAdjustmentYellow: +10
- LuminanceSmoothing: 0
- OverrideLookVignette: False
- ParametricDarks: 0
- ParametricHighlightSplit: 75
- ParametricHighlights: 0
- ParametricLights: 0
- ParametricMidtoneSplit: 60
- ParametricShadowSplit: 14
- ParametricShadows: 0
- PerspectiveAspect: 0
- PerspectiveHorizontal: 0
- PerspectiveRotate: 0.0
- PerspectiveScale: 100
- PerspectiveUpright: 0
- PerspectiveVertical: 0
- PerspectiveX: 0.00
- PerspectiveY: 0.00
- PostCropVignetteAmount: 0
- ProcessVersion: 11.0
- RawFileName: _DSC4003.NEF
- RedHue: +18
- RedSaturation: +20
- Saturation: -5
- SaturationAdjustmentAqua: -50
- SaturationAdjustmentBlue: -30
- SaturationAdjustmentGreen: -50
- SaturationAdjustmentMagenta: -40
- SaturationAdjustmentOrange: -8
- SaturationAdjustmentPurple: -50
- SaturationAdjustmentRed: -30
- SaturationAdjustmentYellow: -15
- ShadowTint: -2
- Shadows2012: +100
- SharpenDetail: 25
- SharpenEdgeMasking: 0
- SharpenRadius: +1.0
- Sharpness: 0
- SplitToningBalance: 0
- SplitToningHighlightHue: 0
- SplitToningHighlightSaturation: 0
- SplitToningShadowHue: 0
- SplitToningShadowSaturation: 0
- Texture: 0
- Tint: +10
- ToneCurve: 0, 0, 255, 255
- ToneCurveBlue: 0, 0, 255, 255
- ToneCurveGreen: 0, 0, 255, 255
- ToneCurveName: Linear
- ToneCurveName2012: Custom
- ToneCurvePV2012: 0, 0, 15, 17, 58, 60, 122, 125, 255, 255
- ToneCurvePV2012Blue: 0, 0, 24, 11, 83, 70, 119, 122, 183, 200, 255, 255
- ToneCurvePV2012Green: 0, 0, 28, 9, 120, 124, 181, 198, 255, 255
- ToneCurvePV2012Red: 0, 0, 30, 11, 71, 51, 119, 122, 182, 196, 255, 255
- ToneCurveRed: 0, 0, 255, 255
- ToneMapStrength: 0
- Version: 11.4.1
- Vibrance: 0
- VignetteAmount: 0
- WhiteBalance: Cloudy
- Whites2012: +38
- XMP-dc
- XMP-xmp
- CreateDate: 2020:01:25 16:10:55.80
- ModifyDate: 2020:01:25 22:39:28+03:00
- XMP-xmpMM
- PreservedFileName: _DSC4003.NEF
- Просмотров: 144
- Рейтинг: голосов еще нет
- Отзывов: 0