- Раздел: Портрет
- Дата съёмки: 16.10.2007 20:20
- Дата загрузки фото: 25.10.2007 15:40
- Оригинальная фотография: 800 x 807 (201 Кб)
- Технические характеристики:
- Фотоаппарат: Nokia N95
- Выдержка: 1/160
- Гиперфокальное расстояние: 395,76 m
- Диафрагма: 1,4
- Фокусное расстояние: 50,0mm (35mm эквивалент: 333,0mm)
- Полный EXIF
- ColorTransform: YCbCr
- Composite
- Aperture: 1,4
- CircleOfConfusion: 0,005 mm
- FocalLength35efl: 50,0mm (35mm equivalent: 333,0mm)
- HyperfocalDistance: 395,76 m
- ScaleFactor35efl: 6,7
- ShutterSpeed: 1/160
- ExifIFD
- ApertureValue: 1,4
- ColorSpace: Uncalibrated
- CreateDate: 2007:10:14 17:25:00
- CustomRendered: Normal
- DateTimeOriginal: 2007:10:14 17:25:00
- ExifImageLength: 807
- ExifImageWidth: 800
- ExposureCompensation: 0
- ExposureMode: Manual
- ExposureProgram: Manual
- ExposureTime: 1/160
- FNumber: 1,4
- Flash: Off
- FocalLength: 50,0mm
- MaxApertureValue: 1,4
- MeteringMode: Spot
- SceneCaptureType: Standard
- ShutterSpeedValue: 1/160
- WhiteBalance: Auto
- ICC-header
- IFD0
- Artist: goldren
- Make: Nokia
- Model: N95
- ModifyDate: 2007:10:16 20:29:22
- Orientation: Horizontal (normal)
- IFD1
- IPTC
- By-line: goldren
- XMP-aux
- Firmware: 1.0.3
- FlashCompensation: 0
- ImageNumber: 0
- Lens: EF50mm f/1.4 USM
- LensInfo: 50
- OwnerName: goldren
- SerialNumber: 330102589
- XMP-crs
- AlreadyApplied: True
- BlueHue: +41
- BlueSaturation: -100
- Brightness: +50
- CameraProfile: ACR 4.2
- ChromaticAberrationB: 0
- ChromaticAberrationR: 0
- Clarity: 83
- ColorNoiseReduction: 25
- Contrast: +93
- ConvertToGrayscale: False
- Defringe: 0
- Exposure: -0.40
- FillLight: 55
- GreenHue: -77
- GreenSaturation: +63
- HasCrop: False
- HasSettings: True
- HighlightRecovery: 40
- HueAdjustmentAqua: 0
- HueAdjustmentBlue: 0
- HueAdjustmentGreen: +3
- HueAdjustmentMagenta: 0
- HueAdjustmentOrange: +1
- HueAdjustmentPurple: 0
- HueAdjustmentRed: +66
- HueAdjustmentYellow: +43
- LuminanceAdjustmentAqua: 0
- LuminanceAdjustmentBlue: 0
- LuminanceAdjustmentGreen: -4
- LuminanceAdjustmentMagenta: +91
- LuminanceAdjustmentOrange: +89
- LuminanceAdjustmentPurple: +78
- LuminanceAdjustmentRed: +8
- LuminanceAdjustmentYellow: +55
- LuminanceSmoothing: 0
- ParametricDarks: 0
- ParametricHighlightSplit: 75
- ParametricHighlights: 0
- ParametricLights: 0
- ParametricMidtoneSplit: 50
- ParametricShadowSplit: 25
- ParametricShadows: 0
- RawFileName: IMG_0099.CR2
- RedHue: -100
- RedSaturation: +9
- Saturation: 0
- SaturationAdjustmentAqua: -89
- SaturationAdjustmentBlue: -78
- SaturationAdjustmentGreen: -78
- SaturationAdjustmentMagenta: -89
- SaturationAdjustmentOrange: -86
- SaturationAdjustmentPurple: -73
- SaturationAdjustmentRed: -79
- SaturationAdjustmentYellow: -79
- ShadowTint: -36
- Shadows: 2
- SharpenDetail: 25
- SharpenEdgeMasking: 0
- SharpenRadius: +1.0
- Sharpness: 25
- SplitToningBalance: 0
- SplitToningHighlightHue: 0
- SplitToningHighlightSaturation: 0
- SplitToningShadowHue: 0
- SplitToningShadowSaturation: 0
- Temperature: 3950
- Tint: -29
- ToneCurve: 0, 0, 32, 22, 64, 56, 128, 128, 192, 196, 255, 255
- ToneCurveName: Medium Contrast
- Version: 4.2
- Vibrance: 0
- VignetteAmount: 0
- WhiteBalance: Custom
- XMP-dc
- Creator: goldren
- Format: image/jpeg
- XMP-exif
- ColorSpace: Unknown (-1)
- DateTimeDigitized: 2007-10-14T17:25+04:00
- DateTimeOriginal: 2007-10-14T17:25+04:00
- ExifImageHeight: 807
- FlashFired: False
- FlashFunction: False
- FlashMode: Off
- FlashRedEyeMode: False
- FlashReturn: No return detection
- XMP-tiff
- XMP-xmp
- CreateDate: 2007:10:16 20:20:53+04:00
- ModifyDate: 2007:10:16 20:29:22+04:00
- Rating: 0
- XMP-xmpMM