- Раздел: Пейзаж
- Дата съёмки: 22.10.2007 19:31
- Дата загрузки фото: 25.10.2007 15:43
- Оригинальная фотография: 800 x 533 (226 Кб)
- Технические характеристики:
- Фотоаппарат: Nokia N95
- Выдержка: 1/125
- Гиперфокальное расстояние: 7,48 m
- Диафрагма: 3,5
- Фокусное расстояние: 10,0mm (35mm эквивалент: 78,7mm)
- Полный EXIF
- ColorTransform: YCbCr
- Composite
- Aperture: 3,5
- CircleOfConfusion: 0,004 mm
- FocalLength35efl: 10,0mm (35mm equivalent: 78,7mm)
- HyperfocalDistance: 7,48 m
- ScaleFactor35efl: 7,9
- ShutterSpeed: 1/125
- ExifIFD
- ApertureValue: 3,5
- ColorSpace: sRGB
- CreateDate: 2007:10:21 16:09:00
- CustomRendered: Normal
- DateTimeOriginal: 2007:10:21 16:09:00
- ExifImageLength: 533
- ExifImageWidth: 800
- ExposureCompensation: 0
- ExposureMode: Manual
- ExposureProgram: Manual
- ExposureTime: 1/125
- FNumber: 3,5
- Flash: Off
- FocalLength: 10,0mm
- MaxApertureValue: 3,5
- MeteringMode: Spot
- SceneCaptureType: Standard
- ShutterSpeedValue: 1/125
- WhiteBalance: Auto
- ICC-header
- ICC-meas
- ICC-view
- IFD0
- Artist: goldren
- Make: Nokia
- Model: N95
- ModifyDate: 2007:10:22 15:31:00
- Orientation: Horizontal (normal)
- IFD1
- IPTC
- XMP-aux
- Firmware: 1.0.3
- FlashCompensation: 0
- ImageNumber: 0
- Lens: EF-S10-22mm f/3.5-4.5 USM
- LensInfo: 10
- OwnerName: goldren
- SerialNumber: 330102589
- XMP-crs
- AlreadyApplied: True
- BlueHue: 0
- BlueSaturation: 0
- Brightness: +35
- CameraProfile: ACR 4.2
- ChromaticAberrationB: 0
- ChromaticAberrationR: 0
- Clarity: 81
- ColorNoiseReduction: 25
- Contrast: +93
- ConvertToGrayscale: False
- Defringe: 0
- Exposure: -1.10
- FillLight: 100
- GreenHue: 0
- GreenSaturation: 0
- HasCrop: False
- HasSettings: True
- HighlightRecovery: 0
- HueAdjustmentAqua: -32
- HueAdjustmentBlue: +5
- HueAdjustmentGreen: -83
- HueAdjustmentMagenta: 0
- HueAdjustmentOrange: -76
- HueAdjustmentPurple: 0
- HueAdjustmentRed: -1
- HueAdjustmentYellow: -3
- LuminanceAdjustmentAqua: +63
- LuminanceAdjustmentBlue: -39
- LuminanceAdjustmentGreen: +85
- LuminanceAdjustmentMagenta: 0
- LuminanceAdjustmentOrange: +25
- LuminanceAdjustmentPurple: 0
- LuminanceAdjustmentRed: +1
- LuminanceAdjustmentYellow: +6
- LuminanceSmoothing: 0
- ParametricDarks: 0
- ParametricHighlightSplit: 75
- ParametricHighlights: 0
- ParametricLights: 0
- ParametricMidtoneSplit: 50
- ParametricShadowSplit: 25
- ParametricShadows: 0
- RawFileName: IMG_1029.CR2
- RedHue: 0
- RedSaturation: 0
- Saturation: 0
- SaturationAdjustmentAqua: +7
- SaturationAdjustmentBlue: -2
- SaturationAdjustmentGreen: +57
- SaturationAdjustmentMagenta: 0
- SaturationAdjustmentOrange: +36
- SaturationAdjustmentPurple: 0
- SaturationAdjustmentRed: +35
- SaturationAdjustmentYellow: +58
- ShadowTint: 0
- Shadows: 50
- SharpenDetail: 25
- SharpenEdgeMasking: 0
- SharpenRadius: +1.0
- Sharpness: 25
- SplitToningBalance: 0
- SplitToningHighlightHue: 0
- SplitToningHighlightSaturation: 0
- SplitToningShadowHue: 0
- SplitToningShadowSaturation: 0
- Temperature: 5300
- Tint: -17
- ToneCurve: 0, 0, 32, 22, 64, 56, 128, 128, 192, 196, 255, 255
- ToneCurveName: Medium Contrast
- Version: 4.2
- Vibrance: 0
- VignetteAmount: 0
- WhiteBalance: Custom
- XMP-dc
- Creator: goldren
- Format: image/jpeg
- XMP-exif
- DateTimeDigitized: 2007:10:21 16:09:000Z
- DateTimeOriginal: 2007:10:21 16:09:000Z
- ExifImageHeight: 533
- FlashFired: False
- FlashFunction: False
- FlashMode: Off
- FlashRedEyeMode: False
- FlashReturn: No return detection
- XMP-tiff
- XMP-xmp
- CreateDate: 2007:10:22 19:31:11+04:00
- ModifyDate: 2007:10:22 15:31:000Z
- Rating: 0
- XMP-xmpMM