- Раздел: Отдых, развлечения
- Дата съёмки: 02.08.2011 19:27
- Дата загрузки фото: 06.03.2021 15:37
- Оригинальная фотография: 804 x 1200 (207 Кб)
- Технические характеристики:
- Фотоаппарат: Canon EOS 30D
- Выдержка: 0,0
- Гиперфокальное расстояние: inf m
- Диафрагма: 2,8
- Светочувствительность: 200
- Фокусное расстояние: 50,0 mm (35 mm equivalent: 50,0 mm)
- Полный EXIF
- Adobe
- ColorTransform: YCbCr
- Composite
- Aperture: 2,8
- CircleOfConfusion: 0,019 mm
- FOV: 39,0 deg
- Flash: Off, Did not fire
- FocalLength35efl: 50,0 mm (35 mm equivalent: 50,0 mm)
- HyperfocalDistance: inf m
- Megapixels: 0,965
- ScaleFactor35efl: 1,6
- ShutterSpeed: 0,0
- ExifIFD
- ApertureValue: 2,0
- ColorSpace: sRGB
- CreateDate: 2011:08:02 19:27:11
- CustomRendered: Normal
- DateTimeOriginal: 2011:08:02 19:27:11
- ExifImageHeight: 1200
- ExifImageWidth: 804
- ExposureCompensation: 0
- ExposureMode: Manual
- ExposureProgram: Manual
- ExposureTime: 0,0
- FNumber: 2,8
- FocalLength: 50,0 mm
- ISO: 200
- MaxApertureValue: 1,0
- MeteringMode: Partial
- SceneCaptureType: Standard
- ShutterSpeedValue: 1/32
- WhiteBalance: Auto
- ICC-header
- ICC-meas
- ICC-view
- IFD0
- Artist: Yepanchintcev Aleksey
- Make: Canon
- Model: Canon EOS 30D
- ModifyDate: 2011:08:09 17:04:02
- Orientation: Horizontal (normal)
- IFD1
- IPTC
- By-line: Yepanchintcev Aleksey
- System
- XMP-aux
- Firmware: 1.0.5
- FlashCompensation: -2
- ImageNumber: 48
- Lens: EF50mm f/1.4 USM
- LensInfo: 50mm f/?
- OwnerName: Yepanchintcev Aleksey
- SerialNumber: 1630900046
- XMP-crs
- AlreadyApplied: True
- BlueHue: 0
- BlueSaturation: -47
- Brightness: +109
- CameraProfile: ACR 4.4
- ChromaticAberrationB: 0
- ChromaticAberrationR: 0
- Clarity: +82
- ColorNoiseReduction: 34
- ColorNoiseReductionDetail: 50
- ColorTemperature: 4414
- Contrast: +6
- ConvertToGrayscale: False
- CropAngle: 1.34059
- CropBottom: 0.927654
- CropConstrainToWarp: 0
- CropHeight: 2095
- CropLeft: 0.013982
- CropRight: 0.896194
- CropTop: 0
- CropUnit: pixels
- CropWidth: 3141
- Defringe: 0
- Exposure: +0.32
- FillLight: 69
- GrainAmount: 0
- GreenHue: 0
- GreenSaturation: +84
- HasCrop: True
- HasSettings: True
- HighlightRecovery: 51
- HueAdjustmentAqua: +4
- HueAdjustmentBlue: +13
- HueAdjustmentGreen: -14
- HueAdjustmentMagenta: -31
- HueAdjustmentOrange: +27
- HueAdjustmentPurple: +19
- HueAdjustmentRed: +32
- HueAdjustmentYellow: -11
- LensManualDistortionAmount: 0
- LensProfileEnable: 0
- LensProfileSetup: LensDefaults
- LuminanceAdjustmentAqua: +100
- LuminanceAdjustmentBlue: +91
- LuminanceAdjustmentGreen: +7
- LuminanceAdjustmentMagenta: 0
- LuminanceAdjustmentOrange: +19
- LuminanceAdjustmentPurple: -4
- LuminanceAdjustmentRed: 0
- LuminanceAdjustmentYellow: +52
- LuminanceNoiseReductionContrast: 0
- LuminanceNoiseReductionDetail: 50
- LuminanceSmoothing: 31
- ParametricDarks: -1
- ParametricHighlightSplit: 75
- ParametricHighlights: 0
- ParametricLights: +33
- ParametricMidtoneSplit: 50
- ParametricShadowSplit: 13
- ParametricShadows: -68
- PerspectiveHorizontal: 0
- PerspectiveRotate: 0.0
- PerspectiveScale: 100
- PerspectiveVertical: 0
- PostCropVignetteAmount: 0
- ProcessVersion: 5.7
- RedHue: 0
- RedSaturation: -17
- Saturation: -26
- SaturationAdjustmentAqua: 0
- SaturationAdjustmentBlue: 0
- SaturationAdjustmentGreen: 0
- SaturationAdjustmentMagenta: 0
- SaturationAdjustmentOrange: -20
- SaturationAdjustmentPurple: 0
- SaturationAdjustmentRed: +41
- SaturationAdjustmentYellow: -18
- ShadowTint: 0
- Shadows: 24
- SharpenDetail: 25
- SharpenEdgeMasking: 0
- SharpenRadius: +1.0
- Sharpness: 25
- SplitToningBalance: +100
- SplitToningHighlightHue: 0
- SplitToningHighlightSaturation: 0
- SplitToningShadowHue: 240
- SplitToningShadowSaturation: 0
- Tint: +9
- ToneCurve: 0, 0, 255, 255
- ToneCurveName: Linear
- Version: 6.1
- Vibrance: +47
- VignetteAmount: +100
- VignetteMidpoint: 57
- WhiteBalance: Custom
- XMP-dc
- Creator: Yepanchintcev Aleksey
- Format: image/jpeg
- XMP-exif
- ApertureValue: 2,8
- DateTimeDigitized: 2011:08:02 19:27:11+07:00
- DateTimeOriginal: 2011:08:02 19:27:11+07:00
- ExposureTime: 1/50
- FlashFired: False
- FlashFunction: False
- FlashMode: Off
- FlashRedEyeMode: False
- FlashReturn: No return detection
- MaxApertureValue: 1,4
- ShutterSpeedValue: 1/50
- XMP-tiff
- ImageHeight: 3141
- ImageWidth: 2095
- XMP-xmp
- CreateDate: 2011:08:02 19:27:11+07:00
- ModifyDate: 2011:08:09 17:04:02+07:00
- XMP-xmpMM
- Просмотров: 480
- Рейтинг: голосов еще нет
- Отзывов: 0