- Раздел: Другое, разное
- Дата съёмки: неизвестно
- Дата загрузки фото: 15.03.2021 01:20
- Оригинальная фотография: 5112 x 3643 (8,3 Мб)
- Технические характеристики:
- Фотоаппарат: Samsung NX30
- Выдержка: 0,0
- Светочувствительность: 100
- Полный EXIF
- Adobe
- ColorTransform: YCbCr
- Composite
- CircleOfConfusion: 0,019 mm
- Megapixels: 18,6
- ScaleFactor35efl: 1,6
- ShutterSpeed: 0,0
- ExifIFD
- ColorSpace: sRGB
- Contrast: Normal
- DateTimeOriginal: 2021:03:09 12:28:11
- DigitalZoomRatio: 1
- ExifImageHeight: 3643
- ExifImageWidth: 5112
- ExposureCompensation: 0
- ExposureMode: Unknown (3)
- ExposureProgram: Aperture-priority AE
- ExposureTime: 0,0
- Flash: No Flash
- ISO: 100
- LensInfo: 11528-33000mm f/?
- LensModel: 11528.0-33000.0 mm
- LightSource: Unknown
- MeteringMode: Spot
- Saturation: Normal
- SceneCaptureType: Standard
- Sharpness: Normal
- ShutterSpeedValue: 1/512
- WhiteBalance: Auto
- ICC-header
- ICC-meas
- ICC-view
- IFD0
- Artist: ЛАД
- Make: SAMSUNG
- Model: NX30
- ModifyDate: 2021:03:15 01:16:33
- Orientation: Horizontal (normal)
- IFD1
- IPTC
- By-line: ЛАД
- DateCreated: 2021:03:09
- System
- XMP-aux
- DistortionCorrectionAlreadyApplied: True
- EnhanceDetailsAlreadyApplied: True
- EnhanceDetailsVersion: 184614912
- EnhanceSuperResolutionAlreadyApplied: True
- EnhanceSuperResolutionScale: 2
- EnhanceSuperResolutionVersion: 218103808
- Firmware: 1.31
- LateralChromaticAberrationCorrectionAlreadyApplied: True
- Lens: 11528.0-33000.0 mm
- VignetteCorrectionAlreadyApplied: True
- XMP-crs
- AlreadyApplied: True
- AutoLateralCA: 1
- Blacks2012: -28
- BlueHue: 0
- BlueSaturation: 0
- CameraProfile: Samsung NX30
- CircGradBasedCorrActive: true
- CircGradBasedCorrAmount: 1.000000
- CircGradBasedCorrBrightness: 0.000000
- CircGradBasedCorrClarity: 0.000000
- CircGradBasedCorrClarity2012: 0.000000
- CircGradBasedCorrContrast: 0.000000
- CircGradBasedCorrContrast2012: 0.000000
- CircGradBasedCorrCorrectionRangeMaskColorAmount: 0.500000
- CircGradBasedCorrCorrectionRangeMaskDepthFeather: 0.500000
- CircGradBasedCorrCorrectionRangeMaskDepthMax: 1.000000
- CircGradBasedCorrCorrectionRangeMaskDepthMin: 0.000000
- CircGradBasedCorrCorrectionRangeMaskLumFeather: 0.500000
- CircGradBasedCorrCorrectionRangeMaskLumMax: 1.000000
- CircGradBasedCorrCorrectionRangeMaskLumMin: 0.000000
- CircGradBasedCorrCorrectionRangeMaskType: 0
- CircGradBasedCorrCorrectionRangeMaskVersion: +2
- CircGradBasedCorrDefringe: 0.000000
- CircGradBasedCorrExposure: 0.000000
- CircGradBasedCorrExposure2012: 0.000000
- CircGradBasedCorrHighlights2012: 0.000000
- CircGradBasedCorrHue: 0.000000
- CircGradBasedCorrLocalBlacks2012: 0.000000
- CircGradBasedCorrLocalDehaze: 0.000000
- CircGradBasedCorrLocalTexture: 0.000000
- CircGradBasedCorrLocalWhites2012: 0.000000
- CircGradBasedCorrLuminanceNoise: 0.000000
- CircGradBasedCorrMaskAngle: 0.000000
- CircGradBasedCorrMaskBottom: 1.174879
- CircGradBasedCorrMaskFeather: +100
- CircGradBasedCorrMaskFlipped: true
- CircGradBasedCorrMaskLeft: 0.803574
- CircGradBasedCorrMaskMidpoint: +50
- CircGradBasedCorrMaskRight: 1.193380
- CircGradBasedCorrMaskRoundness: 0
- CircGradBasedCorrMaskTop: 0.002228
- CircGradBasedCorrMaskValue: 1.000000
- CircGradBasedCorrMaskVersion: +2
- CircGradBasedCorrMaskWhat: Mask/CircularGradient
- CircGradBasedCorrMoire: 0.000000
- CircGradBasedCorrSaturation: 0.000000
- CircGradBasedCorrShadows2012: 0.000000
- CircGradBasedCorrSharpness: 0.000000
- CircGradBasedCorrTemperature: 0.000000
- CircGradBasedCorrTint: 0.250000
- CircGradBasedCorrWhat: Correction
- Clarity2012: 0
- ColorGradeBlending: 50
- ColorGradeGlobalHue: 0
- ColorGradeGlobalLum: 0
- ColorGradeGlobalSat: 0
- ColorGradeHighlightLum: 0
- ColorGradeMidtoneHue: 0
- ColorGradeMidtoneLum: 0
- ColorGradeMidtoneSat: 0
- ColorGradeShadowLum: 0
- ColorNoiseReduction: 48
- ColorNoiseReductionDetail: 0
- ColorNoiseReductionSmoothness: 100
- ColorTemperature: 6000
- Contrast2012: +7
- ConvertToGrayscale: False
- CropAngle: 0
- CropBottom: 1
- CropConstrainToWarp: 0
- CropLeft: 0.04694
- CropRight: 0.983665
- CropTop: 0
- DefringeGreenAmount: 4
- DefringeGreenHueHi: 67
- DefringeGreenHueLo: 12
- DefringePurpleAmount: 8
- DefringePurpleHueHi: 59
- DefringePurpleHueLo: 31
- Dehaze: +24
- Exposure2012: 0.00
- GradientBasedCorrActive: true
- GradientBasedCorrAmount: 1.000000
- GradientBasedCorrBrightness: 0.000000
- GradientBasedCorrClarity: 0.000000
- GradientBasedCorrClarity2012: 0.000000
- GradientBasedCorrContrast: 0.000000
- GradientBasedCorrContrast2012: 0.000000
- GradientBasedCorrCorrectionRangeMaskColorAmount: 0.500000
- GradientBasedCorrCorrectionRangeMaskDepthFeather: 0.500000
- GradientBasedCorrCorrectionRangeMaskDepthMax: 1.000000
- GradientBasedCorrCorrectionRangeMaskDepthMin: 0.000000
- GradientBasedCorrCorrectionRangeMaskLumFeather: 0.500000
- GradientBasedCorrCorrectionRangeMaskLumMax: 1.000000
- GradientBasedCorrCorrectionRangeMaskLumMin: 0.000000
- GradientBasedCorrCorrectionRangeMaskType: 0
- GradientBasedCorrCorrectionRangeMaskVersion: +2
- GradientBasedCorrDefringe: 0.000000
- GradientBasedCorrExposure: 0.000000
- GradientBasedCorrExposure2012: 0.000000
- GradientBasedCorrHighlights2012: 0.000000
- GradientBasedCorrHue: 0.000000
- GradientBasedCorrLocalBlacks2012: 0.000000
- GradientBasedCorrLocalDehaze: 0.000000
- GradientBasedCorrLocalTexture: 0.000000
- GradientBasedCorrLocalWhites2012: 0.000000
- GradientBasedCorrLuminanceNoise: 0.000000
- GradientBasedCorrMaskFullX: 0.484103
- GradientBasedCorrMaskFullY: 1.003365
- GradientBasedCorrMaskValue: 1.000000
- GradientBasedCorrMaskWhat: Mask/Gradient
- GradientBasedCorrMaskZeroX: 0.483979
- GradientBasedCorrMaskZeroY: 0.808238
- GradientBasedCorrMoire: 0.000000
- GradientBasedCorrSaturation: 0.000000
- GradientBasedCorrShadows2012: 0.000000
- GradientBasedCorrSharpness: 0.000000
- GradientBasedCorrTemperature: 0.000000
- GradientBasedCorrTint: 0.190000
- GradientBasedCorrWhat: Correction
- GrainAmount: 0
- GreenHue: 0
- GreenSaturation: 0
- HasCrop: True
- HasSettings: True
- Highlights2012: -64
- HueAdjustmentAqua: 0
- HueAdjustmentBlue: 0
- HueAdjustmentGreen: 0
- HueAdjustmentMagenta: 0
- HueAdjustmentOrange: 0
- HueAdjustmentPurple: 0
- HueAdjustmentRed: 0
- HueAdjustmentYellow: 0
- LensManualDistortionAmount: 0
- LensProfileDistortionScale: 100
- LensProfileEnable: 1
- LensProfileFilename: Samsung (Samyang 12mm f2 NCS CS) - RAW.lcp
- LensProfileIsEmbedded: False
- LensProfileSetup: Custom
- LensProfileVignettingScale: 100
- LuminanceAdjustmentAqua: 0
- LuminanceAdjustmentBlue: 0
- LuminanceAdjustmentGreen: 0
- LuminanceAdjustmentMagenta: 0
- LuminanceAdjustmentOrange: 0
- LuminanceAdjustmentPurple: 0
- LuminanceAdjustmentRed: 0
- LuminanceAdjustmentYellow: 0
- LuminanceSmoothing: 0
- OverrideLookVignette: False
- ParametricDarks: 0
- ParametricHighlightSplit: 75
- ParametricHighlights: 0
- ParametricLights: 0
- ParametricMidtoneSplit: 50
- ParametricShadowSplit: 25
- ParametricShadows: 0
- PerspectiveAspect: 0
- PerspectiveHorizontal: 0
- PerspectiveRotate: 0.0
- PerspectiveScale: 100
- PerspectiveUpright: 0
- PerspectiveVertical: 0
- PerspectiveX: 0.00
- PerspectiveY: 0.00
- PostCropVignetteAmount: 0
- ProcessVersion: 11.0
- RedHue: 0
- RedSaturation: 0
- Saturation: +6
- SaturationAdjustmentAqua: 0
- SaturationAdjustmentBlue: 0
- SaturationAdjustmentGreen: 0
- SaturationAdjustmentMagenta: 0
- SaturationAdjustmentOrange: 0
- SaturationAdjustmentPurple: 0
- SaturationAdjustmentRed: 0
- SaturationAdjustmentYellow: 0
- ShadowTint: 0
- Shadows2012: +40
- SharpenDetail: 0
- SharpenRadius: +0.5
- Sharpness: 0
- SplitToningBalance: 0
- SplitToningHighlightHue: 0
- SplitToningHighlightSaturation: 0
- SplitToningShadowHue: 0
- SplitToningShadowSaturation: 0
- Texture: +65
- Tint: +16
- ToneCurveName2012: Linear
- ToneCurvePV2012: 0, 0, 255, 255
- ToneCurvePV2012Blue: 0, 0, 255, 255
- ToneCurvePV2012Green: 0, 0, 255, 255
- ToneCurvePV2012Red: 0, 0, 255, 255
- Version: 13.2
- Vibrance: +20
- VignetteAmount: 0
- WhiteBalance: As Shot
- Whites2012: 0
- XMP-dc
- Creator: ЛАД
- Format: image/jpeg
- XMP-xmp
- CreateDate: 2021:03:09 12:28:11
- ModifyDate: 2021:03:15 01:16:33+03:00
- Rating: 0
- XMP-xmpMM
- PreservedFileName: 03090017.SRW
- Просмотров: 192
- Рейтинг: голосов еще нет
- Отзывов: 0