| » Участники » Mutaborr » LF © August 09 » 2017.08.09 _ 8NN042.jpg |
Уважаемые друзья и участники проекта iXBT.photo! К сожалению, 1 марта 2026 года проект iXBT.photo прекратит свою работу и будет закрыт. Мы высоко ценим ваше участие и тот вклад, который вы внесли в развитие нашего сообщества. Пожалуйста, не забудьте сохранить ваши фотографии до этой даты.
С уважением, команда iXBT.com
| 2017.08.09 _ 8NN042.jpg |
2017.08.09 _ 8NN042.jpg
- Раздел: Активный отдых, туризм
- Дата съёмки: неизвестно
- Дата загрузки фото: 27.04.2021 10:15
- Оригинальная фотография: 7360 x 4912 (9,7 Мб)
- Технические характеристики:
- Фотоаппарат: Nikon D810
- Выдержка: 0,0
- Гиперфокальное расстояние: inf m
- Диафрагма: 5,0
- Светочувствительность: 125
- Фокусное расстояние: 24,0 mm (35 mm equivalent: 24,0 mm)
- Полный EXIF
- Adobe
- ColorTransform: YCbCr
- Composite
- Aperture: 5,0
- CircleOfConfusion: 0,030 mm
- FOV: 73,0 deg
- FocalLength35efl: 24,0 mm (35 mm equivalent: 24,0 mm)
- GPSAltitude: 68 m Above Sea Level
- GPSLatitude: 55 deg 24' 32,00" N
- GPSLongitude: 38 deg 10' 7,00" E
- GPSPosition: 55 deg 24' 32,00" N, 38 deg 10' 7,00" E
- HyperfocalDistance: inf m
- LensID: AF-S Zoom-Nikkor 24-70mm f/2.8G ED
- Megapixels: 36,2
- ScaleFactor35efl: 1,0
- ShutterSpeed: 0,0
- ExifIFD
- ApertureValue: 4,0
- CFAPattern: [Red,Green][Green,Blue]
- ColorSpace: sRGB
- Contrast: Normal
- CreateDate: 2017:08:09 09:14:09
- CustomRendered: Normal
- DateTimeOriginal: 2017:08:09 09:14:09
- DigitalZoomRatio: 1
- ExifImageHeight: 4912
- ExifImageWidth: 7360
- ExposureCompensation: 0
- ExposureMode: Auto
- ExposureProgram: Aperture-priority AE
- ExposureTime: 0,0
- FNumber: 5,0
- Flash: Off, Did not fire
- FocalLength: 24,0 mm
- FocalLengthIn35mmFormat: 24 mm
- GainControl: None
- ISO: 125
- LensInfo: 24-70mm f/2.8
- LensModel: 24.0-70.0 mm f/2.8
- LightSource: Unknown
- MaxApertureValue: 2,8
- MeteringMode: Multi-segment
- Saturation: Normal
- SceneCaptureType: Landscape
- SceneType: Directly photographed
- SensingMethod: One-chip color area
- SensitivityType: Recommended Exposure Index
- SerialNumber: 6017474
- Sharpness: Normal
- ShutterSpeedValue: 1/64
- SubjectDistanceRange: Unknown
- WhiteBalance: Auto
- GPS
- GPSAltitude: 68 m
- GPSAltitudeRef: Above Sea Level
- GPSLatitude: 55 deg 24' 32,00"
- GPSLatitudeRef: North
- GPSLongitude: 38 deg 10' 7,00"
- GPSLongitudeRef: East
- GPSMapDatum: WGS-84
- GPSSpeed: 0
- GPSSpeedRef: km/h
- GPSVersionID: 2.3.0.0
- ICC-header
- ICC-meas
- ICC-view
- IFD0
- Artist: <- Mutaborr ->
- Copyright: <- Mutaborr ->
- Make: NIKON CORPORATION
- Model: NIKON D810
- ModifyDate: 2017:09:21 20:13:19
- Orientation: Horizontal (normal)
- IFD1
- IPTC
- By-line: <- Mutaborr ->
- CopyrightNotice: <- Mutaborr ->
- DateCreated: 2017:08:09
- System
- XMP-aux
- ApproximateFocusDistance: 4294967295
- ImageNumber: 7390
- LateralChromaticAberrationCorrectionAlreadyApplied: True
- Lens: 24.0-70.0 mm f/2.8
- LensID: 147
- VignetteCorrectionAlreadyApplied: True
- XMP-crs
- AlreadyApplied: True
- AutoLateralCA: 1
- AutoWhiteVersion: 134348800
- Blacks2012: +16
- BlueHue: 0
- BlueSaturation: 0
- CameraProfile: Camera Landscape
- Clarity2012: 0
- ColorNoiseReduction: 25
- ColorNoiseReductionDetail: 50
- ColorNoiseReductionSmoothness: 50
- ColorTemperature: 5550
- Contrast2012: 0
- ConvertToGrayscale: False
- DefringeGreenAmount: 1
- DefringeGreenHueHi: 60
- DefringeGreenHueLo: 40
- DefringePurpleAmount: 1
- DefringePurpleHueHi: 70
- DefringePurpleHueLo: 30
- Dehaze: 0
- Exposure2012: -0.40
- GrainAmount: 0
- GreenHue: 0
- GreenSaturation: 0
- HasCrop: False
- HasSettings: True
- Highlights2012: -73
- HueAdjustmentAqua: 0
- HueAdjustmentBlue: 0
- HueAdjustmentGreen: 0
- HueAdjustmentMagenta: 0
- HueAdjustmentOrange: 0
- HueAdjustmentPurple: 0
- HueAdjustmentRed: 0
- HueAdjustmentYellow: 0
- LensManualDistortionAmount: 0
- LensProfileChromaticAberrationScale: 100
- LensProfileDistortionScale: 0
- LensProfileEnable: 1
- LensProfileFilename: NIKON D3X (Nikon FX 24-70mm f2.8 G ED) - RAW.lcp
- LensProfileSetup: Custom
- LensProfileVignettingScale: 100
- LuminanceAdjustmentAqua: 0
- LuminanceAdjustmentBlue: 0
- LuminanceAdjustmentGreen: 0
- LuminanceAdjustmentMagenta: 0
- LuminanceAdjustmentOrange: 0
- LuminanceAdjustmentPurple: 0
- LuminanceAdjustmentRed: 0
- LuminanceAdjustmentYellow: 0
- LuminanceSmoothing: 0
- ParametricDarks: 0
- ParametricHighlightSplit: 75
- ParametricHighlights: 0
- ParametricLights: 0
- ParametricMidtoneSplit: 50
- ParametricShadowSplit: 25
- ParametricShadows: 0
- PerspectiveAspect: 0
- PerspectiveHorizontal: 0
- PerspectiveRotate: 0.0
- PerspectiveScale: 100
- PerspectiveUpright: 0
- PerspectiveVertical: 0
- PerspectiveX: 0.00
- PerspectiveY: 0.00
- PostCropVignetteAmount: 0
- ProcessVersion: 6.7
- RawFileName: NEF_7293.NEF
- RedHue: 0
- RedSaturation: 0
- Saturation: 0
- SaturationAdjustmentAqua: 0
- SaturationAdjustmentBlue: 0
- SaturationAdjustmentGreen: 0
- SaturationAdjustmentMagenta: 0
- SaturationAdjustmentOrange: 0
- SaturationAdjustmentPurple: 0
- SaturationAdjustmentRed: 0
- SaturationAdjustmentYellow: 0
- ShadowTint: 0
- Shadows2012: +66
- SharpenDetail: 25
- SharpenEdgeMasking: 0
- SharpenRadius: +1.0
- Sharpness: 25
- SplitToningBalance: 0
- SplitToningHighlightHue: 0
- SplitToningHighlightSaturation: 0
- SplitToningShadowHue: 0
- SplitToningShadowSaturation: 0
- Tint: +3
- ToneCurve: 0, 0, 32, 22, 64, 56, 128, 128, 192, 196, 255, 255
- ToneCurveBlue: 0, 0, 255, 255
- ToneCurveGreen: 0, 0, 255, 255
- ToneCurveName: Medium Contrast
- ToneCurveName2012: Linear
- ToneCurvePV2012: 0, 0, 255, 255
- ToneCurvePV2012Blue: 0, 0, 255, 255
- ToneCurvePV2012Green: 0, 0, 255, 255
- ToneCurvePV2012Red: 0, 0, 255, 255
- ToneCurveRed: 0, 0, 255, 255
- ToneMapStrength: 0
- Version: 9.10
- Vibrance: 0
- VignetteAmount: 0
- WhiteBalance: Custom
- Whites2012: 0
- XMP-dc
- Creator: <- Mutaborr ->
- Format: image/jpeg
- Rights: <- Mutaborr ->
- XMP-xmp
- CreatorTool: NIKON D810 Ver.1.12
- ModifyDate: 2017:09:21 20:13:19+03:00
- Rating: 0
- XMP-xmpMM
- Просмотров: 46
- Рейтинг: голосов еще нет
- Отзывов: отключены
Получить код для блога
| Вставка фотографии в текущем разрешении |
Вставка миниатюры |
HTML (для вставки в блог):
BBCode (для вставки в форум):
Ссылка на фото:
Ссылка на миниатюру:
- Послать ссылку другу
| Комментарии к фотографии |