- Раздел: Другое, разное
- Дата съёмки: неизвестно
- Дата загрузки фото: 01.06.2021 11:56
- Оригинальная фотография: 4542 x 2827 (3,1 Мб)
- Технические характеристики:
- Фотоаппарат: Olympus E-PL6
- Выдержка: 0,0
- Гиперфокальное расстояние: inf m
- Диафрагма: 6,3
- Светочувствительность: 200
- Фокусное расстояние: 12,0 mm (35 mm equivalent: 24,0 mm)
- Полный EXIF
- Adobe
- ColorTransform: YCbCr
- Composite
- Aperture: 6,3
- CircleOfConfusion: 0,015 mm
- FOV: 73,0 deg
- FocalLength35efl: 12,0 mm (35 mm equivalent: 24,0 mm)
- HyperfocalDistance: inf m
- Megapixels: 12,8
- ScaleFactor35efl: 2,0
- ShutterSpeed: 0,0
- ExifIFD
- ApertureValue: 5,7
- CFAPattern: [Red,Green][Green,Blue]
- ColorSpace: sRGB
- Contrast: Normal
- CreateDate: 2021:06:01 09:31:28
- CustomRendered: Normal
- DateTimeOriginal: 2021:06:01 09:31:28
- DigitalZoomRatio: 1
- ExifImageHeight: 2827
- ExifImageWidth: 4542
- ExposureCompensation: 0
- ExposureMode: Manual
- ExposureProgram: Aperture-priority AE
- ExposureTime: 0,0
- FNumber: 6,3
- Flash: Auto, Did not fire, Red-eye reduction
- FocalLength: 12,0 mm
- FocalLengthIn35mmFormat: 24 mm
- GainControl: Low gain up
- ISO: 200
- LensInfo: 12-32mm f/3.5-5.6
- LensModel: LUMIX G VARIO 12-32/F3.5-5.6
- LensSerialNumber: 08JX2250514A
- LightSource: Unknown
- MaxApertureValue: 2,8
- MeteringMode: Multi-segment
- Saturation: Normal
- SceneCaptureType: Standard
- SensitivityType: Standard Output Sensitivity
- SerialNumber: V5TF41167
- Sharpness: Normal
- ShutterSpeedValue: 1/512
- WhiteBalance: Auto
- ICC-header
- ICC-meas
- ICC-view
- IFD0
- BitsPerSample: 8 8 8
- ImageDescription: OLYMPUS DIGITAL CAMERA
- ImageHeight: 2827
- ImageWidth: 4542
- Make: OLYMPUS IMAGING CORP.
- Model: E-PL6
- ModifyDate: 2021:06:01 11:50:44
- Orientation: Horizontal (normal)
- PhotometricInterpretation: RGB
- SamplesPerPixel: 3
- IFD1
- IPTC
- Caption-Abstract: OLYMPUS DIGITAL CAMERA
- DateCreated: 2021:06:01
- System
- XMP-aux
- ApproximateFocusDistance: 1,35
- DistortionCorrectionAlreadyApplied: True
- FlashCompensation: 0
- Lens: LUMIX G VARIO 12-32/F3.5-5.6
- XMP-crs
- AlreadyApplied: True
- AutoLateralCA: 0
- Blacks2012: -18
- BlueHue: 0
- BlueSaturation: 0
- CameraProfile: Camera Natural
- Clarity2012: 0
- ColorNoiseReduction: 25
- ColorNoiseReductionDetail: 50
- ColorNoiseReductionSmoothness: 50
- ColorTemperature: 5500
- Contrast2012: +6
- ConvertToGrayscale: False
- CropAngle: 1.37183
- CropBottom: 0.851221
- CropConstrainToWarp: 0
- CropLeft: 0.014686
- CropRight: 0.985314
- CropTop: 0.002101
- DefringeGreenAmount: 0
- DefringeGreenHueHi: 60
- DefringeGreenHueLo: 40
- DefringePurpleAmount: 0
- DefringePurpleHueHi: 70
- DefringePurpleHueLo: 30
- Dehaze: 0
- Exposure2012: +0.21
- GradientBasedCorrActive: true
- GradientBasedCorrAmount: 1.000000
- GradientBasedCorrBrightness: 0.000000
- GradientBasedCorrClarity2012: 0.156070
- GradientBasedCorrContrast2012: 0.000000
- GradientBasedCorrCorrectionRangeMaskColorAmount: 0.500000
- GradientBasedCorrCorrectionRangeMaskDepthFeather: 0.500000
- GradientBasedCorrCorrectionRangeMaskDepthMax: 1.000000
- GradientBasedCorrCorrectionRangeMaskDepthMin: 0.000000
- GradientBasedCorrCorrectionRangeMaskLumFeather: 0.500000
- GradientBasedCorrCorrectionRangeMaskLumMax: 1.000000
- GradientBasedCorrCorrectionRangeMaskLumMin: 0.000000
- GradientBasedCorrCorrectionRangeMaskType: 0
- GradientBasedCorrCorrectionRangeMaskVersion: +2
- GradientBasedCorrDefringe: 0.000000
- GradientBasedCorrExposure2012: -0.190750
- GradientBasedCorrHighlights2012: 0.179190
- GradientBasedCorrHue: 0.000000
- GradientBasedCorrLocalBlacks2012: 0.000000
- GradientBasedCorrLocalDehaze: 0.000000
- GradientBasedCorrLocalHue: 0.000000
- GradientBasedCorrLocalTexture: 0.000000
- GradientBasedCorrLocalWhites2012: 0.225430
- GradientBasedCorrLuminanceNoise: 0.000000
- GradientBasedCorrMaskFullX: 0.552177
- GradientBasedCorrMaskFullY: 0.249217
- GradientBasedCorrMaskValue: 1.000000
- GradientBasedCorrMaskWhat: Mask/Gradient
- GradientBasedCorrMaskZeroX: 0.551078
- GradientBasedCorrMaskZeroY: 0.310426
- GradientBasedCorrMoire: 0.000000
- GradientBasedCorrSaturation: 0.000000
- GradientBasedCorrShadows2012: 0.271680
- GradientBasedCorrSharpness: 0.190750
- GradientBasedCorrTemperature: 0.000000
- GradientBasedCorrTint: 0.000000
- GradientBasedCorrWhat: Correction
- GrainAmount: 0
- GreenHue: 0
- GreenSaturation: 0
- HasCrop: True
- HasSettings: True
- Highlights2012: -100
- HueAdjustmentAqua: 0
- HueAdjustmentBlue: 0
- HueAdjustmentGreen: 0
- HueAdjustmentMagenta: 0
- HueAdjustmentOrange: 0
- HueAdjustmentPurple: 0
- HueAdjustmentRed: 0
- HueAdjustmentYellow: 0
- LensManualDistortionAmount: 0
- LensProfileEnable: 0
- LensProfileSetup: LensDefaults
- LuminanceAdjustmentAqua: 0
- LuminanceAdjustmentBlue: 0
- LuminanceAdjustmentGreen: 0
- LuminanceAdjustmentMagenta: 0
- LuminanceAdjustmentOrange: 0
- LuminanceAdjustmentPurple: 0
- LuminanceAdjustmentRed: 0
- LuminanceAdjustmentYellow: 0
- LuminanceSmoothing: 0
- OverrideLookVignette: False
- ParametricDarks: 0
- ParametricHighlightSplit: 75
- ParametricHighlights: 0
- ParametricLights: 0
- ParametricMidtoneSplit: 50
- ParametricShadowSplit: 25
- ParametricShadows: 0
- PerspectiveAspect: 0
- PerspectiveHorizontal: 0
- PerspectiveRotate: 0.0
- PerspectiveScale: 100
- PerspectiveUpright: 0
- PerspectiveVertical: 0
- PerspectiveX: 0.00
- PerspectiveY: 0.00
- PostCropVignetteAmount: 0
- ProcessVersion: 11.0
- RawFileName: P6012801.ORF
- RedHue: 0
- RedSaturation: 0
- Saturation: +5
- SaturationAdjustmentAqua: 0
- SaturationAdjustmentBlue: 0
- SaturationAdjustmentGreen: 0
- SaturationAdjustmentMagenta: 0
- SaturationAdjustmentOrange: 0
- SaturationAdjustmentPurple: 0
- SaturationAdjustmentRed: 0
- SaturationAdjustmentYellow: 0
- ShadowTint: 0
- Shadows2012: +81
- SharpenDetail: 25
- SharpenEdgeMasking: 0
- SharpenRadius: +1.0
- Sharpness: 40
- SplitToningBalance: 0
- SplitToningHighlightHue: 0
- SplitToningHighlightSaturation: 0
- SplitToningShadowHue: 0
- SplitToningShadowSaturation: 0
- Texture: 0
- Tint: +5
- ToneCurve: 0, 0, 255, 255
- ToneCurveBlue: 0, 0, 255, 255
- ToneCurveGreen: 0, 0, 255, 255
- ToneCurveName: Linear
- ToneCurveName2012: Linear
- ToneCurvePV2012: 0, 0, 255, 255
- ToneCurvePV2012Blue: 0, 0, 255, 255
- ToneCurvePV2012Green: 0, 0, 255, 255
- ToneCurvePV2012Red: 0, 0, 255, 255
- ToneCurveRed: 0, 0, 255, 255
- ToneMapStrength: 0
- Version: 12.4
- Vibrance: +19
- VignetteAmount: 0
- WhiteBalance: As Shot
- Whites2012: +4
- XMP-dc
- Description: OLYMPUS DIGITAL CAMERA
- Format: image/jpeg
- XMP-exifEX
- XMP-xmp
- ModifyDate: 2021:06:01 11:50:44+03:00
- XMP-xmpMM
- PreservedFileName: P6012801.ORF
- Просмотров: 64
- Рейтинг: голосов еще нет
- Отзывов: отключены