- Раздел: Другое, разное
- Дата съёмки: неизвестно
- Дата загрузки фото: 06.06.2021 18:27
- Оригинальная фотография: 4168 x 2440 (2,1 Мб)
- Технические характеристики:
- Фотоаппарат: Canon EOS 5D
- Выдержка: 0,0
- Гиперфокальное расстояние: inf m
- Диафрагма: 10,0
- Светочувствительность: 200
- Фокусное расстояние: 50,0 mm (35 mm equivalent: 50,0 mm)
- Полный EXIF
- Adobe
- ColorTransform: YCbCr
- Composite
- Aperture: 10,0
- CircleOfConfusion: 0,030 mm
- FOV: 39,0 deg
- FocalLength35efl: 50,0 mm (35 mm equivalent: 50,0 mm)
- HyperfocalDistance: inf m
- LensID: Canon EF 28-70mm f/2.8L or Sigma or Tamron Lens
- Megapixels: 10,2
- ScaleFactor35efl: 1,0
- ShutterSpeed: 0,0
- ExifIFD
- ApertureValue: 8,0
- ColorSpace: sRGB
- CreateDate: 2021:06:06 16:54:42
- CustomRendered: Normal
- DateTimeOriginal: 2021:06:06 16:54:42
- ExifImageHeight: 2440
- ExifImageWidth: 4168
- ExposureCompensation: 0
- ExposureMode: Auto
- ExposureProgram: Aperture-priority AE
- ExposureTime: 0,0
- FNumber: 10,0
- Flash: Off, Did not fire
- FocalLength: 50,0 mm
- ISO: 200
- LensInfo: 28-75mm f/?
- LensModel: 28.0-75.0 mm
- MaxApertureValue: 2,8
- MeteringMode: Unknown
- SceneCaptureType: Standard
- SerialNumber: 920601645
- ShutterSpeedValue: 1/256
- WhiteBalance: Auto
- ICC-header
- ICC-meas
- ICC-view
- IFD0
- BitsPerSample: 8 8 8
- ImageHeight: 2551
- ImageWidth: 4245
- Make: Canon
- Model: Canon EOS 5D
- ModifyDate: 2021:06:06 18:27:07
- Orientation: Horizontal (normal)
- PhotometricInterpretation: RGB
- SamplesPerPixel: 3
- IFD1
- IPTC
- DateCreated: 2021:06:06
- System
- XMP-aux
- DistortionCorrectionAlreadyApplied: True
- Firmware: 1.1.1
- FlashCompensation: 0
- ImageNumber: 7
- Lens: 28.0-75.0 mm
- LensID: 161
- VignetteCorrectionAlreadyApplied: True
- XMP-crs
- AlreadyApplied: True
- AutoLateralCA: 0
- Blacks2012: -19
- BlueHue: 0
- BlueSaturation: 0
- CameraProfile: Camera Standard
- Clarity2012: +13
- ColorNoiseReduction: 25
- ColorNoiseReductionDetail: 50
- ColorNoiseReductionSmoothness: 50
- ColorTemperature: 5750
- Contrast2012: +6
- ConvertToGrayscale: False
- CropAngle: 2.8489
- CropBottom: 0.954641
- CropConstrainToWarp: 0
- CropLeft: 0.02903
- CropRight: 0.970705
- CropTop: 0.007162
- DefringeGreenAmount: 0
- DefringeGreenHueHi: 60
- DefringeGreenHueLo: 40
- DefringePurpleAmount: 0
- DefringePurpleHueHi: 70
- DefringePurpleHueLo: 30
- Dehaze: 0
- Exposure2012: +0.33
- GradientBasedCorrActive: true
- GradientBasedCorrAmount: 1.000000
- GradientBasedCorrBrightness: 0.000000
- GradientBasedCorrClarity2012: 0.179190
- GradientBasedCorrContrast2012: 0.000000
- GradientBasedCorrCorrectionRangeMaskColorAmount: 0.500000
- GradientBasedCorrCorrectionRangeMaskDepthFeather: 0.500000
- GradientBasedCorrCorrectionRangeMaskDepthMax: 1.000000
- GradientBasedCorrCorrectionRangeMaskDepthMin: 0.000000
- GradientBasedCorrCorrectionRangeMaskLumFeather: 0.500000
- GradientBasedCorrCorrectionRangeMaskLumMax: 1.000000
- GradientBasedCorrCorrectionRangeMaskLumMin: 0.000000
- GradientBasedCorrCorrectionRangeMaskType: 0
- GradientBasedCorrCorrectionRangeMaskVersion: +2
- GradientBasedCorrDefringe: 0.000000
- GradientBasedCorrExposure2012: -0.260000
- GradientBasedCorrHighlights2012: 0.179190
- GradientBasedCorrHue: 0.000000
- GradientBasedCorrLocalBlacks2012: 0.000000
- GradientBasedCorrLocalDehaze: 0.000000
- GradientBasedCorrLocalHue: 0.000000
- GradientBasedCorrLocalTexture: 0.000000
- GradientBasedCorrLocalWhites2012: 0.121390
- GradientBasedCorrLuminanceNoise: 0.000000
- GradientBasedCorrMaskFullX: 0.493122
- GradientBasedCorrMaskFullY: 0.495715
- GradientBasedCorrMaskValue: 1.000000
- GradientBasedCorrMaskWhat: Mask/Gradient
- GradientBasedCorrMaskZeroX: 0.486921
- GradientBasedCorrMaskZeroY: 0.631830
- GradientBasedCorrMoire: 0.000000
- GradientBasedCorrSaturation: 0.000000
- GradientBasedCorrShadows2012: 0.352600
- GradientBasedCorrSharpness: 0.144510
- GradientBasedCorrTemperature: 0.000000
- GradientBasedCorrTint: 0.000000
- GradientBasedCorrWhat: Correction
- GrainAmount: 0
- GreenHue: 0
- GreenSaturation: 0
- HasCrop: True
- HasSettings: True
- Highlights2012: -56
- HueAdjustmentAqua: 0
- HueAdjustmentBlue: 0
- HueAdjustmentGreen: 0
- HueAdjustmentMagenta: 0
- HueAdjustmentOrange: 0
- HueAdjustmentPurple: 0
- HueAdjustmentRed: 0
- HueAdjustmentYellow: 0
- LensManualDistortionAmount: 0
- LensProfileChromaticAberrationScale: 100
- LensProfileDistortionScale: 100
- LensProfileEnable: 1
- LensProfileFilename: Canon EOS-1Ds Mark III (Tamron Di 28-75mm f2.8 SP XR LD IF) - RAW.lcp
- LensProfileIsEmbedded: False
- LensProfileSetup: LensDefaults
- LensProfileVignettingScale: 100
- LuminanceAdjustmentAqua: 0
- LuminanceAdjustmentBlue: 0
- LuminanceAdjustmentGreen: 0
- LuminanceAdjustmentMagenta: 0
- LuminanceAdjustmentOrange: 0
- LuminanceAdjustmentPurple: 0
- LuminanceAdjustmentRed: 0
- LuminanceAdjustmentYellow: 0
- LuminanceSmoothing: 0
- OverrideLookVignette: False
- ParametricDarks: 0
- ParametricHighlightSplit: 75
- ParametricHighlights: 0
- ParametricLights: 0
- ParametricMidtoneSplit: 50
- ParametricShadowSplit: 25
- ParametricShadows: 0
- PerspectiveAspect: 0
- PerspectiveHorizontal: 0
- PerspectiveRotate: 0.0
- PerspectiveScale: 100
- PerspectiveUpright: 0
- PerspectiveVertical: 0
- PerspectiveX: 0.00
- PerspectiveY: 0.00
- PostCropVignetteAmount: 0
- ProcessVersion: 11.0
- RawFileName: IMG_8150.CR2
- RedHue: 0
- RedSaturation: 0
- Saturation: -1
- SaturationAdjustmentAqua: 0
- SaturationAdjustmentBlue: 0
- SaturationAdjustmentGreen: 0
- SaturationAdjustmentMagenta: 0
- SaturationAdjustmentOrange: 0
- SaturationAdjustmentPurple: 0
- SaturationAdjustmentRed: 0
- SaturationAdjustmentYellow: 0
- ShadowTint: 0
- Shadows2012: +100
- SharpenDetail: 25
- SharpenEdgeMasking: 0
- SharpenRadius: +1.0
- Sharpness: 40
- SplitToningBalance: 0
- SplitToningHighlightHue: 0
- SplitToningHighlightSaturation: 0
- SplitToningShadowHue: 0
- SplitToningShadowSaturation: 0
- Texture: 0
- Tint: +4
- ToneCurve: 0, 0, 255, 255
- ToneCurveBlue: 0, 0, 255, 255
- ToneCurveGreen: 0, 0, 255, 255
- ToneCurveName: Linear
- ToneCurveName2012: Linear
- ToneCurvePV2012: 0, 0, 255, 255
- ToneCurvePV2012Blue: 0, 0, 255, 255
- ToneCurvePV2012Green: 0, 0, 255, 255
- ToneCurvePV2012Red: 0, 0, 255, 255
- ToneCurveRed: 0, 0, 255, 255
- ToneMapStrength: 0
- Version: 12.4
- Vibrance: +14
- VignetteAmount: 0
- WhiteBalance: As Shot
- Whites2012: +16
- XMP-dc
- XMP-xmp
- ModifyDate: 2021:06:06 18:27:07+03:00
- XMP-xmpMM
- PreservedFileName: IMG_8150.CR2