- Раздел: Другое, разное
- Дата съёмки: неизвестно
- Дата загрузки фото: 19.08.2021 10:48
- Оригинальная фотография: 10819 x 6382 (46,2 Мб)
- Технические характеристики:
- Фотоаппарат: Panasonic DC-G9
- Выдержка: 0,0
- Гиперфокальное расстояние: inf m
- Диафрагма: 4,0
- Светочувствительность: 100
- Фокусное расстояние: 43,0 mm (35 mm equivalent: 86,0 mm)
- Полный EXIF
- Adobe
- ColorTransform: YCbCr
- Composite
- Aperture: 4,0
- CircleOfConfusion: 0,015 mm
- FOV: 23,0 deg
- FocalLength35efl: 43,0 mm (35 mm equivalent: 86,0 mm)
- HyperfocalDistance: inf m
- Megapixels: 69,0
- ScaleFactor35efl: 2,0
- ShutterSpeed: 0,0
- ExifIFD
- ApertureValue: 4,0
- ColorSpace: sRGB
- Contrast: Low
- CreateDate: 2021:08:12 17:30:21
- CustomRendered: Custom
- DateTimeOriginal: 2021:08:12 17:30:21
- DigitalZoomRatio: 0
- ExposureCompensation: 0
- ExposureMode: Manual
- ExposureProgram: Manual
- ExposureTime: 0,0
- FNumber: 4,0
- Flash: Off, Did not fire
- FocalLength: 43,0 mm
- FocalLengthIn35mmFormat: 86 mm
- GainControl: None
- ISO: 100
- LensModel: XIAOYI 42.5mm F1.8
- LensSerialNumber: 000001050455
- LightSource: Unknown
- MaxApertureValue: 1,4
- MeteringMode: Multi-segment
- Saturation: Low
- SceneCaptureType: Standard
- SceneType: Directly photographed
- SensingMethod: One-chip color area
- SerialNumber: XER1801080085
- Sharpness: Soft
- ShutterSpeedValue: 1/256
- WhiteBalance: Auto
- ICC-header
- ICC-meas
- ICC-view
- IFD0
- Make: Panasonic
- Model: DC-G9
- ModifyDate: 2021:08:19 10:40:01
- IFD1
- IPTC
- DateCreated: 2021:08:12
- System
- XMP-aux
- DistortionCorrectionAlreadyApplied: True
- IsMergedPanorama: True
- LateralChromaticAberrationCorrectionAlreadyApplied: True
- Lens: XIAOYI 42.5mm F1.8
- XMP-crs
- AlreadyApplied: True
- AutoLateralCA: 0
- Blacks2012: -25
- BlueHue: 0
- BlueSaturation: 0
- Clarity2012: 0
- ColorGradeBlending: 50
- ColorGradeGlobalHue: 0
- ColorGradeGlobalLum: 0
- ColorGradeGlobalSat: 0
- ColorGradeHighlightLum: 0
- ColorGradeMidtoneHue: 0
- ColorGradeMidtoneLum: 0
- ColorGradeMidtoneSat: 0
- ColorGradeShadowLum: 0
- ColorNoiseReduction: 25
- ColorNoiseReductionDetail: 50
- ColorNoiseReductionSmoothness: 50
- ColorTemperature: 5250
- Contrast2012: +7
- CropAngle: 0
- CropBottom: 0.93653
- CropConstrainToWarp: 0
- CropLeft: 0.120051
- CropRight: 0.847156
- CropTop: 0.06281
- DefringeGreenAmount: 0
- DefringeGreenHueHi: 60
- DefringeGreenHueLo: 40
- DefringePurpleAmount: 0
- DefringePurpleHueHi: 70
- DefringePurpleHueLo: 30
- Dehaze: 0
- Exposure2012: -0.25
- GrainAmount: 0
- GreenHue: 0
- GreenSaturation: 0
- HasCrop: True
- HasSettings: True
- Highlights2012: -77
- HueAdjustmentAqua: 0
- HueAdjustmentBlue: 0
- HueAdjustmentGreen: 0
- HueAdjustmentMagenta: 0
- HueAdjustmentOrange: 0
- HueAdjustmentPurple: 0
- HueAdjustmentRed: 0
- HueAdjustmentYellow: 0
- LensManualDistortionAmount: 0
- LensProfileEnable: 0
- LookAmount: 1.000000
- LookGroup: Profiles
- LookParametersConvertToGrayscale: False
- LookParametersLookTable: E1095149FDB39D7A057BAB208837E2E1
- LookParametersProcessVersion: 11.0
- LookParametersToneCurvePV2012: 0, 0, 22, 16, 40, 35, 127, 127, 224, 230, 240, 246, 255, 255
- LookParametersToneCurvePV2012Blue: 0, 0, 255, 255
- LookParametersToneCurvePV2012Green: 0, 0, 255, 255
- LookParametersToneCurvePV2012Red: 0, 0, 255, 255
- LookParametersVersion: 13.3
- LookSupportsAmount: false
- LookSupportsMonochrome: false
- LookSupportsOutputReferred: false
- LuminanceAdjustmentAqua: 0
- LuminanceAdjustmentBlue: 0
- LuminanceAdjustmentGreen: 0
- LuminanceAdjustmentMagenta: 0
- LuminanceAdjustmentOrange: 0
- LuminanceAdjustmentPurple: 0
- LuminanceAdjustmentRed: 0
- LuminanceAdjustmentYellow: 0
- LuminanceSmoothing: 0
- OverrideLookVignette: False
- ParametricDarks: 0
- ParametricHighlightSplit: 75
- ParametricHighlights: 0
- ParametricLights: 0
- ParametricMidtoneSplit: 50
- ParametricShadowSplit: 25
- ParametricShadows: 0
- PerspectiveAspect: 0
- PerspectiveHorizontal: 0
- PerspectiveRotate: 0.0
- PerspectiveScale: 100
- PerspectiveUpright: 0
- PerspectiveVertical: 0
- PerspectiveX: 0.00
- PerspectiveY: 0.00
- PostCropVignetteAmount: 0
- ProcessVersion: 11.0
- RawFileName:
- RedHue: 0
- RedSaturation: 0
- Saturation: -1
- SaturationAdjustmentAqua: 0
- SaturationAdjustmentBlue: 0
- SaturationAdjustmentGreen: 0
- SaturationAdjustmentMagenta: 0
- SaturationAdjustmentOrange: 0
- SaturationAdjustmentPurple: 0
- SaturationAdjustmentRed: 0
- SaturationAdjustmentYellow: 0
- ShadowTint: 0
- Shadows2012: +18
- SharpenDetail: 25
- SharpenEdgeMasking: 0
- SharpenRadius: +1.0
- Sharpness: 40
- SplitToningBalance: 0
- SplitToningHighlightHue: 0
- SplitToningHighlightSaturation: 0
- SplitToningShadowHue: 0
- SplitToningShadowSaturation: 0
- Texture: 0
- Tint: +15
- ToneCurveName2012: Linear
- ToneCurvePV2012: 0, 0, 255, 255
- ToneCurvePV2012Blue: 0, 0, 255, 255
- ToneCurvePV2012Green: 0, 0, 255, 255
- ToneCurvePV2012Red: 0, 0, 255, 255
- Version: 13.3
- Vibrance: +15
- VignetteAmount: 0
- WhiteBalance: As Shot
- Whites2012: +29
- XMP-dc
- XMP-exifEX
- XMP-panorama
- Transformation: Spherical
- VirtualFocalLength: 1.057516
- VirtualImageXCenter: 0.460123
- VirtualImageYCenter: 0.356944
- XMP-xmp
- CreateDate: 2021:08:12 17:30:21.4921+02:00
- ModifyDate: 2021:08:19 10:40:01+03:00
- XMP-xmpMM
- PreservedFileName: P1611735.RW2
- Просмотров: 122
- Рейтинг: голосов еще нет
- Отзывов: отключены