- Раздел: Активный отдых, туризм
- Дата съёмки: 23.09.2006 10:36
- Дата загрузки фото: 21.08.2021 11:16
- Оригинальная фотография: 3888 x 2592 (6,1 Мб)
- Технические характеристики:
- Фотоаппарат: Sony DSC-R1
- Выдержка: 0,0
- Диафрагма: 5,0
- Светочувствительность: 160
- Фокусное расстояние: 20,0 mm
- Полный EXIF
- Adobe
- ColorTransform: YCbCr
- Composite
- Aperture: 5,0
- FocalLength35efl: 20,0 mm
- GPSLatitude: 54 deg 42' 31,00" N
- GPSLatitudeRef: North
- GPSLongitude: 37 deg 46' 9,00" E
- GPSLongitudeRef: East
- GPSPosition: 54 deg 42' 31,00" N, 37 deg 46' 9,00" E
- Megapixels: 10,1
- ShutterSpeed: 0,0
- ExifIFD
- ApertureValue: 4,0
- ColorSpace: sRGB
- Contrast: Normal
- CreateDate: 2006:09:23 10:36:11
- CustomRendered: Custom
- DateTimeOriginal: 2006:09:23 10:36:11
- ExifImageHeight: 2592
- ExifImageWidth: 3888
- ExposureCompensation: 0
- ExposureMode: Manual
- ExposureProgram: Aperture-priority AE
- ExposureTime: 0,0
- FNumber: 5,0
- Flash: Off, Did not fire
- FocalLength: 20,0 mm
- ISO: 160
- LightSource: Unknown
- MaxApertureValue: 2,0
- MeteringMode: Multi-segment
- Saturation: Normal
- SceneCaptureType: Standard
- SceneType: Directly photographed
- Sharpness: Hard
- ShutterSpeedValue: 1/256
- WhiteBalance: Auto
- GPS
- GPSLatitude: 54 deg 42' 31,00"
- GPSLongitude: 37 deg 46' 9,00"
- GPSMapDatum: WGS-84
- GPSVersionID: 2.3.0.0
- ICC-header
- ICC-meas
- ICC-view
- IFD0
- Make: SONY
- Model: DSC-R1
- ModifyDate: 2020:04:03 14:54:34
- Orientation: Horizontal (normal)
- IFD1
- IPTC
- DateCreated: 2006:09:23
- System
- XMP-aux
- LateralChromaticAberrationCorrectionAlreadyApplied: True
- Lens: 14.3-71.5 mm f/2.8-4.8
- LensInfo: 14.3-71.5mm f/2.8-4.8
- XMP-crs
- AlreadyApplied: True
- AutoLateralCA: 1
- Blacks2012: 0
- BlueHue: 0
- BlueSaturation: 0
- Clarity2012: 0
- ColorNoiseReduction: 25
- ColorNoiseReductionDetail: 50
- ColorNoiseReductionSmoothness: 50
- ColorTemperature: 5450
- Contrast2012: +26
- ConvertToGrayscale: False
- DefringeGreenAmount: 1
- DefringeGreenHueHi: 60
- DefringeGreenHueLo: 40
- DefringePurpleAmount: 1
- DefringePurpleHueHi: 70
- DefringePurpleHueLo: 30
- Dehaze: 0
- Exposure2012: +0.90
- GrainAmount: 0
- GreenHue: 0
- GreenSaturation: 0
- HasCrop: False
- HasSettings: True
- Highlights2012: -38
- HueAdjustmentAqua: 0
- HueAdjustmentBlue: 0
- HueAdjustmentGreen: 0
- HueAdjustmentMagenta: 0
- HueAdjustmentOrange: 0
- HueAdjustmentPurple: 0
- HueAdjustmentRed: 0
- HueAdjustmentYellow: 0
- LensManualDistortionAmount: 0
- LensProfileEnable: 0
- LensProfileSetup: LensDefaults
- LookAmount: 1.000000
- LookGroup: Profiles
- LookParametersClarity2012: +10
- LookParametersConvertToGrayscale: False
- LookParametersHighlights2012: -12
- LookParametersLookTable: 0B3BFB5CFB7DBF7FF175E98F24D316B0
- LookParametersProcessVersion: 11.0
- LookParametersShadows2012: +12
- LookParametersToneCurvePV2012: 0, 0, 64, 60, 128, 128, 192, 196, 255, 255
- LookParametersVersion: 11.4
- LookSupportsAmount: false
- LookSupportsMonochrome: false
- LookSupportsOutputReferred: false
- LuminanceAdjustmentAqua: 0
- LuminanceAdjustmentBlue: 0
- LuminanceAdjustmentGreen: 0
- LuminanceAdjustmentMagenta: 0
- LuminanceAdjustmentOrange: 0
- LuminanceAdjustmentPurple: 0
- LuminanceAdjustmentRed: 0
- LuminanceAdjustmentYellow: 0
- LuminanceSmoothing: 0
- OverrideLookVignette: False
- ParametricDarks: 0
- ParametricHighlightSplit: 75
- ParametricHighlights: 0
- ParametricLights: 0
- ParametricMidtoneSplit: 50
- ParametricShadowSplit: 25
- ParametricShadows: 0
- PerspectiveAspect: 0
- PerspectiveHorizontal: 0
- PerspectiveRotate: 0.0
- PerspectiveScale: 100
- PerspectiveUpright: 0
- PerspectiveVertical: 0
- PerspectiveX: 0.00
- PerspectiveY: 0.00
- PostCropVignetteAmount: 0
- ProcessVersion: 11.0
- RawFileName: DSC01367.SR2
- RedHue: 0
- RedSaturation: 0
- Saturation: 0
- SaturationAdjustmentAqua: 0
- SaturationAdjustmentBlue: -15
- SaturationAdjustmentGreen: 0
- SaturationAdjustmentMagenta: 0
- SaturationAdjustmentOrange: 0
- SaturationAdjustmentPurple: 0
- SaturationAdjustmentRed: 0
- SaturationAdjustmentYellow: 0
- ShadowTint: 0
- Shadows2012: +85
- SharpenDetail: 25
- SharpenEdgeMasking: 0
- SharpenRadius: +1.0
- Sharpness: 40
- SplitToningBalance: 0
- SplitToningHighlightHue: 0
- SplitToningHighlightSaturation: 0
- SplitToningShadowHue: 0
- SplitToningShadowSaturation: 0
- Texture: 0
- Tint: -2
- ToneCurve: 0, 0, 32, 22, 64, 56, 128, 128, 192, 196, 255, 255
- ToneCurveBlue: 0, 0, 255, 255
- ToneCurveGreen: 0, 0, 255, 255
- ToneCurveName: Medium Contrast
- ToneCurveName2012: Linear
- ToneCurvePV2012: 0, 0, 255, 255
- ToneCurvePV2012Blue: 0, 0, 255, 255
- ToneCurvePV2012Green: 0, 0, 255, 255
- ToneCurvePV2012Red: 0, 0, 255, 255
- ToneCurveRed: 0, 0, 255, 255
- ToneMapStrength: 0
- Version: 11.4
- Vibrance: 0
- VignetteAmount: 0
- WhiteBalance: As Shot
- Whites2012: +35
- XMP-dc
- XMP-exif
- XMP-x
- XMP-xmp
- ModifyDate: 2020:04:03 14:54:34+03:00
- Rating: 0
- XMP-xmpMM
- Просмотров: 10
- Рейтинг: голосов еще нет
- Отзывов: отключены