| » Участники » Mutaborr » NJ © July 31 » 2015.07.31 _ OL104.jpg |
Уважаемые друзья и участники проекта iXBT.photo! К сожалению, 1 марта 2026 года проект iXBT.photo прекратит свою работу и будет закрыт. Мы высоко ценим ваше участие и тот вклад, который вы внесли в развитие нашего сообщества. Пожалуйста, не забудьте сохранить ваши фотографии до этой даты.
С уважением, команда iXBT.com
| 2015.07.31 _ OL104.jpg |
2015.07.31 _ OL104.jpg
- Раздел: Активный отдых, туризм
- Дата съёмки: 31.07.2015 15:05
- Дата загрузки фото: 25.08.2021 09:59
- Оригинальная фотография: 4608 x 3072 (2,8 Мб)
- Технические характеристики:
- Фотоаппарат: Olympus E-M5
- Выдержка: 0,0
- Гиперфокальное расстояние: inf m
- Диафрагма: 5,6
- Светочувствительность: 200
- Фокусное расстояние: 45,0 mm (35 mm equivalent: 90,0 mm)
- Полный EXIF
- Adobe
- ColorTransform: YCbCr
- Composite
- Aperture: 5,6
- CircleOfConfusion: 0,015 mm
- FOV: 22,0 deg
- FocalLength35efl: 45,0 mm (35 mm equivalent: 90,0 mm)
- GPSAltitude: 181 m Above Sea Level
- GPSDateTime: 2015:07:31 12:05:11Z
- GPSLatitude: 55 deg 8' 24,00" N
- GPSLatitudeRef: North
- GPSLongitude: 38 deg 27' 12,00" E
- GPSLongitudeRef: East
- GPSPosition: 55 deg 8' 24,00" N, 38 deg 27' 12,00" E
- HyperfocalDistance: inf m
- Megapixels: 14,2
- ScaleFactor35efl: 2,0
- ShutterSpeed: 0,0
- ExifIFD
- ApertureValue: 4,0
- CFAPattern: [Red,Green][Green,Blue]
- ColorSpace: sRGB
- Contrast: Normal
- CreateDate: 2015:07:31 15:05:11
- CustomRendered: Normal
- DateTimeOriginal: 2015:07:31 15:05:11
- DigitalZoomRatio: 1
- ExifImageHeight: 3072
- ExifImageWidth: 4608
- ExposureCompensation: 0
- ExposureMode: Auto
- ExposureProgram: Aperture-priority AE
- ExposureTime: 0,0
- FNumber: 5,6
- Flash: On, Did not fire
- FocalLength: 45,0 mm
- FocalLengthIn35mmFormat: 90 mm
- GainControl: Low gain up
- ISO: 200
- LensInfo: 14-45mm f/3.5-5.6
- LensModel: LUMIX G VARIO 14-45/F3.5-5.6
- LensSerialNumber: 01HG1012199
- LightSource: Unknown
- MaxApertureValue: 2,8
- MeteringMode: Multi-segment
- Saturation: High
- SceneCaptureType: Standard
- SensitivityType: Standard Output Sensitivity
- SerialNumber: BEK501834
- Sharpness: Hard
- ShutterSpeedValue: 1/256
- WhiteBalance: Auto
- GPS
- GPSAltitude: 181,800003 m
- GPSAltitudeRef: Above Sea Level
- GPSDateStamp: 2015:07:31
- GPSLatitude: 55 deg 8' 24,00"
- GPSLongitude: 38 deg 27' 12,00"
- GPSMapDatum: WGS-84
- GPSTimeStamp: 12:05:11
- GPSVersionID: 2.2.0.0
- ICC-header
- ICC-meas
- ICC-view
- IFD0
- Artist: <= Mutaborr =>
- Copyright: KIP
- ImageDescription: OLYMPUS DIGITAL CAMERA
- Make: OLYMPUS IMAGING CORP.
- Model: E-M5
- ModifyDate: 2015:07:31 15:05:11
- Orientation: Horizontal (normal)
- IFD1
- IPTC
- By-line: <= Mutaborr =>
- Caption-Abstract: OLYMPUS DIGITAL CAMERA
- CopyrightNotice: KIP
- DateCreated: 2015:07:31
- System
- XMP-aux
- ApproximateFocusDistance: 90
- FlashCompensation: 0
- LateralChromaticAberrationCorrectionAlreadyApplied: True
- Lens: LUMIX G VARIO 14-45/F3.5-5.6
- XMP-crs
- AlreadyApplied: True
- AutoLateralCA: 1
- AutoWhiteVersion: 134348800
- Blacks2012: -7
- BlueHue: 0
- BlueSaturation: 0
- CameraProfile: Camera Natural
- Clarity2012: 0
- ColorNoiseReduction: 25
- ColorNoiseReductionDetail: 50
- ColorNoiseReductionSmoothness: 50
- ColorTemperature: 4900
- Contrast2012: +15
- ConvertToGrayscale: False
- DefringeGreenAmount: 1
- DefringeGreenHueHi: 60
- DefringeGreenHueLo: 40
- DefringePurpleAmount: 1
- DefringePurpleHueHi: 70
- DefringePurpleHueLo: 30
- Dehaze: 0
- Exposure2012: +0.45
- GrainAmount: 0
- GreenHue: 0
- GreenSaturation: 0
- HasCrop: False
- HasSettings: True
- Highlights2012: -81
- HueAdjustmentAqua: 0
- HueAdjustmentBlue: 0
- HueAdjustmentGreen: 0
- HueAdjustmentMagenta: 0
- HueAdjustmentOrange: 0
- HueAdjustmentPurple: 0
- HueAdjustmentRed: 0
- HueAdjustmentYellow: 0
- LensManualDistortionAmount: 0
- LensProfileEnable: 0
- LensProfileSetup: LensDefaults
- LuminanceAdjustmentAqua: 0
- LuminanceAdjustmentBlue: 0
- LuminanceAdjustmentGreen: 0
- LuminanceAdjustmentMagenta: 0
- LuminanceAdjustmentOrange: 0
- LuminanceAdjustmentPurple: 0
- LuminanceAdjustmentRed: 0
- LuminanceAdjustmentYellow: 0
- LuminanceSmoothing: 0
- ParametricDarks: 0
- ParametricHighlightSplit: 75
- ParametricHighlights: 0
- ParametricLights: 0
- ParametricMidtoneSplit: 50
- ParametricShadowSplit: 25
- ParametricShadows: 0
- PerspectiveAspect: 0
- PerspectiveHorizontal: 0
- PerspectiveRotate: 0.0
- PerspectiveScale: 100
- PerspectiveUpright: 0
- PerspectiveVertical: 0
- PostCropVignetteAmount: 0
- ProcessVersion: 6.7
- RawFileName: ORF03359.ORF
- RedHue: 0
- RedSaturation: 0
- Saturation: 0
- SaturationAdjustmentAqua: 0
- SaturationAdjustmentBlue: 0
- SaturationAdjustmentGreen: 0
- SaturationAdjustmentMagenta: 0
- SaturationAdjustmentOrange: 0
- SaturationAdjustmentPurple: 0
- SaturationAdjustmentRed: 0
- SaturationAdjustmentYellow: 0
- ShadowTint: 0
- Shadows2012: 0
- SharpenDetail: 25
- SharpenEdgeMasking: 0
- SharpenRadius: +1.0
- Sharpness: 25
- SplitToningBalance: 0
- SplitToningHighlightHue: 0
- SplitToningHighlightSaturation: 0
- SplitToningShadowHue: 0
- SplitToningShadowSaturation: 0
- Tint: +23
- ToneCurve: 0, 0, 32, 22, 64, 56, 128, 128, 192, 196, 255, 255
- ToneCurveBlue: 0, 0, 255, 255
- ToneCurveGreen: 0, 0, 255, 255
- ToneCurveName: Medium Contrast
- ToneCurveName2012: Linear
- ToneCurvePV2012: 0, 0, 255, 255
- ToneCurvePV2012Blue: 0, 0, 255, 255
- ToneCurvePV2012Green: 0, 0, 255, 255
- ToneCurvePV2012Red: 0, 0, 255, 255
- ToneCurveRed: 0, 0, 255, 255
- ToneMapStrength: 0
- Version: 9.1
- Vibrance: 0
- VignetteAmount: 0
- WhiteBalance: Custom
- Whites2012: 0
- XMP-dc
- Creator: <= Mutaborr =>
- Description: OLYMPUS DIGITAL CAMERA
- Format: image/jpeg
- Rights: KIP
- XMP-exif
- DateTimeDigitized: 2015:07:31 15:05:11+03:00
- DateTimeOriginal: 2015:07:31 15:05:11+03:00
- GPSAltitude: 181,80000300003 m
- XMP-x
- XMP-xmp
- CreatorTool: Version 2.1
- ModifyDate: 2015:07:31 15:05:11+03:00
- XMP-xmpMM
- Просмотров: 51
- Рейтинг: голосов еще нет
- Отзывов: отключены
Получить код для блога
| Вставка фотографии в текущем разрешении |
Вставка миниатюры |
HTML (для вставки в блог):
BBCode (для вставки в форум):
Ссылка на фото:
Ссылка на миниатюру:
- Послать ссылку другу
| Комментарии к фотографии |