- Раздел: Другое, разное
- Дата съёмки: 11.11.2007 23:15
- Дата загрузки фото: 12.11.2007 00:52
- Оригинальная фотография: 2336 x 3504 (1,2 Мб)
- Технические характеристики:
- Фотоаппарат: Canon EOS 30D
- Выдержка: 1/320
- Гиперфокальное расстояние: 8,53 m
- Диафрагма: 10,0
- Светочувствительность: 100
- Фокусное расстояние: 40,0mm (35mm эквивалент: 64,1mm)
- Полный EXIF
- Adobe
- ColorTransform: YCbCr
- Composite
- Aperture: 10,0
- CircleOfConfusion: 0,019 mm
- FocalLength35efl: 40,0mm (35mm equivalent: 64,1mm)
- HyperfocalDistance: 8,53 m
- LightValue: 15,0
- ScaleFactor35efl: 1,6
- ShutterSpeed: 1/320
- ExifIFD
- ApertureValue: 10,0
- ColorSpace: Uncalibrated
- CreateDate: 2007:09:03 14:54:24
- CustomRendered: Normal
- DateTimeOriginal: 2007:09:03 14:54:24
- ExifImageLength: 3504
- ExifImageWidth: 2336
- ExposureCompensation: 0
- ExposureMode: Auto
- ExposureProgram: Program AE
- ExposureTime: 1/320
- FNumber: 10,0
- Flash: Off
- FocalLength: 40,0mm
- ISO: 100
- MaxApertureValue: 4,0
- MeteringMode: Multi-segment
- SceneCaptureType: Standard
- ShutterSpeedValue: 1/320
- WhiteBalance: Auto
- ICC-header
- IFD0
- Artist: Simon Dziuba
- Make: Canon
- Model: Canon EOS 30D
- ModifyDate: 2007:11:11 23:40:28
- Orientation: Horizontal (normal)
- IFD1
- IPTC
- By-line: Simon Dziuba
- XMP-aux
- Firmware: 1.0.5
- FlashCompensation: 0
- ImageNumber: 96
- Lens: EF17-40mm f/4L USM
- LensInfo: 17/1 40/1 0/0 0/0
- OwnerName: Simon Dziuba
- SerialNumber: 1120813013
- XMP-crs
- AlreadyApplied: True
- BlueHue: 0
- BlueSaturation: 0
- Brightness: +65
- CameraProfile: ACR 3.4
- ChromaticAberrationB: 0
- ChromaticAberrationR: 0
- Clarity: 0
- ColorNoiseReduction: 25
- Contrast: +25
- ConvertToGrayscale: False
- Defringe: 0
- Exposure: 0.00
- FillLight: 8
- GreenHue: 0
- GreenSaturation: 0
- HasCrop: False
- HasSettings: True
- HighlightRecovery: 100
- HueAdjustmentAqua: 0
- HueAdjustmentBlue: 0
- HueAdjustmentGreen: 0
- HueAdjustmentMagenta: 0
- HueAdjustmentOrange: 0
- HueAdjustmentPurple: 0
- HueAdjustmentRed: 0
- HueAdjustmentYellow: 0
- LuminanceAdjustmentAqua: 0
- LuminanceAdjustmentBlue: 0
- LuminanceAdjustmentGreen: 0
- LuminanceAdjustmentMagenta: 0
- LuminanceAdjustmentOrange: 0
- LuminanceAdjustmentPurple: 0
- LuminanceAdjustmentRed: 0
- LuminanceAdjustmentYellow: 0
- LuminanceSmoothing: 0
- ParametricDarks: 0
- ParametricHighlightSplit: 75
- ParametricHighlights: 0
- ParametricLights: 0
- ParametricMidtoneSplit: 50
- ParametricShadowSplit: 25
- ParametricShadows: 0
- RawFileName: _MG_5062.CR2
- RedHue: 0
- RedSaturation: 0
- Saturation: 0
- SaturationAdjustmentAqua: 0
- SaturationAdjustmentBlue: 0
- SaturationAdjustmentGreen: 0
- SaturationAdjustmentMagenta: 0
- SaturationAdjustmentOrange: 0
- SaturationAdjustmentPurple: 0
- SaturationAdjustmentRed: 0
- SaturationAdjustmentYellow: 0
- ShadowTint: 0
- Shadows: 5
- SharpenDetail: 25
- SharpenEdgeMasking: 0
- SharpenRadius: +1.0
- Sharpness: 25
- SplitToningBalance: 0
- SplitToningHighlightHue: 0
- SplitToningHighlightSaturation: 0
- SplitToningShadowHue: 0
- SplitToningShadowSaturation: 0
- Temperature: 5550
- Tint: +2
- ToneCurve: 0, 0, 32, 22, 64, 56, 128, 128, 192, 196, 255, 255
- ToneCurveName: Medium Contrast
- Version: 4.2
- Vibrance: 0
- VignetteAmount: 0
- WhiteBalance: As Shot
- XMP-dc
- Creator: Simon Dziuba
- Format: image/jpeg
- XMP-exif
- ColorSpace: Unknown (-1)
- DateTimeDigitized: 2007:09:03 14:54:24+03:00
- DateTimeOriginal: 2007:09:03 14:54:24+03:00
- FlashFired: False
- FlashFunction: False
- FlashMode: Off
- FlashRedEyeMode: False
- FlashReturn: No return detection
- XMP-tiff
- XMP-xmp
- CreateDate: 2007:11:11 23:15:26+02:00
- ModifyDate: 2007:11:11 23:40:28+02:00
- Rating: 0
- XMP-xmpMM
- DerivedFrom:
- Просмотров: 178
- Рейтинг: голосов еще нет
- Отзывов: 0