- Раздел: Город
- Дата съёмки: неизвестно
- Дата загрузки фото: 09.09.2021 11:28
- Оригинальная фотография: 4608 x 3072 (3,1 Мб)
- Технические характеристики:
- Фотоаппарат: Olympus E-M5
- Выдержка: 0,0
- Гиперфокальное расстояние: inf m
- Диафрагма: 5,6
- Светочувствительность: 400
- Фокусное расстояние: 14,0 mm (35 mm equivalent: 28,0 mm)
- Полный EXIF
- Adobe
- ColorTransform: YCbCr
- Composite
- Aperture: 5,6
- CircleOfConfusion: 0,015 mm
- FOV: 65,0 deg
- FocalLength35efl: 14,0 mm (35 mm equivalent: 28,0 mm)
- GPSAltitude: 34 m Above Sea Level
- GPSLatitude: 59 deg 56' 3,00" N
- GPSLongitude: 30 deg 17' 24,00" E
- GPSPosition: 59 deg 56' 3,00" N, 30 deg 17' 24,00" E
- HyperfocalDistance: inf m
- Megapixels: 14,2
- ScaleFactor35efl: 2,0
- ShutterSpeed: 0,0
- ExifIFD
- ApertureValue: 4,0
- CFAPattern: [Red,Green][Green,Blue]
- ColorSpace: sRGB
- Contrast: Normal
- CreateDate: 2018:05:08 14:07:40
- CustomRendered: Normal
- DateTimeOriginal: 2018:05:08 14:07:40
- DigitalZoomRatio: 1
- ExifImageHeight: 3072
- ExifImageWidth: 4608
- ExposureCompensation: 0
- ExposureMode: Manual
- ExposureProgram: Aperture-priority AE
- ExposureTime: 0,0
- FNumber: 5,6
- Flash: On, Did not fire
- FocalLength: 14,0 mm
- FocalLengthIn35mmFormat: 28 mm
- GainControl: High gain up
- ISO: 400
- LensInfo: 14-45mm f/3.5-5.6
- LensModel: LUMIX G VARIO 14-45/F3.5-5.6
- LensSerialNumber: 01HG1012199
- LightSource: Unknown
- MaxApertureValue: 2,8
- MeteringMode: Multi-segment
- Saturation: Normal
- SceneCaptureType: Standard
- SensitivityType: Standard Output Sensitivity
- SerialNumber: BEK501834
- Sharpness: Normal
- ShutterSpeedValue: 1/128
- WhiteBalance: Auto
- GPS
- GPSAltitude: 34,2 m
- GPSAltitudeRef: Above Sea Level
- GPSLatitude: 59 deg 56' 3,00"
- GPSLatitudeRef: North
- GPSLongitude: 30 deg 17' 24,00"
- GPSLongitudeRef: East
- GPSMapDatum: WGS-84
- GPSSpeed: 0
- GPSSpeedRef: km/h
- GPSVersionID: 2.3.0.0
- ICC-header
- ICC-meas
- ICC-view
- IFD0
- Artist: <= Mutaborr =>
- Copyright: KIP
- ImageDescription: OLYMPUS DIGITAL CAMERA
- Make: OLYMPUS IMAGING CORP.
- Model: E-M5
- ModifyDate: 2018:05:11 23:24:58
- Orientation: Horizontal (normal)
- IFD1
- IPTC
- By-line: <= Mutaborr =>
- Caption-Abstract: OLYMPUS DIGITAL CAMERA
- CopyrightNotice: KIP
- DateCreated: 2018:05:08
- System
- XMP-aux
- ApproximateFocusDistance: 3,92
- DistortionCorrectionAlreadyApplied: True
- FlashCompensation: 0
- LateralChromaticAberrationCorrectionAlreadyApplied: True
- Lens: LUMIX G VARIO 14-45/F3.5-5.6
- XMP-crs
- AlreadyApplied: True
- AutoLateralCA: 1
- Blacks2012: 0
- BlueHue: 0
- BlueSaturation: 0
- CameraProfile: Camera Natural
- Clarity2012: 0
- ColorNoiseReduction: 25
- ColorNoiseReductionDetail: 50
- ColorNoiseReductionSmoothness: 50
- ColorTemperature: 5000
- Contrast2012: +41
- ConvertToGrayscale: False
- DefringeGreenAmount: 2
- DefringeGreenHueHi: 60
- DefringeGreenHueLo: 40
- DefringePurpleAmount: 2
- DefringePurpleHueHi: 70
- DefringePurpleHueLo: 30
- Dehaze: 0
- Exposure2012: -0.65
- GrainAmount: 0
- GreenHue: 0
- GreenSaturation: 0
- HasCrop: False
- HasSettings: True
- Highlights2012: -85
- HueAdjustmentAqua: 0
- HueAdjustmentBlue: 0
- HueAdjustmentGreen: 0
- HueAdjustmentMagenta: 0
- HueAdjustmentOrange: 0
- HueAdjustmentPurple: 0
- HueAdjustmentRed: 0
- HueAdjustmentYellow: 0
- LensManualDistortionAmount: 0
- LensProfileEnable: 1
- LensProfileSetup: LensDefaults
- LuminanceAdjustmentAqua: 0
- LuminanceAdjustmentBlue: 0
- LuminanceAdjustmentGreen: 0
- LuminanceAdjustmentMagenta: 0
- LuminanceAdjustmentOrange: 0
- LuminanceAdjustmentPurple: 0
- LuminanceAdjustmentRed: 0
- LuminanceAdjustmentYellow: 0
- LuminanceSmoothing: 0
- ParametricDarks: 0
- ParametricHighlightSplit: 75
- ParametricHighlights: 0
- ParametricLights: 0
- ParametricMidtoneSplit: 50
- ParametricShadowSplit: 25
- ParametricShadows: 0
- PerspectiveAspect: 0
- PerspectiveHorizontal: 0
- PerspectiveRotate: 0.0
- PerspectiveScale: 100
- PerspectiveUpright: 0
- PerspectiveVertical: 0
- PerspectiveX: 0.00
- PerspectiveY: 0.00
- PostCropVignetteAmount: 0
- ProcessVersion: 10.0
- RawFileName: ORF05617.ORF
- RedHue: 0
- RedSaturation: 0
- Saturation: 0
- SaturationAdjustmentAqua: 0
- SaturationAdjustmentBlue: 0
- SaturationAdjustmentGreen: 0
- SaturationAdjustmentMagenta: 0
- SaturationAdjustmentOrange: 0
- SaturationAdjustmentPurple: 0
- SaturationAdjustmentRed: 0
- SaturationAdjustmentYellow: 0
- ShadowTint: 0
- Shadows2012: +48
- SharpenDetail: 25
- SharpenEdgeMasking: 0
- SharpenRadius: +1.0
- Sharpness: 25
- SplitToningBalance: 0
- SplitToningHighlightHue: 0
- SplitToningHighlightSaturation: 0
- SplitToningShadowHue: 0
- SplitToningShadowSaturation: 0
- Tint: +10
- ToneCurve: 0, 0, 32, 22, 64, 56, 128, 128, 192, 196, 255, 255
- ToneCurveBlue: 0, 0, 255, 255
- ToneCurveGreen: 0, 0, 255, 255
- ToneCurveName: Medium Contrast
- ToneCurveName2012: Linear
- ToneCurvePV2012: 0, 0, 255, 255
- ToneCurvePV2012Blue: 0, 0, 255, 255
- ToneCurvePV2012Green: 0, 0, 255, 255
- ToneCurvePV2012Red: 0, 0, 255, 255
- ToneCurveRed: 0, 0, 255, 255
- Version: 10.2
- Vibrance: 0
- VignetteAmount: 0
- WhiteBalance: Custom
- Whites2012: 0
- XMP-dc
- Creator: <= Mutaborr =>
- Description: OLYMPUS DIGITAL CAMERA
- Format: image/jpeg
- Rights: KIP
- XMP-exifEX
- XMP-xmp
- CreatorTool: Version 2.1
- ModifyDate: 2018:05:11 23:24:58+03:00
- Rating: 0
- XMP-xmpMM
- Просмотров: 2
- Рейтинг: голосов еще нет
- Отзывов: отключены