- Раздел: Другое, разное
- Дата съёмки: неизвестно
- Дата загрузки фото: 12.09.2021 22:22
- Оригинальная фотография: 6000 x 4000 (7,0 Мб)
- Технические характеристики:
- Фотоаппарат: Sony ILCE-7C
- Выдержка: 0,0
- Гиперфокальное расстояние: inf m
- Диафрагма: 2,2
- Светочувствительность: 100
- Фокусное расстояние: 35,0 mm (35 mm equivalent: 35,0 mm)
- Полный EXIF
- Adobe
- ColorTransform: YCbCr
- Composite
- Aperture: 2,2
- CircleOfConfusion: 0,030 mm
- FOV: 54,0 deg
- FocalLength35efl: 35,0 mm (35 mm equivalent: 35,0 mm)
- HyperfocalDistance: inf m
- Megapixels: 24,0
- ScaleFactor35efl: 1,0
- ShutterSpeed: 0,0
- ExifIFD
- ApertureValue: 2,0
- BrightnessValue: 5,70078125
- ColorSpace: sRGB
- Contrast: Normal
- CreateDate: 2021:09:12 13:27:09
- CustomRendered: Normal
- DateTimeOriginal: 2021:09:12 13:27:09
- DigitalZoomRatio: 1
- ExposureCompensation: 0
- ExposureMode: Auto
- ExposureProgram: Shutter speed priority AE
- ExposureTime: 0,0
- FNumber: 2,2
- Flash: Off, Did not fire
- FocalLength: 35,0 mm
- FocalLengthIn35mmFormat: 35 mm
- ISO: 100
- LensInfo: 35mm f/1.8
- LensModel: FE 35mm F1.8
- LightSource: Unknown
- MaxApertureValue: 1,4
- MeteringMode: Center-weighted average
- RecommendedExposureIndex: 100
- Saturation: Normal
- SceneCaptureType: Standard
- SceneType: Directly photographed
- SensitivityType: Recommended Exposure Index
- Sharpness: Normal
- ShutterSpeedValue: 1/128
- WhiteBalance: Auto
- ICC-header
- ICC-meas
- ICC-view
- IFD0
- Make: SONY
- Model: ILCE-7C
- ModifyDate: 2021:09:12 22:07:40
- IFD1
- IPTC
- DateCreated: 2021:09:12
- System
- XMP-aux
- LateralChromaticAberrationCorrectionAlreadyApplied: True
- Lens: FE 35mm F1.8
- LensDistortInfo: 1065679373/1073741824 -12741728/1073741824 19628349/1073741824 1160815/1073741824
- XMP-crs
- AlreadyApplied: True
- AutoLateralCA: 0
- Blacks2012: +10
- BlueHue: 0
- BlueSaturation: -35
- Clarity2012: -5
- ColorGradeBlending: 50
- ColorGradeGlobalHue: 0
- ColorGradeGlobalLum: 0
- ColorGradeGlobalSat: 0
- ColorGradeHighlightLum: 0
- ColorGradeMidtoneHue: 0
- ColorGradeMidtoneLum: 0
- ColorGradeMidtoneSat: 0
- ColorGradeShadowLum: 0
- ColorNoiseReduction: 25
- ColorNoiseReductionDetail: 50
- ColorNoiseReductionSmoothness: 50
- ColorTemperature: 4950
- Contrast2012: 0
- ConvertToGrayscale: True
- CropAngle: 0
- CropBottom: 1
- CropConstrainToWarp: 0
- CropLeft: 0
- CropRight: 1
- CropTop: 0
- Dehaze: +15
- Exposure2012: +0.43
- GrainAmount: 0
- GrainFrequency: 100
- GrainSize: 15
- GrayMixerAqua: 0
- GrayMixerBlue: 0
- GrayMixerGreen: -20
- GrayMixerMagenta: +10
- GrayMixerOrange: -10
- GrayMixerPurple: +20
- GrayMixerRed: +10
- GrayMixerYellow: 0
- GreenHue: 0
- GreenSaturation: +25
- HasCrop: False
- HasSettings: True
- Highlights2012: -20
- LensManualDistortionAmount: 0
- LensProfileEnable: 0
- LuminanceAdjustmentRed: +16
- LuminanceSmoothing: 0
- OverrideLookVignette: False
- PaintCorrectionActive: true
- PaintCorrectionAmount: 1.000000
- PaintCorrectionBrightness: 0.000000
- PaintCorrectionClarity2012: 0.000000
- PaintCorrectionContrast2012: 0.000000
- PaintCorrectionCorrectionRangeMaskColorAmount: 0.500000
- PaintCorrectionCorrectionRangeMaskDepthFeather: 0.500000
- PaintCorrectionCorrectionRangeMaskDepthMax: 1.000000
- PaintCorrectionCorrectionRangeMaskDepthMin: 0.000000
- PaintCorrectionCorrectionRangeMaskLumFeather: 0.500000
- PaintCorrectionCorrectionRangeMaskLumMax: 1.000000
- PaintCorrectionCorrectionRangeMaskLumMin: 0.000000
- PaintCorrectionCorrectionRangeMaskType: 0
- PaintCorrectionCorrectionRangeMaskVersion: +2
- PaintCorrectionDefringe: 0.000000
- PaintCorrectionExposure2012: 0.049750
- PaintCorrectionHighlights2012: 0.000000
- PaintCorrectionHue: 0.000000
- PaintCorrectionLocalBlacks2012: -0.436460
- PaintCorrectionLocalDehaze: 0.000000
- PaintCorrectionLocalHue: 0.000000
- PaintCorrectionLocalTexture: 0.000000
- PaintCorrectionLocalWhites2012: 0.000000
- PaintCorrectionLuminanceNoise: 0.000000
- PaintCorrectionMaskCenterWeight: 0.000000
- PaintCorrectionMaskFlow: 1.000000
- PaintCorrectionMaskRadius: 0.075149
- PaintCorrectionMaskValue: 1.000000
- PaintCorrectionMaskWhat: Mask/Paint
- PaintCorrectionMoire: 0.000000
- PaintCorrectionSaturation: 0.000000
- PaintCorrectionShadows2012: 0.138120
- PaintCorrectionSharpness: 0.000000
- PaintCorrectionTemperature: 0.000000
- PaintCorrectionTint: 0.000000
- PaintCorrectionWhat: Correction
- ParametricDarks: -42
- ParametricHighlightSplit: 79
- ParametricHighlights: -22
- ParametricLights: +55
- ParametricMidtoneSplit: 48
- ParametricShadowSplit: 10
- ParametricShadows: -15
- PerspectiveAspect: 0
- PerspectiveHorizontal: 0
- PerspectiveRotate: 0.0
- PerspectiveScale: 100
- PerspectiveUpright: 0
- PerspectiveVertical: 0
- PerspectiveX: 0.00
- PerspectiveY: 0.00
- PostCropVignetteAmount: -29
- PostCropVignetteFeather: 50
- PostCropVignetteHighlightContrast: 0
- PostCropVignetteMidpoint: 50
- PostCropVignetteRoundness: 0
- PostCropVignetteStyle: 1
- ProcessVersion: 11.0
- RawFileName: DSC03934.ARW
- RedHue: 0
- RedSaturation: -25
- Saturation: +10
- SaturationAdjustmentRed: -3
- ShadowTint: 0
- Shadows2012: +20
- SharpenDetail: 25
- SharpenEdgeMasking: 0
- SharpenRadius: +1.0
- Sharpness: 27
- SplitToningBalance: 0
- SplitToningHighlightHue: 0
- SplitToningHighlightSaturation: 0
- SplitToningShadowHue: 0
- SplitToningShadowSaturation: 0
- Texture: 0
- Tint: +18
- ToneCurveName2012: Neopan 400
- ToneCurvePV2012: 0, 5, 17, 18, 85, 85, 255, 251
- ToneCurvePV2012Blue: 0, 0, 255, 255
- ToneCurvePV2012Green: 0, 0, 255, 255
- ToneCurvePV2012Red: 0, 0, 255, 255
- Version: 13.3
- VignetteAmount: 0
- WhiteBalance: As Shot
- Whites2012: -55
- XMP-dc
- XMP-exifEX
- XMP-xmp
- CreateDate: 2021:09:12 13:27:09.422+03:00
- ModifyDate: 2021:09:12 22:07:40+03:00
- XMP-xmpMM
- PreservedFileName: DSC03934.ARW
- Просмотров: 127
- Рейтинг: голосов еще нет
- Отзывов: 0