- Раздел: Другое, разное
- Дата съёмки: неизвестно
- Дата загрузки фото: 04.01.2022 00:55
- Оригинальная фотография: 5189 x 3762 (11,3 Мб)
- Технические характеристики:
- Фотоаппарат: LEICA CAMERA AG LEICA Q (Typ 116)
- Выдержка: 0,0
- Гиперфокальное расстояние: inf m
- Диафрагма: 5,6
- Светочувствительность: 100
- Фокусное расстояние: 28,0 mm (35 mm equivalent: 28,0 mm)
- Экспокоррекция: -2
- Полный EXIF
- Adobe
- ColorTransform: YCbCr
- Composite
- Aperture: 5,6
- CircleOfConfusion: 0,030 mm
- FOV: 65,0 deg
- FocalLength35efl: 28,0 mm (35 mm equivalent: 28,0 mm)
- HyperfocalDistance: inf m
- Megapixels: 19,5
- ScaleFactor35efl: 1,0
- ShutterSpeed: 0,0
- ExifIFD
- ApertureValue: 4,0
- ColorSpace: sRGB
- Contrast: Normal
- CreateDate: 2022:01:03 20:35:38
- CustomRendered: Normal
- DateTimeOriginal: 2022:01:03 20:35:38
- DigitalZoomRatio: 1
- ExposureCompensation: -2
- ExposureProgram: Aperture-priority AE
- ExposureTime: 0,0
- FNumber: 5,6
- Flash: Off, Did not fire
- FocalLength: 28,0 mm
- FocalLengthIn35mmFormat: 28 mm
- ISO: 100
- LensInfo: 28mm f/1.53125
- LensMake: LEICA CAMERA AG
- LensModel: 28.0 mm f/1.7
- LensSerialNumber: N/A
- LightSource: Unknown
- MaxApertureValue: 1,4
- MeteringMode: Multi-segment
- Saturation: Normal
- SceneCaptureType: Standard
- SensingMethod: One-chip color area
- SensitivityType: Standard Output Sensitivity
- SerialNumber: 5146633
- Sharpness: Soft
- ShutterSpeedValue: 0,5
- WhiteBalance: Auto
- ICC-header
- ICC-meas
- ICC-view
- IFD0
- Make: LEICA CAMERA AG
- Model: LEICA Q (Typ 116)
- ModifyDate: 2022:01:04 00:00:33
- IFD1
- IPTC
- DateCreated: 2022:01:03
- System
- XMP-aux
- DistortionCorrectionAlreadyApplied: True
- LateralChromaticAberrationCorrectionAlreadyApplied: True
- Lens: 28.0 mm f/1.7
- XMP-crs
- AlreadyApplied: True
- AutoLateralCA: 0
- Blacks2012: +100
- BlueHue: 0
- BlueSaturation: 0
- Clarity2012: 0
- ColorGradeBlending: 50
- ColorGradeGlobalHue: 0
- ColorGradeGlobalLum: 0
- ColorGradeGlobalSat: 0
- ColorGradeHighlightLum: 0
- ColorGradeMidtoneHue: 0
- ColorGradeMidtoneLum: 0
- ColorGradeMidtoneSat: 0
- ColorGradeShadowLum: 0
- ColorNoiseReduction: 25
- ColorNoiseReductionDetail: 50
- ColorNoiseReductionSmoothness: 50
- ColorTemperature: 2750
- Contrast2012: 0
- ConvertToGrayscale: False
- CropAngle: -0.642064
- CropBottom: 0.967049
- CropConstrainToWarp: 0
- CropLeft: 0.067668
- CropRight: 0.939504
- CropTop: 0.041103
- DefringeGreenAmount: 0
- DefringeGreenHueHi: 60
- DefringeGreenHueLo: 40
- DefringePurpleAmount: 0
- DefringePurpleHueHi: 70
- DefringePurpleHueLo: 30
- Dehaze: 0
- Exposure2012: +0.66
- GrainAmount: 0
- GreenHue: +10
- GreenSaturation: -10
- HasCrop: True
- HasSettings: True
- Highlights2012: -100
- HueAdjustmentAqua: +10
- HueAdjustmentBlue: +15
- HueAdjustmentGreen: +20
- HueAdjustmentMagenta: +15
- HueAdjustmentOrange: -20
- HueAdjustmentPurple: +20
- HueAdjustmentRed: +12
- HueAdjustmentYellow: -20
- LensManualDistortionAmount: 0
- LensProfileEnable: 0
- LuminanceAdjustmentAqua: -20
- LuminanceAdjustmentBlue: -30
- LuminanceAdjustmentGreen: -25
- LuminanceAdjustmentMagenta: -15
- LuminanceAdjustmentOrange: -15
- LuminanceAdjustmentPurple: -5
- LuminanceAdjustmentRed: -20
- LuminanceAdjustmentYellow: 0
- LuminanceSmoothing: 0
- OverrideLookVignette: False
- PaintCorrectionActive: true
- PaintCorrectionAmount: 1.000000
- PaintCorrectionBrightness: 0.000000
- PaintCorrectionClarity2012: 0.000000
- PaintCorrectionContrast2012: 0.000000
- PaintCorrectionCorrectionRangeMaskColorAmount: 0.500000
- PaintCorrectionCorrectionRangeMaskDepthFeather: 0.500000
- PaintCorrectionCorrectionRangeMaskDepthMax: 1.000000
- PaintCorrectionCorrectionRangeMaskDepthMin: 0.000000
- PaintCorrectionCorrectionRangeMaskLumFeather: 0.500000
- PaintCorrectionCorrectionRangeMaskLumMax: 1.000000
- PaintCorrectionCorrectionRangeMaskLumMin: 0.000000
- PaintCorrectionCorrectionRangeMaskType: 0
- PaintCorrectionCorrectionRangeMaskVersion: +2
- PaintCorrectionDefringe: 0.000000
- PaintCorrectionExposure2012: 0.000000
- PaintCorrectionHighlights2012: 0.000000
- PaintCorrectionHue: 240.000000
- PaintCorrectionLocalBlacks2012: 0.370170
- PaintCorrectionLocalDehaze: 0.000000
- PaintCorrectionLocalHue: 0.000000
- PaintCorrectionLocalTexture: 0.000000
- PaintCorrectionLocalWhites2012: 0.000000
- PaintCorrectionLuminanceNoise: 0.580110
- PaintCorrectionMaskCenterWeight: 0.000000
- PaintCorrectionMaskFlow: 1.000000
- PaintCorrectionMaskRadius: 0.053632
- PaintCorrectionMaskValue: 1.000000
- PaintCorrectionMaskWhat: Mask/Paint
- PaintCorrectionMoire: 0.000000
- PaintCorrectionSaturation: 0.000000
- PaintCorrectionShadows2012: 0.005520
- PaintCorrectionSharpness: 0.000000
- PaintCorrectionTemperature: 0.000000
- PaintCorrectionTint: 0.000000
- PaintCorrectionWhat: Correction
- ParametricDarks: 0
- ParametricHighlightSplit: 75
- ParametricHighlights: 0
- ParametricLights: +10
- ParametricMidtoneSplit: 48
- ParametricShadowSplit: 14
- ParametricShadows: -10
- PerspectiveAspect: -39
- PerspectiveHorizontal: 0
- PerspectiveRotate: 0.0
- PerspectiveScale: 100
- PerspectiveUpright: 5
- PerspectiveVertical: 0
- PerspectiveX: 0.00
- PerspectiveY: 0.00
- PostCropVignetteAmount: 0
- ProcessVersion: 11.0
- RawFileName:
- RedHue: +10
- RedSaturation: +30
- Saturation: +5
- SaturationAdjustmentAqua: 0
- SaturationAdjustmentBlue: 0
- SaturationAdjustmentGreen: -10
- SaturationAdjustmentMagenta: -15
- SaturationAdjustmentOrange: 0
- SaturationAdjustmentPurple: 0
- SaturationAdjustmentRed: -10
- SaturationAdjustmentYellow: 0
- ShadowTint: 0
- Shadows2012: +100
- SharpenDetail: 25
- SharpenEdgeMasking: 0
- SharpenRadius: +1.2
- Sharpness: 25
- SplitToningBalance: 0
- SplitToningHighlightHue: 275
- SplitToningHighlightSaturation: 0
- SplitToningShadowHue: 0
- SplitToningShadowSaturation: 0
- Texture: +35
- Tint: +2
- ToneCurveName2012: Velvia 50 Land +
- ToneCurvePV2012: 0, 0, 255, 255
- ToneCurvePV2012Blue: 0, 0, 39, 5, 62, 22, 114, 123, 178, 208, 255, 255
- ToneCurvePV2012Green: 0, 0, 39, 5, 63, 22, 113, 123, 175, 205, 255, 255
- ToneCurvePV2012Red: 0, 0, 39, 5, 61, 22, 110, 123, 175, 207, 255, 255
- Version: 13.3
- Vibrance: 0
- VignetteAmount: 0
- WhiteBalance: As Shot
- Whites2012: -100
- XMP-dc
- XMP-exifEX
- XMP-rdf
- XMP-xmp
- ModifyDate: 2022:01:04 00:00:33+03:00
- XMP-xmpMM
- PreservedFileName: L1020250.DNG
- XMP-xmpNote
- HasExtendedXMP: 5AF1A0CCE7B5FC6B5DD16E54E2FE5FF4
- Просмотров: 107
- Рейтинг: голосов еще нет
- Отзывов: 0