- Раздел: Активный отдых, туризм
- Дата съёмки: 08.08.2013 14:33
- Дата загрузки фото: 15.01.2022 15:28
- Оригинальная фотография: 6000 x 4000 (10,1 Мб)
- Технические характеристики:
- Фотоаппарат: Nikon D7100
- Выдержка: 0,0
- Гиперфокальное расстояние: inf m
- Диафрагма: 5,6
- Светочувствительность: 100
- Фокусное расстояние: 26,0 mm (35 mm equivalent: 26,0 mm)
- Полный EXIF
- Adobe
- ColorTransform: YCbCr
- Composite
- Aperture: 5,6
- CircleOfConfusion: 0,020 mm
- FOV: 69,0 deg
- FocalLength35efl: 26,0 mm (35 mm equivalent: 26,0 mm)
- GPSAltitude: 39 m Above Sea Level
- GPSLatitude: 54 deg 51' 2,00" N
- GPSLongitude: 37 deg 56' 27,00" E
- GPSPosition: 54 deg 51' 2,00" N, 37 deg 56' 27,00" E
- HyperfocalDistance: inf m
- LensID: AF-S DX Zoom-Nikkor 17-55mm f/2.8G IF-ED
- Megapixels: 24,0
- ScaleFactor35efl: 1,5
- ShutterSpeed: 0,0
- ExifIFD
- ApertureValue: 4,0
- CFAPattern: [Red,Green][Green,Blue]
- ColorSpace: sRGB
- Contrast: Normal
- CreateDate: 2013:08:08 14:33:35
- CustomRendered: Normal
- DateTimeOriginal: 2013:08:08 14:33:35
- DigitalZoomRatio: 1
- ExifImageHeight: 4000
- ExifImageWidth: 6000
- ExposureCompensation: 0
- ExposureMode: Auto
- ExposureProgram: Aperture-priority AE
- ExposureTime: 0,0
- FNumber: 5,6
- Flash: Off, Did not fire
- FocalLength: 26,0 mm
- FocalLengthIn35mmFormat: 39 mm
- GainControl: None
- ISO: 100
- LensInfo: 17-55mm f/2.8
- LensModel: 17.0-55.0 mm f/2.8
- LightSource: Unknown
- MaxApertureValue: 2,8
- MeteringMode: Multi-segment
- Saturation: Normal
- SceneCaptureType: Standard
- SceneType: Directly photographed
- SensingMethod: One-chip color area
- SensitivityType: Recommended Exposure Index
- SerialNumber: 4356224
- Sharpness: Normal
- ShutterSpeedValue: 1/128
- SubjectDistanceRange: Unknown
- WhiteBalance: Auto
- GPS
- GPSAltitude: 39,7999992 m
- GPSAltitudeRef: Above Sea Level
- GPSLatitude: 54 deg 51' 2,00"
- GPSLatitudeRef: North
- GPSLongitude: 37 deg 56' 27,00"
- GPSLongitudeRef: East
- GPSMapDatum: WGS-84
- GPSVersionID: 2.3.0.0
- ICC-header
- ICC-meas
- ICC-view
- IFD0
- Artist: < Mutaborr >
- Copyright: < Mutaborr >
- Make: NIKON CORPORATION
- Model: NIKON D7100
- ModifyDate: 2017:01:10 17:29:27
- Orientation: Horizontal (normal)
- IFD1
- IPTC
- By-line: < Mutaborr >
- CopyrightNotice: < Mutaborr >
- DateCreated: 2013:08:08
- System
- XMP-aux
- ApproximateFocusDistance: 4294967295
- ImageNumber: 236
- LateralChromaticAberrationCorrectionAlreadyApplied: True
- Lens: 17.0-55.0 mm f/2.8
- LensID: 125
- VignetteCorrectionAlreadyApplied: True
- XMP-crs
- AlreadyApplied: True
- AutoLateralCA: 1
- AutoWhiteVersion: 134348800
- Blacks2012: 0
- BlueHue: 0
- BlueSaturation: 0
- CameraProfile: Camera Landscape
- Clarity2012: 0
- ColorNoiseReduction: 25
- ColorNoiseReductionDetail: 50
- ColorNoiseReductionSmoothness: 50
- ColorTemperature: 5400
- Contrast2012: +53
- ConvertToGrayscale: False
- DefringeGreenAmount: 1
- DefringeGreenHueHi: 60
- DefringeGreenHueLo: 40
- DefringePurpleAmount: 1
- DefringePurpleHueHi: 70
- DefringePurpleHueLo: 30
- Dehaze: 0
- Exposure2012: +0.65
- GrainAmount: 0
- GreenHue: 0
- GreenSaturation: 0
- HasCrop: False
- HasSettings: True
- Highlights2012: -80
- HueAdjustmentAqua: 0
- HueAdjustmentBlue: 0
- HueAdjustmentGreen: 0
- HueAdjustmentMagenta: 0
- HueAdjustmentOrange: 0
- HueAdjustmentPurple: 0
- HueAdjustmentRed: 0
- HueAdjustmentYellow: 0
- LensManualDistortionAmount: 0
- LensProfileChromaticAberrationScale: 100
- LensProfileDistortionScale: 0
- LensProfileEnable: 1
- LensProfileFilename: NIKON D90 (Nikon AF-S DX Zoom-NIKKOR 17-55mm f2.8G IF-ED) - RAW.lcp
- LensProfileSetup: Custom
- LensProfileVignettingScale: 100
- LuminanceAdjustmentAqua: 0
- LuminanceAdjustmentBlue: 0
- LuminanceAdjustmentGreen: 0
- LuminanceAdjustmentMagenta: 0
- LuminanceAdjustmentOrange: 0
- LuminanceAdjustmentPurple: 0
- LuminanceAdjustmentRed: 0
- LuminanceAdjustmentYellow: 0
- LuminanceSmoothing: 0
- ParametricDarks: 0
- ParametricHighlightSplit: 75
- ParametricHighlights: 0
- ParametricLights: 0
- ParametricMidtoneSplit: 50
- ParametricShadowSplit: 25
- ParametricShadows: 0
- PerspectiveAspect: 0
- PerspectiveHorizontal: 0
- PerspectiveRotate: 0.0
- PerspectiveScale: 100
- PerspectiveUpright: 0
- PerspectiveVertical: 0
- PerspectiveX: 0.00
- PerspectiveY: 0.00
- PostCropVignetteAmount: 0
- ProcessVersion: 6.7
- RawFileName: NEF_0206.NEF
- RedHue: 0
- RedSaturation: 0
- Saturation: 0
- SaturationAdjustmentAqua: 0
- SaturationAdjustmentBlue: -20
- SaturationAdjustmentGreen: 0
- SaturationAdjustmentMagenta: 0
- SaturationAdjustmentOrange: 0
- SaturationAdjustmentPurple: 0
- SaturationAdjustmentRed: 0
- SaturationAdjustmentYellow: 0
- ShadowTint: 0
- Shadows2012: +26
- SharpenDetail: 25
- SharpenEdgeMasking: 0
- SharpenRadius: +1.0
- Sharpness: 25
- SplitToningBalance: 0
- SplitToningHighlightHue: 0
- SplitToningHighlightSaturation: 0
- SplitToningShadowHue: 0
- SplitToningShadowSaturation: 0
- Tint: +6
- ToneCurve: 0, 0, 32, 22, 64, 56, 128, 128, 192, 196, 255, 255
- ToneCurveBlue: 0, 0, 255, 255
- ToneCurveGreen: 0, 0, 255, 255
- ToneCurveName: Medium Contrast
- ToneCurveName2012: Linear
- ToneCurvePV2012: 0, 0, 255, 255
- ToneCurvePV2012Blue: 0, 0, 255, 255
- ToneCurvePV2012Green: 0, 0, 255, 255
- ToneCurvePV2012Red: 0, 0, 255, 255
- ToneCurveRed: 0, 0, 255, 255
- ToneMapStrength: 0
- Version: 9.8
- Vibrance: 0
- VignetteAmount: 0
- WhiteBalance: Custom
- Whites2012: 0
- XMP-dc
- Creator: < Mutaborr >
- Format: image/jpeg
- Rights: < Mutaborr >
- XMP-xmp
- CreatorTool: Ver.1.01
- ModifyDate: 2017:01:10 17:29:27+03:00
- Rating: 0
- XMP-xmpMM
- Просмотров: 22
- Рейтинг: голосов еще нет
- Отзывов: отключены