- Раздел: Тесты фототехники
- Дата съёмки: неизвестно
- Дата загрузки фото: 12.02.2022 23:19
- Оригинальная фотография: 5000 x 3334 (8,7 Мб)
- Технические характеристики:
- Фотоаппарат: Panasonic DC-S1
- Выдержка: 0,0
- Гиперфокальное расстояние: inf m
- Диафрагма: 8,0
- Светочувствительность: 500
- Фокусное расстояние: 600,0 mm (35 mm equivalent: 600,0 mm)
- Полный EXIF
- Adobe
- ColorTransform: YCbCr
- Composite
- Aperture: 8,0
- CircleOfConfusion: 0,030 mm
- FOV: 3,0 deg
- FocalLength35efl: 600,0 mm (35 mm equivalent: 600,0 mm)
- HyperfocalDistance: inf m
- Megapixels: 16,7
- ScaleFactor35efl: 1,0
- ShutterSpeed: 0,0
- ExifIFD
- ApertureValue: 8,0
- ColorSpace: sRGB
- Contrast: Normal
- CreateDate: 2022:02:12 12:05:29
- CustomRendered: Normal
- DateTimeOriginal: 2022:02:12 12:05:29
- DigitalZoomRatio: 0
- ExifImageHeight: 3334
- ExifImageWidth: 5000
- ExposureCompensation: 0
- ExposureMode: Auto
- ExposureProgram: Aperture-priority AE
- ExposureTime: 0,0
- FNumber: 8,0
- Flash: Off, Did not fire
- FocalLength: 600,0 mm
- FocalLengthIn35mmFormat: 600 mm
- GainControl: High gain up
- ISO: 500
- LensModel: 150-600mm F5-6.3 DG DN OS | Sports 021
- LensSerialNumber: N/A
- LightSource: Unknown
- MaxApertureValue: 5,7
- MeteringMode: Multi-segment
- Saturation: Normal
- SceneCaptureType: Standard
- SceneType: Directly photographed
- SensingMethod: One-chip color area
- SerialNumber: WJ9DC003801
- Sharpness: Normal
- ShutterSpeedValue: 1/256
- WhiteBalance: Auto
- ICC-header
- ICC-meas
- ICC-view
- IFD0
- Artist: Andrew Nik
- BitsPerSample: 8 8 8
- ImageHeight: 3667
- ImageWidth: 5500
- Make: Panasonic
- Model: DC-S1
- ModifyDate: 2022:02:12 22:54:45
- Orientation: Horizontal (normal)
- PhotometricInterpretation: RGB
- SamplesPerPixel: 3
- IFD1
- IPTC
- By-line: Andrew Nik
- DateCreated: 2022:02:12
- System
- XMP-aux
- DistortionCorrectionAlreadyApplied: True
- LateralChromaticAberrationCorrectionAlreadyApplied: True
- Lens: 150-600mm F5-6.3 DG DN OS | Sports 021
- XMP-crs
- AlreadyApplied: True
- AutoLateralCA: 1
- Blacks2012: +8
- BlueHue: 0
- BlueSaturation: 0
- CameraProfile: Camera Standard
- Clarity2012: +20
- ColorNoiseReduction: 25
- ColorNoiseReductionDetail: 50
- ColorNoiseReductionSmoothness: 50
- ColorTemperature: 5250
- Contrast2012: 0
- ConvertToGrayscale: False
- DefringeGreenAmount: 0
- DefringeGreenHueHi: 60
- DefringeGreenHueLo: 40
- DefringePurpleAmount: 0
- DefringePurpleHueHi: 70
- DefringePurpleHueLo: 30
- Dehaze: +13
- Exposure2012: +0.50
- GrainAmount: 0
- GreenHue: 0
- GreenSaturation: 0
- HasCrop: False
- HasSettings: True
- Highlights2012: -100
- HueAdjustmentAqua: 0
- HueAdjustmentBlue: 0
- HueAdjustmentGreen: 0
- HueAdjustmentMagenta: 0
- HueAdjustmentOrange: 0
- HueAdjustmentPurple: 0
- HueAdjustmentRed: 0
- HueAdjustmentYellow: 0
- LensManualDistortionAmount: 0
- LensProfileChromaticAberrationScale: 100
- LensProfileDistortionScale: 100
- LensProfileEnable: 1
- LensProfileFilename: SIGMA (SIGMA 35mm F1.2 DG DN A019 L Mount) - RAW.lcp
- LensProfileSetup: Custom
- LensProfileVignettingScale: 0
- LuminanceAdjustmentAqua: 0
- LuminanceAdjustmentBlue: 0
- LuminanceAdjustmentGreen: 0
- LuminanceAdjustmentMagenta: 0
- LuminanceAdjustmentOrange: 0
- LuminanceAdjustmentPurple: 0
- LuminanceAdjustmentRed: 0
- LuminanceAdjustmentYellow: 0
- LuminanceSmoothing: 0
- OverrideLookVignette: False
- PaintCorrectionActive: true
- PaintCorrectionAmount: 1.000000
- PaintCorrectionBrightness: 0.000000
- PaintCorrectionClarity: 0.000000
- PaintCorrectionClarity2012: 0.300000
- PaintCorrectionContrast: 0.000000
- PaintCorrectionContrast2012: 0.000000
- PaintCorrectionCorrectionRangeMaskColorAmount: 0.500000
- PaintCorrectionCorrectionRangeMaskDepthFeather: 0.500000
- PaintCorrectionCorrectionRangeMaskDepthMax: 1.000000
- PaintCorrectionCorrectionRangeMaskDepthMin: 0.000000
- PaintCorrectionCorrectionRangeMaskLumFeather: 0.500000
- PaintCorrectionCorrectionRangeMaskLumMax: 1.000000
- PaintCorrectionCorrectionRangeMaskLumMin: 0.000000
- PaintCorrectionCorrectionRangeMaskType: 0
- PaintCorrectionCorrectionRangeMaskVersion: +2
- PaintCorrectionDefringe: 0.000000
- PaintCorrectionExposure: 0.000000
- PaintCorrectionExposure2012: 0.237500
- PaintCorrectionHighlights2012: 0.000000
- PaintCorrectionHue: 0.000000
- PaintCorrectionLocalBlacks2012: 0.000000
- PaintCorrectionLocalDehaze: 0.000000
- PaintCorrectionLocalTexture: 0.000000
- PaintCorrectionLocalWhites2012: 0.360000
- PaintCorrectionLuminanceNoise: 0.000000
- PaintCorrectionMaskCenterWeight: 0.000000
- PaintCorrectionMaskFlow: 0.888889
- PaintCorrectionMaskRadius: 0.073884
- PaintCorrectionMaskValue: 1.000000
- PaintCorrectionMaskWhat: Mask/Paint
- PaintCorrectionMoire: 0.000000
- PaintCorrectionSaturation: 0.000000
- PaintCorrectionShadows2012: 0.230000
- PaintCorrectionSharpness: 0.000000
- PaintCorrectionTemperature: 0.000000
- PaintCorrectionTint: 0.000000
- PaintCorrectionWhat: Correction
- ParametricDarks: 0
- ParametricHighlightSplit: 75
- ParametricHighlights: 0
- ParametricLights: 0
- ParametricMidtoneSplit: 50
- ParametricShadowSplit: 25
- ParametricShadows: 0
- PerspectiveAspect: 0
- PerspectiveHorizontal: 0
- PerspectiveRotate: 0.0
- PerspectiveScale: 100
- PerspectiveUpright: 0
- PerspectiveVertical: 0
- PerspectiveX: 0.00
- PerspectiveY: 0.00
- PostCropVignetteAmount: 0
- ProcessVersion: 11.0
- RedHue: 0
- RedSaturation: 0
- Saturation: 0
- SaturationAdjustmentAqua: +8
- SaturationAdjustmentBlue: 0
- SaturationAdjustmentGreen: +12
- SaturationAdjustmentMagenta: 0
- SaturationAdjustmentOrange: +10
- SaturationAdjustmentPurple: 0
- SaturationAdjustmentRed: 0
- SaturationAdjustmentYellow: 0
- ShadowTint: -1
- Shadows2012: +20
- SharpenDetail: 25
- SharpenEdgeMasking: 0
- SharpenRadius: +1.0
- Sharpness: 25
- SplitToningBalance: 0
- SplitToningHighlightHue: 0
- SplitToningHighlightSaturation: 0
- SplitToningShadowHue: 0
- SplitToningShadowSaturation: 0
- Texture: 0
- Tint: +18
- ToneCurve: 0, 0, 32, 22, 64, 56, 128, 128, 192, 196, 255, 255
- ToneCurveBlue: 0, 0, 255, 255
- ToneCurveGreen: 0, 0, 255, 255
- ToneCurveName: Medium Contrast
- ToneCurveName2012: Custom
- ToneCurvePV2012: 0, 0, 118, 134, 255, 255
- ToneCurvePV2012Blue: 0, 0, 255, 255
- ToneCurvePV2012Green: 0, 0, 255, 255
- ToneCurvePV2012Red: 0, 0, 255, 255
- ToneCurveRed: 0, 0, 255, 255
- ToneMapStrength: 0
- Version: 12.2.1
- Vibrance: 0
- VignetteAmount: 0
- WhiteBalance: Custom
- Whites2012: +59
- XMP-dc
- Creator: Andrew Nik
- Format: image/jpeg
- XMP-exifEX
- XMP-xmp
- ModifyDate: 2022:02:12 22:54:45+03:00
- Rating: 0
- XMP-xmpMM