Уважаемые друзья и участники проекта iXBT.photo! К сожалению, 1 марта 2026 года проект iXBT.photo прекратит свою работу и будет закрыт. Мы высоко ценим ваше участие и тот вклад, который вы внесли в развитие нашего сообщества. Пожалуйста, не забудьте сохранить ваши фотографии до этой даты.
С уважением, команда iXBT.com
| IMG_5791.jpg |
IMG_5791.jpg
- Раздел: Другое, разное
- Дата съёмки: неизвестно
- Дата загрузки фото: 11.04.2022 10:46
- Оригинальная фотография: 1200 x 800 (796 Кб)
- Технические характеристики:
- Фотоаппарат: Canon EOS RP
- Выдержка: 0,0
- Гиперфокальное расстояние: inf m
- Диафрагма: 2,2
- Светочувствительность: 1600
- Фокусное расстояние: 50,0 mm (35 mm equivalent: 250,0 mm)
- Полный EXIF
- Composite
- Aperture: 2,2
- CircleOfConfusion: 0,006 mm
- FOV: 8,0 deg
- FocalLength35efl: 50,0 mm (35 mm equivalent: 250,0 mm)
- HyperfocalDistance: inf m
- LensID: Canon EF 50mm f/1.2L
- Megapixels: 0,960
- ScaleFactor35efl: 5,2
- ShutterSpeed: 0,0
- ExifIFD
- ApertureValue: 2,0
- ColorSpace: sRGB
- CreateDate: 2022:04:08 21:25:58
- CustomRendered: Normal
- DateTimeOriginal: 2022:04:08 21:25:58
- ExposureCompensation: 0
- ExposureMode: Manual
- ExposureProgram: Manual
- ExposureTime: 0,0
- FNumber: 2,2
- Flash: On, Fired
- FocalLength: 50,0 mm
- ISO: 1600
- LensInfo: 50mm f/?
- LensModel: EF50mm f/1.2L USM
- LensSerialNumber: 00008034cb
- MaxApertureValue: 1,0
- MeteringMode: Multi-segment
- RecommendedExposureIndex: 1600
- SceneCaptureType: Standard
- SensitivityType: Recommended Exposure Index
- SerialNumber: 043022004582
- ShutterSpeedValue: 1/128
- WhiteBalance: Auto
- IFD0
- Make: Canon
- Model: Canon EOS RP
- ModifyDate: 2022:04:09 11:33:53
- IFD1
- IPTC
- DateCreated: 2022:04:08
- System
- XMP-aux
- ApproximateFocusDistance: 2,03
- Firmware: 1.6.0
- FlashCompensation: 0
- ImageNumber: 0
- Lens: EF50mm f/1.2L USM
- LensID: 241
- XMP-crs
- AlreadyApplied: True
- AutoLateralCA: 0
- Blacks2012: -49
- BlueHue: 0
- BlueSaturation: 0
- CameraProfile: Canon EOS RP Camera Landscape
- Clarity2012: 0
- ColorGradeBlending: 50
- ColorGradeGlobalHue: 0
- ColorGradeGlobalLum: 0
- ColorGradeGlobalSat: 0
- ColorGradeHighlightLum: 0
- ColorGradeMidtoneHue: 0
- ColorGradeMidtoneLum: 0
- ColorGradeMidtoneSat: 0
- ColorGradeShadowLum: 0
- ColorNoiseReduction: 25
- ColorNoiseReductionDetail: 50
- ColorNoiseReductionSmoothness: 50
- ColorTemperature: 5600
- Contrast2012: 0
- ConvertToGrayscale: False
- CropAngle: 0
- CropBottom: 1
- CropConstrainToWarp: 0
- CropLeft: 0
- CropRight: 1
- CropTop: 0
- DefringeGreenAmount: 0
- DefringeGreenHueHi: 60
- DefringeGreenHueLo: 40
- DefringePurpleAmount: 0
- DefringePurpleHueHi: 70
- DefringePurpleHueLo: 30
- Dehaze: 0
- Exposure2012: +0.56
- GrainAmount: 0
- GreenHue: 0
- GreenSaturation: 0
- HasCrop: False
- HasSettings: True
- Highlights2012: -23
- HueAdjustmentAqua: 0
- HueAdjustmentBlue: 0
- HueAdjustmentGreen: 0
- HueAdjustmentMagenta: 0
- HueAdjustmentOrange: 0
- HueAdjustmentPurple: 0
- HueAdjustmentRed: 0
- HueAdjustmentYellow: 0
- LensManualDistortionAmount: 0
- LensProfileDistortionScale: 100
- LensProfileEnable: 0
- LensProfileFilename: Canon EOS 5D Mark II (Canon EF 50mm f1.2L USM) - RAW.lcp
- LensProfileIsEmbedded: False
- LensProfileSetup: LensDefaults
- LensProfileVignettingScale: 100
- LuminanceAdjustmentAqua: 0
- LuminanceAdjustmentBlue: 0
- LuminanceAdjustmentGreen: 0
- LuminanceAdjustmentMagenta: 0
- LuminanceAdjustmentOrange: 0
- LuminanceAdjustmentPurple: 0
- LuminanceAdjustmentRed: 0
- LuminanceAdjustmentYellow: 0
- LuminanceNoiseReductionContrast: 0
- LuminanceNoiseReductionDetail: 50
- LuminanceSmoothing: 35
- OverrideLookVignette: False
- ParametricDarks: 0
- ParametricHighlightSplit: 75
- ParametricHighlights: 0
- ParametricLights: 0
- ParametricMidtoneSplit: 50
- ParametricShadowSplit: 25
- ParametricShadows: 0
- PerspectiveAspect: 0
- PerspectiveHorizontal: 0
- PerspectiveRotate: 0.0
- PerspectiveScale: 100
- PerspectiveUpright: 0
- PerspectiveVertical: 0
- PerspectiveX: 0.00
- PerspectiveY: 0.00
- PostCropVignetteAmount: -34
- PostCropVignetteFeather: 50
- PostCropVignetteHighlightContrast: 0
- PostCropVignetteMidpoint: 50
- PostCropVignetteRoundness: 0
- PostCropVignetteStyle: 1
- ProcessVersion: 11.0
- RawFileName: IMG_5791.CR3
- RedHue: 0
- RedSaturation: 0
- Saturation: -13
- SaturationAdjustmentAqua: 0
- SaturationAdjustmentBlue: 0
- SaturationAdjustmentGreen: 0
- SaturationAdjustmentMagenta: 0
- SaturationAdjustmentOrange: 0
- SaturationAdjustmentPurple: 0
- SaturationAdjustmentRed: 0
- SaturationAdjustmentYellow: 0
- ShadowTint: 0
- Shadows2012: +15
- SharpenDetail: 25
- SharpenEdgeMasking: 0
- SharpenRadius: +1.0
- Sharpness: 40
- SplitToningBalance: 0
- SplitToningHighlightHue: 0
- SplitToningHighlightSaturation: 0
- SplitToningShadowHue: 0
- SplitToningShadowSaturation: 0
- Texture: 0
- Tint: +8
- ToneCurveName2012: Linear
- ToneCurvePV2012: 0, 0, 255, 255
- ToneCurvePV2012Blue: 0, 0, 255, 255
- ToneCurvePV2012Green: 0, 0, 255, 255
- ToneCurvePV2012Red: 0, 0, 255, 255
- Version: 14.0
- Vibrance: +4
- VignetteAmount: 0
- WhiteBalance: As Shot
- Whites2012: +15
- XMP-dc
- XMP-exifEX
- XMP-xmp
- CreateDate: 2022:04:08 21:25:58.29+05:00
- Label: Красный
- ModifyDate: 2022:04:09 11:33:53+05:00
- XMP-xmpMM
- PreservedFileName: IMG_5791.CR3
- Просмотров: 103
- Рейтинг: голосов еще нет
- Отзывов: отключены
Получить код для блога
| Вставка фотографии в текущем разрешении |
Вставка миниатюры |
HTML (для вставки в блог):
BBCode (для вставки в форум):
Ссылка на фото:
Ссылка на миниатюру:
- Послать ссылку другу
| Комментарии к фотографии |