- Раздел: Тесты фототехники
- Дата съёмки: неизвестно
- Дата загрузки фото: 26.04.2022 09:21
- Оригинальная фотография: 6000 x 4000 (15,3 Мб)
- Технические характеристики:
- Фотоаппарат: Panasonic DC-S1
- Выдержка: 0,0
- Гиперфокальное расстояние: inf m
- Диафрагма: 7,1
- Светочувствительность: 1600
- Фокусное расстояние: 507,0 mm (35 mm equivalent: 507,0 mm)
- Полный EXIF
- Adobe
- ColorTransform: YCbCr
- Composite
- Aperture: 7,1
- CircleOfConfusion: 0,030 mm
- FOV: 4,0 deg
- FocalLength35efl: 507,0 mm (35 mm equivalent: 507,0 mm)
- HyperfocalDistance: inf m
- Megapixels: 24,0
- ScaleFactor35efl: 1,0
- ShutterSpeed: 0,0
- ExifIFD
- ApertureValue: 5,7
- ColorSpace: sRGB
- Contrast: Normal
- CreateDate: 2022:04:23 13:52:28
- CustomRendered: Normal
- DateTimeOriginal: 2022:04:23 13:52:28
- DigitalZoomRatio: 0
- ExifImageHeight: 4000
- ExifImageWidth: 6000
- ExposureCompensation: 0
- ExposureMode: Auto
- ExposureProgram: Aperture-priority AE
- ExposureTime: 0,0
- FNumber: 7,1
- Flash: Off, Did not fire
- FocalLength: 507,0 mm
- FocalLengthIn35mmFormat: 507 mm
- GainControl: High gain up
- ISO: 1600
- LensModel: 150-600mm F5-6.3 DG DN OS | Sports 021
- LensSerialNumber: N/A
- LightSource: Unknown
- MaxApertureValue: 5,7
- MeteringMode: Multi-segment
- Saturation: Normal
- SceneCaptureType: Standard
- SceneType: Directly photographed
- SensingMethod: One-chip color area
- SerialNumber: WJ9DC003801
- Sharpness: Normal
- ShutterSpeedValue: 1/256
- WhiteBalance: Auto
- ICC-header
- ICC-meas
- ICC-view
- IFD0
- Artist: Andrew Nik
- Make: Panasonic
- Model: DC-S1
- ModifyDate: 2022:04:23 23:25:13
- Orientation: Horizontal (normal)
- IFD1
- IPTC
- By-line: Andrew Nik
- DateCreated: 2022:04:23
- System
- XMP-aux
- DistortionCorrectionAlreadyApplied: True
- LateralChromaticAberrationCorrectionAlreadyApplied: True
- Lens: 150-600mm F5-6.3 DG DN OS | Sports 021
- XMP-crs
- AlreadyApplied: True
- AutoLateralCA: 1
- Blacks2012: 0
- BlueHue: 0
- BlueSaturation: 0
- CameraProfile: Camera Standard
- Clarity2012: +5
- ColorNoiseReduction: 25
- ColorNoiseReductionDetail: 50
- ColorNoiseReductionSmoothness: 50
- ColorTemperature: 4600
- Contrast2012: 0
- ConvertToGrayscale: False
- DefringeGreenAmount: 0
- DefringeGreenHueHi: 60
- DefringeGreenHueLo: 40
- DefringePurpleAmount: 0
- DefringePurpleHueHi: 70
- DefringePurpleHueLo: 30
- Dehaze: 0
- Exposure2012: 0.00
- GrainAmount: 0
- GreenHue: 0
- GreenSaturation: 0
- HasCrop: False
- HasSettings: True
- Highlights2012: -20
- HueAdjustmentAqua: 0
- HueAdjustmentBlue: 0
- HueAdjustmentGreen: 0
- HueAdjustmentMagenta: 0
- HueAdjustmentOrange: 0
- HueAdjustmentPurple: 0
- HueAdjustmentRed: 0
- HueAdjustmentYellow: 0
- LensManualDistortionAmount: 0
- LensProfileChromaticAberrationScale: 100
- LensProfileDistortionScale: 100
- LensProfileEnable: 1
- LensProfileFilename: SIGMA (SIGMA 35mm F1.2 DG DN A019 L Mount) - RAW.lcp
- LensProfileSetup: Custom
- LensProfileVignettingScale: 0
- LuminanceAdjustmentAqua: 0
- LuminanceAdjustmentBlue: 0
- LuminanceAdjustmentGreen: 0
- LuminanceAdjustmentMagenta: 0
- LuminanceAdjustmentOrange: 0
- LuminanceAdjustmentPurple: 0
- LuminanceAdjustmentRed: 0
- LuminanceAdjustmentYellow: 0
- LuminanceSmoothing: 0
- OverrideLookVignette: False
- PaintCorrectionActive: true
- PaintCorrectionAmount: 1.000000
- PaintCorrectionBrightness: 0.000000
- PaintCorrectionClarity: 0.000000
- PaintCorrectionClarity2012: 0.300000
- PaintCorrectionContrast: 0.000000
- PaintCorrectionContrast2012: 0.000000
- PaintCorrectionCorrectionRangeMaskColorAmount: 0.500000
- PaintCorrectionCorrectionRangeMaskDepthFeather: 0.500000
- PaintCorrectionCorrectionRangeMaskDepthMax: 1.000000
- PaintCorrectionCorrectionRangeMaskDepthMin: 0.000000
- PaintCorrectionCorrectionRangeMaskLumFeather: 0.500000
- PaintCorrectionCorrectionRangeMaskLumMax: 1.000000
- PaintCorrectionCorrectionRangeMaskLumMin: 0.000000
- PaintCorrectionCorrectionRangeMaskType: 0
- PaintCorrectionCorrectionRangeMaskVersion: +2
- PaintCorrectionDefringe: 0.000000
- PaintCorrectionExposure: 0.000000
- PaintCorrectionExposure2012: 0.125000
- PaintCorrectionHighlights2012: 0.000000
- PaintCorrectionHue: 0.000000
- PaintCorrectionLocalBlacks2012: 0.000000
- PaintCorrectionLocalDehaze: 0.000000
- PaintCorrectionLocalTexture: 0.000000
- PaintCorrectionLocalWhites2012: 0.390000
- PaintCorrectionLuminanceNoise: 0.000000
- PaintCorrectionMaskCenterWeight: 0.000000
- PaintCorrectionMaskFlow: 0.888889
- PaintCorrectionMaskRadius: 0.152830
- PaintCorrectionMaskValue: 1.000000
- PaintCorrectionMaskWhat: Mask/Paint
- PaintCorrectionMoire: 0.000000
- PaintCorrectionSaturation: 0.000000
- PaintCorrectionShadows2012: 0.170000
- PaintCorrectionSharpness: 0.110000
- PaintCorrectionTemperature: 0.000000
- PaintCorrectionTint: 0.000000
- PaintCorrectionWhat: Correction
- ParametricDarks: 0
- ParametricHighlightSplit: 75
- ParametricHighlights: 0
- ParametricLights: 0
- ParametricMidtoneSplit: 50
- ParametricShadowSplit: 25
- ParametricShadows: 0
- PerspectiveAspect: 0
- PerspectiveHorizontal: 0
- PerspectiveRotate: 0.0
- PerspectiveScale: 100
- PerspectiveUpright: 0
- PerspectiveVertical: 0
- PerspectiveX: 0.00
- PerspectiveY: 0.00
- PostCropVignetteAmount: 0
- ProcessVersion: 11.0
- RedHue: 0
- RedSaturation: 0
- Saturation: 0
- SaturationAdjustmentAqua: 0
- SaturationAdjustmentBlue: 0
- SaturationAdjustmentGreen: 0
- SaturationAdjustmentMagenta: 0
- SaturationAdjustmentOrange: 0
- SaturationAdjustmentPurple: 0
- SaturationAdjustmentRed: 0
- SaturationAdjustmentYellow: 0
- ShadowTint: -1
- Shadows2012: 0
- SharpenDetail: 25
- SharpenEdgeMasking: 0
- SharpenRadius: +1.0
- Sharpness: 25
- SplitToningBalance: 0
- SplitToningHighlightHue: 0
- SplitToningHighlightSaturation: 0
- SplitToningShadowHue: 0
- SplitToningShadowSaturation: 0
- Texture: 0
- Tint: +13
- ToneCurve: 0, 0, 32, 22, 64, 56, 128, 128, 192, 196, 255, 255
- ToneCurveBlue: 0, 0, 255, 255
- ToneCurveGreen: 0, 0, 255, 255
- ToneCurveName: Medium Contrast
- ToneCurveName2012: Custom
- ToneCurvePV2012: 0, 0, 125, 130, 255, 255
- ToneCurvePV2012Blue: 0, 0, 255, 255
- ToneCurvePV2012Green: 0, 0, 255, 255
- ToneCurvePV2012Red: 0, 0, 255, 255
- ToneCurveRed: 0, 0, 255, 255
- ToneMapStrength: 0
- Version: 12.2.1
- Vibrance: 0
- VignetteAmount: 0
- WhiteBalance: As Shot
- Whites2012: +48
- XMP-dc
- Creator: Andrew Nik
- Format: image/jpeg
- XMP-exifEX
- XMP-xmp
- ModifyDate: 2022:04:23 23:25:13+03:00
- Rating: 0
- XMP-xmpMM
- Просмотров: 124
- Рейтинг: голосов еще нет
- Отзывов: отключены