Уважаемые друзья и участники проекта iXBT.photo! К сожалению, 1 марта 2026 года проект iXBT.photo прекратит свою работу и будет закрыт. Мы высоко ценим ваше участие и тот вклад, который вы внесли в развитие нашего сообщества. Пожалуйста, не забудьте сохранить ваши фотографии до этой даты.
С уважением, команда iXBT.com
| IMG_4789.png |
IMG_4789.png
- Раздел: Другое, разное
- Дата съёмки: неизвестно
- Дата загрузки фото: 25.08.2022 06:44
- Оригинальная фотография: 1700 x 1133 (2,9 Мб)
- Технические характеристики:
- Фотоаппарат: Canon EOS RP
- Выдержка: 1/160
- Гиперфокальное расстояние: inf m
- Диафрагма: 2,0
- Светочувствительность: 3200
- Фокусное расстояние: 35,0 mm (35 mm equivalent: 105,0 mm)
- Полный EXIF
- Composite
- Aperture: 2,0
- CircleOfConfusion: 0,008 mm
- FOV: 19,0 deg
- Flash: On, Fired
- FocalLength35efl: 35,0 mm (35 mm equivalent: 105,0 mm)
- HyperfocalDistance: inf m
- LensID: Canon RF35mm F1.8 MACRO IS STM
- Megapixels: 1,9
- ScaleFactor35efl: 3,7
- ShutterSpeed: 1/160
- ICC-header
- ICC-meas
- ICC-view
- PNG
- BitDepth: 8
- ColorType: RGB
- Filter: Adaptive
- ImageHeight: 1133
- ImageWidth: 1700
- Interlace: Noninterlaced
- ProfileName: sRGB IEC61966-2.1
- PNG-pHYs
- PixelUnits: meters
- PixelsPerUnitX: 9449
- PixelsPerUnitY: 9449
- System
- XMP-aux
- ApproximateFocusDistance: 3,56
- DistortionCorrectionAlreadyApplied: True
- Firmware: 1.6.0
- FlashCompensation: -0,666666666666667
- ImageNumber: 0
- LateralChromaticAberrationCorrectionAlreadyApplied: True
- Lens: RF35mm F1.8 MACRO IS STM
- LensID: 61182
- LensInfo: 35mm f/?
- LensSerialNumber: 1782003860
- SerialNumber: 043022004582
- VignetteCorrectionAlreadyApplied: True
- XMP-crs
- AlreadyApplied: True
- AutoLateralCA: 0
- Blacks2012: -57
- BlueHue: -100
- BlueSaturation: -100
- CameraProfile: Embedded
- Clarity2012: 0
- ColorGradeBlending: 50
- ColorGradeGlobalHue: 0
- ColorGradeGlobalLum: 0
- ColorGradeGlobalSat: 0
- ColorGradeHighlightLum: 0
- ColorGradeMidtoneHue: 0
- ColorGradeMidtoneLum: 0
- ColorGradeMidtoneSat: 0
- ColorGradeShadowLum: 0
- ColorNoiseReduction: 0
- Contrast2012: 0
- ConvertToGrayscale: False
- CropAngle: 0
- CropBottom: 0.972906
- CropConstrainToWarp: 0
- CropLeft: 0.055829
- CropRight: 1
- CropTop: 0.028735
- DefringeGreenAmount: 0
- DefringeGreenHueHi: 60
- DefringeGreenHueLo: 40
- DefringePurpleAmount: 0
- DefringePurpleHueHi: 70
- DefringePurpleHueLo: 30
- Dehaze: 0
- Exposure2012: +0.18
- GrainAmount: 0
- GreenHue: +100
- GreenSaturation: 0
- HasCrop: True
- HasSettings: True
- Highlights2012: -14
- HueAdjustmentAqua: +85
- HueAdjustmentBlue: +12
- HueAdjustmentGreen: +18
- HueAdjustmentMagenta: -3
- HueAdjustmentOrange: -19
- HueAdjustmentPurple: -49
- HueAdjustmentRed: -42
- HueAdjustmentYellow: +3
- IncrementalTemperature: 0
- IncrementalTint: -100
- LensManualDistortionAmount: 0
- LensProfileEnable: 0
- LuminanceAdjustmentAqua: 0
- LuminanceAdjustmentBlue: 0
- LuminanceAdjustmentGreen: -10
- LuminanceAdjustmentMagenta: +15
- LuminanceAdjustmentOrange: +12
- LuminanceAdjustmentPurple: +15
- LuminanceAdjustmentRed: +1
- LuminanceAdjustmentYellow: +1
- LuminanceSmoothing: 0
- OverrideLookVignette: False
- ParametricDarks: 0
- ParametricHighlightSplit: 75
- ParametricHighlights: 0
- ParametricLights: 0
- ParametricMidtoneSplit: 50
- ParametricShadowSplit: 25
- ParametricShadows: 0
- PerspectiveAspect: 0
- PerspectiveHorizontal: 0
- PerspectiveRotate: 0.0
- PerspectiveScale: 100
- PerspectiveUpright: 0
- PerspectiveVertical: 0
- PerspectiveX: 0.00
- PerspectiveY: 0.00
- PostCropVignetteAmount: -17
- PostCropVignetteFeather: 50
- PostCropVignetteHighlightContrast: 0
- PostCropVignetteMidpoint: 50
- PostCropVignetteRoundness: 0
- PostCropVignetteStyle: 1
- ProcessVersion: 11.0
- RawFileName:
- RedHue: +100
- RedSaturation: +10
- Saturation: 0
- SaturationAdjustmentAqua: -28
- SaturationAdjustmentBlue: -20
- SaturationAdjustmentGreen: -43
- SaturationAdjustmentMagenta: -3
- SaturationAdjustmentOrange: -15
- SaturationAdjustmentPurple: -23
- SaturationAdjustmentRed: -10
- SaturationAdjustmentYellow: -3
- ShadowTint: -12
- Shadows2012: 0
- Sharpness: 0
- SplitToningBalance: 0
- SplitToningHighlightHue: 0
- SplitToningHighlightSaturation: 0
- SplitToningShadowHue: 0
- SplitToningShadowSaturation: 0
- Texture: 0
- ToneCurveName2012: Custom
- ToneCurvePV2012: 0, 5, 45, 35, 180, 185, 255, 255
- ToneCurvePV2012Blue: 0, 0, 64, 56, 130, 125, 193, 196, 255, 255
- ToneCurvePV2012Green: 0, 0, 64, 58, 130, 125, 197, 206, 248, 255
- ToneCurvePV2012Red: 0, 0, 65, 61, 128, 125, 192, 194, 255, 255
- Version: 14.0
- Vibrance: 0
- VignetteAmount: 0
- WhiteBalance: Custom
- Whites2012: +10
- XMP-dc
- XMP-exif
- ApertureValue: 2,0
- CustomRendered: Normal
- DateTimeOriginal: 2022:08:21 21:24:44.41+05:00
- ExposureCompensation: 0
- ExposureMode: Manual
- ExposureProgram: Manual
- ExposureTime: 1/160
- FNumber: 2,0
- FlashFired: True
- FlashFunction: False
- FlashMode: On
- FlashRedEyeMode: False
- FlashReturn: No return detection
- FocalLength: 35,0 mm
- ISO: 3200
- MaxApertureValue: 1,8
- MeteringMode: Multi-segment
- RecommendedExposureIndex: 3200
- SceneCaptureType: Standard
- SensitivityType: 2
- ShutterSpeedValue: 1/160
- WhiteBalance: Auto
- XMP-exifEX
- LensModel: RF35mm F1.8 MACRO IS STM
- XMP-tiff
- Make: Canon
- Model: Canon EOS RP
- XMP-xmp
- CreateDate: 2022:08:21 21:24:44.41+05:00
- Label: Желтый
- ModifyDate: 2022:08:23 23:32:05+05:00
- Rating: 5
- XMP-xmpMM
- PreservedFileName: IMG_4789.CR3
- Просмотров: 44
- Рейтинг: голосов еще нет
- Отзывов: отключены
Получить код для блога
| Вставка фотографии в текущем разрешении |
Вставка миниатюры |
HTML (для вставки в блог):
BBCode (для вставки в форум):
Ссылка на фото:
Ссылка на миниатюру:
- Послать ссылку другу
| Комментарии к фотографии |