Уважаемые друзья и участники проекта iXBT.photo! К сожалению, 1 марта 2026 года проект iXBT.photo прекратит свою работу и будет закрыт. Мы высоко ценим ваше участие и тот вклад, который вы внесли в развитие нашего сообщества. Пожалуйста, не забудьте сохранить ваши фотографии до этой даты.
С уважением, команда iXBT.com
| 2007.07.22.00.40.22.jpg |
2007.07.22.00.40.22.jpg
- Раздел: Путешествия
- Дата съёмки: 04.12.2007 17:16
- Дата загрузки фото: 04.12.2007 18:07
- Оригинальная фотография: 800 x 737 (175 Кб)
- Технические характеристики:
- Фотоаппарат: Canon EOS 5D
- Выдержка: 1/500
- Гиперфокальное расстояние: 586,83 m
- Диафрагма: 5,0
- Светочувствительность: 1000
- Фокусное расстояние: 135,0mm (35mm эквивалент: 653,0mm)
- Экспокоррекция: -4/3
- Полный EXIF
- Adobe
- ColorTransform: YCbCr
- Composite
- Aperture: 5,0
- CircleOfConfusion: 0,006 mm
- FocalLength35efl: 135,0mm (35mm equivalent: 653,0mm)
- HyperfocalDistance: 586,83 m
- LightValue: 10,3
- ScaleFactor35efl: 4,8
- ShutterSpeed: 1/500
- ExifIFD
- ApertureValue: 5,0
- ColorSpace: sRGB
- CreateDate: 2007:07:22 00:40:22
- CustomRendered: Normal
- DateTimeOriginal: 2007:07:22 00:40:22
- ExifImageLength: 737
- ExifImageWidth: 800
- ExposureCompensation: -4/3
- ExposureMode: Auto
- ExposureProgram: Aperture-priority AE
- ExposureTime: 1/500
- FNumber: 5,0
- Flash: Off
- FocalLength: 135,0mm
- ISO: 1000
- MaxApertureValue: 4,8
- MeteringMode: Multi-segment
- SceneCaptureType: Standard
- ShutterSpeedValue: 1/500
- WhiteBalance: Auto
- ICC-header
- ICC-meas
- ICC-view
- IFD0
- Make: Canon
- Model: Canon EOS 5D
- ModifyDate: 2007:12:04 17:16:18
- Orientation: Horizontal (normal)
- IFD1
- IPTC
- XMP-aux
- Firmware: 1.1.0
- FlashCompensation: 0
- ImageNumber: 61
- Lens: EF100-400mm f/4.5-5.6L IS USM
- LensInfo: 100/1 400/1 0/0 0/0
- SerialNumber: 1020707638
- XMP-crs
- AlreadyApplied: True
- BlueHue: 0
- BlueSaturation: 0
- Brightness: +141
- CameraProfile: ACR 3.3
- ChromaticAberrationB: 0
- ChromaticAberrationR: 0
- Clarity: 60
- ColorNoiseReduction: 44
- Contrast: +18
- ConvertToGrayscale: False
- CropAngle: 0
- CropBottom: 1
- CropLeft: 0.224265
- CropRight: 0.810662
- CropTop: 0.190083
- Defringe: 0
- Exposure: -1.95
- FillLight: 90
- GreenHue: 0
- GreenSaturation: 0
- HasCrop: True
- HasSettings: True
- HighlightRecovery: 0
- HueAdjustmentAqua: 0
- HueAdjustmentBlue: 0
- HueAdjustmentGreen: 0
- HueAdjustmentMagenta: 0
- HueAdjustmentOrange: 0
- HueAdjustmentPurple: 0
- HueAdjustmentRed: 0
- HueAdjustmentYellow: 0
- LuminanceAdjustmentAqua: 0
- LuminanceAdjustmentBlue: 0
- LuminanceAdjustmentGreen: 0
- LuminanceAdjustmentMagenta: 0
- LuminanceAdjustmentOrange: 0
- LuminanceAdjustmentPurple: 0
- LuminanceAdjustmentRed: 0
- LuminanceAdjustmentYellow: 0
- LuminanceSmoothing: 30
- ParametricDarks: 0
- ParametricHighlightSplit: 75
- ParametricHighlights: 0
- ParametricLights: 0
- ParametricMidtoneSplit: 50
- ParametricShadowSplit: 25
- ParametricShadows: 0
- RawFileName: 2007.07.22.00.40.22.CR2
- RedHue: 0
- RedSaturation: 0
- Saturation: +6
- SaturationAdjustmentAqua: 0
- SaturationAdjustmentBlue: 0
- SaturationAdjustmentGreen: 0
- SaturationAdjustmentMagenta: 0
- SaturationAdjustmentOrange: 0
- SaturationAdjustmentPurple: 0
- SaturationAdjustmentRed: 0
- SaturationAdjustmentYellow: 0
- ShadowTint: 0
- Shadows: 21
- SharpenDetail: 62
- SharpenEdgeMasking: 0
- SharpenRadius: +0.7
- Sharpness: 88
- SplitToningBalance: 0
- SplitToningHighlightHue: 0
- SplitToningHighlightSaturation: 0
- SplitToningShadowHue: 0
- SplitToningShadowSaturation: 0
- Temperature: 2850
- Tint: 0
- ToneCurve: 0, 0, 32, 22, 64, 56, 128, 128, 192, 196, 255, 255
- ToneCurveName: Medium Contrast
- Version: 4.3
- Vibrance: +18
- VignetteAmount: 0
- XMP-dc
- XMP-exif
- DateTimeDigitized: 2007:07:22 00:40:22+04:00
- DateTimeOriginal: 2007:07:22 00:40:22+04:00
- FlashFired: False
- FlashFunction: False
- FlashMode: Off
- FlashRedEyeMode: False
- FlashReturn: No return detection
- XMP-tiff
- ImageHeight: 2358
- ImageWidth: 2561
- XMP-xmp
- CreateDate: 2007:12:04 17:16:18+03:00
- ModifyDate: 2007:12:04 17:16:18+03:00
- XMP-xmpMM
- DerivedFrom:
- Просмотров: 156
- Рейтинг: голосов еще нет
- Отзывов: 0
Получить код для блога
| Вставка фотографии в текущем разрешении |
Вставка миниатюры |
HTML (для вставки в блог):
BBCode (для вставки в форум):
Ссылка на фото:
Ссылка на миниатюру:
- Послать ссылку другу
| Комментарии к фотографии |