- Раздел: Природа
- Дата съёмки: 04.12.2007 17:43
- Дата загрузки фото: 04.12.2007 18:53
- Оригинальная фотография: 800 x 1105 (290 Кб)
- Технические характеристики:
- Фотоаппарат: FujiFilm FinePix S9500
- Выдержка: 1/450
- Гиперфокальное расстояние: 5,02 m
- Диафрагма: 3,2
- Светочувствительность: 200
- Фокусное расстояние: 8,6mm (35mm эквивалент: 56,1mm)
- Полный EXIF
- Adobe
- ColorTransform: YCbCr
- Composite
- Aperture: 3,2
- CircleOfConfusion: 0,005 mm
- FocalLength35efl: 8,6mm (35mm equivalent: 56,1mm)
- HyperfocalDistance: 5,02 m
- LightValue: 11,2
- ScaleFactor35efl: 6,5
- ShutterSpeed: 1/450
- ExifIFD
- ApertureValue: 3,2
- BrightnessValue: 6,74
- ColorSpace: sRGB
- Contrast: Normal
- CreateDate: 2007:11:16 14:56:24
- CustomRendered: Custom
- DateTimeOriginal: 2007:11:16 14:56:24
- ExifImageLength: 1105
- ExifImageWidth: 800
- ExposureCompensation: 0
- ExposureMode: Auto
- ExposureProgram: Program AE
- ExposureTime: 1/450
- FNumber: 3,2
- Flash: Off
- FocalLength: 8,6mm
- ISO: 200
- LightSource: Unknown (0)
- MaxApertureValue: 2,8
- MeteringMode: Multi-segment
- Saturation: Normal
- SceneCaptureType: Standard
- SceneType: Directly photographed
- SensingMethod: One-chip color area
- Sharpness: Soft
- ShutterSpeedValue: 1/450
- WhiteBalance: Auto
- ICC-header
- ICC-meas
- ICC-view
- IFD0
- BitsPerSample: 8 8 8
- ImageHeight: 2832
- ImageWidth: 2051
- Make: FUJIFILM
- Model: FinePix S9500
- ModifyDate: 2007:12:04 17:45:12
- Orientation: Horizontal (normal)
- PhotometricInterpretation: RGB
- PlanarConfiguration: Chunky
- SamplesPerPixel: 3
- IFD1
- IPTC
- XMP-crs
- AlreadyApplied: True
- BlueHue: 0
- BlueSaturation: 0
- Brightness: +47
- CameraProfile: ACR 3.3
- ChromaticAberrationB: 0
- ChromaticAberrationR: 0
- Clarity: 38
- ColorNoiseReduction: 32
- Contrast: +58
- ConvertToGrayscale: False
- Defringe: 0
- Exposure: +0.05
- FillLight: 2
- GreenHue: 0
- GreenSaturation: 0
- HasCrop: False
- HasSettings: True
- HighlightRecovery: 0
- HueAdjustmentAqua: 0
- HueAdjustmentBlue: 0
- HueAdjustmentGreen: 0
- HueAdjustmentMagenta: 0
- HueAdjustmentOrange: 0
- HueAdjustmentPurple: 0
- HueAdjustmentRed: 0
- HueAdjustmentYellow: 0
- LuminanceAdjustmentAqua: 0
- LuminanceAdjustmentBlue: 0
- LuminanceAdjustmentGreen: 0
- LuminanceAdjustmentMagenta: 0
- LuminanceAdjustmentOrange: 0
- LuminanceAdjustmentPurple: 0
- LuminanceAdjustmentRed: 0
- LuminanceAdjustmentYellow: 0
- LuminanceSmoothing: 100
- ParametricDarks: +8
- ParametricHighlightSplit: 75
- ParametricHighlights: -21
- ParametricLights: -18
- ParametricMidtoneSplit: 50
- ParametricShadowSplit: 25
- ParametricShadows: -36
- RawFileName: DSCF8965.RAF
- RedHue: 0
- RedSaturation: 0
- Saturation: -8
- SaturationAdjustmentAqua: 0
- SaturationAdjustmentBlue: 0
- SaturationAdjustmentGreen: 0
- SaturationAdjustmentMagenta: 0
- SaturationAdjustmentOrange: 0
- SaturationAdjustmentPurple: 0
- SaturationAdjustmentRed: 0
- SaturationAdjustmentYellow: 0
- ShadowTint: 0
- Shadows: 72
- SharpenDetail: 43
- SharpenEdgeMasking: 0
- SharpenRadius: +1.0
- Sharpness: 25
- SplitToningBalance: 0
- SplitToningHighlightHue: 0
- SplitToningHighlightSaturation: 0
- SplitToningShadowHue: 0
- SplitToningShadowSaturation: 0
- Temperature: 4700
- Tint: -2
- ToneCurve: 0, 0, 32, 22, 64, 56, 128, 128, 192, 196, 255, 255
- ToneCurveName: Medium Contrast
- Version: 4.1
- Vibrance: +37
- VignetteAmount: 0
- WhiteBalance: As Shot
- XMP-dc
- CreatorTool: Digital Camera FinePix S9500 Ver1.01
- Format: image/jpeg
- XMP-exif
- DateTimeDigitized: 2007:11:16 14:56:24-08:00
- DateTimeOriginal: 2007:11:16 14:56:24-08:00
- FlashFired: False
- FlashFunction: False
- FlashMode: Off
- FlashRedEyeMode: False
- FlashReturn: No return detection
- SubjectDistanceRange: Unknown
- XMP-tiff
- BitsPerSample: 8, 8, 8
- XMP-xmp
- CreateDate: 2007:12:04 17:43:56-08:00
- ModifyDate: 2007:12:04 17:45:12-08:00
- Rating: 0
- XMP-xmpMM
- Просмотров: 299
- Рейтинг: голосов еще нет
- Отзывов: 0