- Раздел: Другое, разное
- Дата съёмки: 22.08.2009 21:51
- Дата загрузки фото: 14.01.2023 21:52
- Оригинальная фотография: 1613 x 1080 (1,3 Мб)
- Технические характеристики:
- Фотоаппарат: Nikon D200
- Выдержка: 0,0
- Гиперфокальное расстояние: inf m
- Диафрагма: 4,0
- Светочувствительность: 200
- Фокусное расстояние: 70,0 mm (35 mm equivalent: 70,0 mm)
- Полный EXIF
- Adobe
- ColorTransform: YCbCr
- Composite
- Aperture: 4,0
- CircleOfConfusion: 0,020 mm
- FOV: 28,0 deg
- FocalLength35efl: 70,0 mm (35 mm equivalent: 70,0 mm)
- HyperfocalDistance: inf m
- LensID: AF-S VR Zoom-Nikkor 70-200mm f/2.8G IF-ED
- Megapixels: 1,7
- ScaleFactor35efl: 1,5
- ShutterSpeed: 0,0
- ExifIFD
- ApertureValue: 4,0
- CFAPattern: [Green,Red][Blue,Green]
- ColorSpace: Uncalibrated
- Contrast: Low
- CreateDate: 2009:08:22 21:51:15
- CustomRendered: Normal
- DateTimeOriginal: 2009:08:22 21:51:15
- DigitalZoomRatio: 1
- ExifImageHeight: 1080
- ExifImageWidth: 1613
- ExposureCompensation: 0
- ExposureMode: Manual
- ExposureProgram: Manual
- ExposureTime: 0,0
- FNumber: 4,0
- Flash: No Flash
- FocalLength: 70,0 mm
- FocalLengthIn35mmFormat: 105 mm
- GainControl: None
- ISO: 200
- LensInfo: 70-200mm f/2.8
- LensModel: 70.0-200.0 mm f/2.8
- LightSource: Fine Weather
- MaxApertureValue: 2,0
- MeteringMode: Multi-segment
- Saturation: Normal
- SceneCaptureType: Standard
- SceneType: Directly photographed
- SensingMethod: One-chip color area
- Sharpness: Soft
- ShutterSpeedValue: 1/256
- SubjectDistanceRange: Unknown
- WhiteBalance: Manual
- ICC-header
- IFD0
- BitsPerSample: 16 16 16
- ImageHeight: 2592
- ImageWidth: 3872
- Make: NIKON CORPORATION
- Model: NIKON D200
- ModifyDate: 2023:01:14 21:49:01
- Orientation: Horizontal (normal)
- PhotometricInterpretation: RGB
- PlanarConfiguration: Chunky
- SamplesPerPixel: 3
- IFD1
- IPTC
- DateCreated: 2009:08:22
- System
- XMP-aux
- ApproximateFocusDistance: 4294967295
- DistortionCorrectionAlreadyApplied: True
- ImageNumber: 3482
- Lens: 70.0-200.0 mm f/2.8
- LensID: 119
- VignetteCorrectionAlreadyApplied: True
- XMP-crs
- AlreadyApplied: True
- AutoLateralCA: 0
- Blacks2012: -23
- BlueHue: 0
- BlueSaturation: 0
- Clarity2012: 0
- ColorGradeBlending: 50
- ColorGradeGlobalHue: 0
- ColorGradeGlobalLum: 0
- ColorGradeGlobalSat: 0
- ColorGradeHighlightLum: 0
- ColorGradeMidtoneHue: 0
- ColorGradeMidtoneLum: 0
- ColorGradeMidtoneSat: 0
- ColorGradeShadowLum: 0
- ColorNoiseReduction: 25
- ColorNoiseReductionDetail: 50
- ColorNoiseReductionSmoothness: 50
- ColorTemperature: 4950
- Contrast2012: +6
- DefringeGreenAmount: 0
- DefringeGreenHueHi: 60
- DefringeGreenHueLo: 40
- DefringePurpleAmount: 0
- DefringePurpleHueHi: 70
- DefringePurpleHueLo: 30
- Dehaze: 0
- Exposure2012: +1.35
- GrainAmount: 0
- GreenHue: 0
- GreenSaturation: 0
- HasCrop: False
- HasSettings: True
- Highlights2012: -66
- HueAdjustmentAqua: 0
- HueAdjustmentBlue: 0
- HueAdjustmentGreen: 0
- HueAdjustmentMagenta: 0
- HueAdjustmentOrange: 0
- HueAdjustmentPurple: 0
- HueAdjustmentRed: 0
- HueAdjustmentYellow: 0
- LensManualDistortionAmount: 0
- LensProfileDistortionScale: 100
- LensProfileEnable: 1
- LensProfileFilename: NIKON D3X (Nikon FX 70-200mm f2.8 G IF ED) - RAW.lcp
- LensProfileIsEmbedded: False
- LensProfileSetup: LensDefaults
- LensProfileVignettingScale: 100
- LookAmount: 1
- LookGroup: Profiles
- LookParametersConvertToGrayscale: False
- LookParametersLookTable: E1095149FDB39D7A057BAB208837E2E1
- LookParametersProcessVersion: 11.0
- LookParametersToneCurvePV2012: 0, 0, 22, 16, 40, 35, 127, 127, 224, 230, 240, 246, 255, 255
- LookParametersToneCurvePV2012Blue: 0, 0, 255, 255
- LookParametersToneCurvePV2012Green: 0, 0, 255, 255
- LookParametersToneCurvePV2012Red: 0, 0, 255, 255
- LookParametersVersion: 14.1
- LookSupportsAmount: false
- LookSupportsMonochrome: false
- LookSupportsOutputReferred: false
- LuminanceAdjustmentAqua: 0
- LuminanceAdjustmentBlue: 0
- LuminanceAdjustmentGreen: 0
- LuminanceAdjustmentMagenta: 0
- LuminanceAdjustmentOrange: 0
- LuminanceAdjustmentPurple: 0
- LuminanceAdjustmentRed: 0
- LuminanceAdjustmentYellow: 0
- LuminanceSmoothing: 0
- OverrideLookVignette: False
- ParametricDarks: 0
- ParametricHighlightSplit: 75
- ParametricHighlights: 0
- ParametricLights: 0
- ParametricMidtoneSplit: 50
- ParametricShadowSplit: 25
- ParametricShadows: 0
- PerspectiveAspect: 0
- PerspectiveHorizontal: 0
- PerspectiveRotate: 0.0
- PerspectiveScale: 100
- PerspectiveUpright: 0
- PerspectiveVertical: 0
- PerspectiveX: 0.00
- PerspectiveY: 0.00
- PostCropVignetteAmount: 0
- ProcessVersion: 11.0
- RedHue: 0
- RedSaturation: 0
- Saturation: -2
- SaturationAdjustmentAqua: 0
- SaturationAdjustmentBlue: 0
- SaturationAdjustmentGreen: 0
- SaturationAdjustmentMagenta: 0
- SaturationAdjustmentOrange: 0
- SaturationAdjustmentPurple: 0
- SaturationAdjustmentRed: 0
- SaturationAdjustmentYellow: 0
- ShadowTint: 0
- Shadows2012: +80
- SharpenDetail: 25
- SharpenEdgeMasking: 0
- SharpenRadius: +1.0
- Sharpness: 40
- SplitToningBalance: 0
- SplitToningHighlightHue: 0
- SplitToningHighlightSaturation: 0
- SplitToningShadowHue: 0
- SplitToningShadowSaturation: 0
- Texture: 0
- Tint: -3
- ToneCurveName2012: Linear
- ToneCurvePV2012: 0, 0, 255, 255
- ToneCurvePV2012Blue: 0, 0, 255, 255
- ToneCurvePV2012Green: 0, 0, 255, 255
- ToneCurvePV2012Red: 0, 0, 255, 255
- Version: 14.1
- Vibrance: +14
- VignetteAmount: 0
- WhiteBalance: As Shot
- Whites2012: +34
- XMP-dc
- XMP-pmtm
- BlackClip: 3.000
- BlendWithEV: 0.0
- BlendingOpacity: 0.0
- Brightness: 0.0
- BrightnessIndividualColors: 0.0,0.0,0.0,0.0,0.0,0.0,0.0,0.0
- ColorTemperature: 0.0
- IsPano360: No
- LightingEffect: 20.0
- Luminance: 0.0
- Method: Contrast Optimizer
- Saturation: 0.0
- SaturationIndividualColors: 0.0,0.0,0.0,0.0,0.0,0.0,0.0,0.0
- Strength: 50.0
- TemperatureIndividualColors: 0.0,0.0,0.0,0.0,0.0,0.0,0.0,0.0
- ToneCompression: 0.0
- Version: 6.0
- WhiteClip: 3.992
- XMP-xmp
- CreatorTool: Ver.1.00
- ModifyDate: 2023:01:14 21:49:01+03:00
- XMP-xmpMM
- Просмотров: 80
- Рейтинг: голосов еще нет
- Отзывов: 0