- Раздел: Активный отдых, туризм
- Дата съёмки: 20.05.2014 10:55
- Дата загрузки фото: 19.01.2023 14:32
- Оригинальная фотография: 6000 x 4000 (8,1 Мб)
- Технические характеристики:
- Фотоаппарат: Nikon D7100
- Выдержка: 0,0
- Гиперфокальное расстояние: inf m
- Диафрагма: 6,3
- Светочувствительность: 100
- Фокусное расстояние: 12,0 mm (35 mm equivalent: 12,0 mm)
- Полный EXIF
- Adobe
- ColorTransform: YCbCr
- Composite
- Aperture: 6,3
- CircleOfConfusion: 0,020 mm
- FOV: 112,0 deg
- FocalLength35efl: 12,0 mm (35 mm equivalent: 12,0 mm)
- GPSAltitude: 4 m Above Sea Level
- GPSDateTime: 2014:05:20 06:56:15Z
- GPSLatitude: 54 deg 50' 18,00" N
- GPSLatitudeRef: North
- GPSLongitude: 37 deg 46' 31,00" E
- GPSLongitudeRef: East
- GPSPosition: 54 deg 50' 18,00" N, 37 deg 46' 31,00" E
- HyperfocalDistance: inf m
- LensID: Tokina AT-X 124 AF PRO DX II (AF 12-24mm f/4) or AF-S DX Zoom-Nikkor 12-24mm f/4G IF-ED
- Megapixels: 24,0
- ScaleFactor35efl: 1,5
- ShutterSpeed: 0,0
- ExifIFD
- ApertureValue: 5,7
- CFAPattern: [Red,Green][Green,Blue]
- ColorSpace: sRGB
- Contrast: Normal
- CreateDate: 2014:05:20 10:55:20
- CustomRendered: Normal
- DateTimeOriginal: 2014:05:20 10:55:20
- DigitalZoomRatio: 1
- ExifImageHeight: 4000
- ExifImageWidth: 6000
- ExposureCompensation: 0
- ExposureMode: Auto
- ExposureProgram: Aperture-priority AE
- ExposureTime: 0,0
- FNumber: 6,3
- Flash: Off, Did not fire
- FocalLength: 12,0 mm
- FocalLengthIn35mmFormat: 18 mm
- GainControl: None
- ISO: 100
- LensInfo: 12-24mm f/4
- LensModel: 12.0-24.0 mm f/4.0
- LightSource: Unknown
- MaxApertureValue: 4,0
- MeteringMode: Multi-segment
- Saturation: Normal
- SceneCaptureType: Standard
- SceneType: Directly photographed
- SensingMethod: One-chip color area
- SensitivityType: Recommended Exposure Index
- SerialNumber: 4356224
- Sharpness: Normal
- ShutterSpeedValue: 1/64
- SubjectDistanceRange: Unknown
- WhiteBalance: Auto
- GPS
- GPSAltitude: 4 m
- GPSAltitudeRef: Above Sea Level
- GPSDateStamp: 2014:05:20
- GPSLatitude: 54 deg 50' 18,00"
- GPSLongitude: 37 deg 46' 31,00"
- GPSMapDatum: WGS-84
- GPSTimeStamp: 06:56:15
- GPSVersionID: 2.2.0.0
- ICC-header
- ICC-meas
- ICC-view
- IFD0
- Artist: < Mutaborr >
- Copyright: < Mutaborr >
- Make: NIKON CORPORATION
- Model: NIKON D7100
- ModifyDate: 2014:05:20 10:55:20
- Orientation: Horizontal (normal)
- IFD1
- IPTC
- By-line: < Mutaborr >
- CopyrightNotice: < Mutaborr >
- DateCreated: 2014:05:20
- System
- XMP-aux
- ApproximateFocusDistance: 1
- ImageNumber: 2218
- LateralChromaticAberrationCorrectionAlreadyApplied: True
- Lens: 12.0-24.0 mm f/4.0
- LensID: 122
- VignetteCorrectionAlreadyApplied: True
- XMP-crs
- AlreadyApplied: True
- AutoLateralCA: 1
- AutoWhiteVersion: 134348800
- Blacks2012: +16
- BlueHue: 0
- BlueSaturation: 0
- CameraProfile: Camera Landscape
- Clarity2012: 0
- ColorNoiseReduction: 25
- ColorNoiseReductionDetail: 50
- ColorNoiseReductionSmoothness: 50
- ColorTemperature: 5550
- Contrast2012: 0
- ConvertToGrayscale: False
- DefringeGreenAmount: 1
- DefringeGreenHueHi: 60
- DefringeGreenHueLo: 40
- DefringePurpleAmount: 1
- DefringePurpleHueHi: 70
- DefringePurpleHueLo: 30
- Dehaze: 0
- Exposure2012: -1.00
- GrainAmount: 0
- GreenHue: 0
- GreenSaturation: 0
- HasCrop: False
- HasSettings: True
- Highlights2012: -63
- HueAdjustmentAqua: 0
- HueAdjustmentBlue: 0
- HueAdjustmentGreen: 0
- HueAdjustmentMagenta: 0
- HueAdjustmentOrange: 0
- HueAdjustmentPurple: 0
- HueAdjustmentRed: 0
- HueAdjustmentYellow: 0
- LensManualDistortionAmount: 0
- LensProfileChromaticAberrationScale: 100
- LensProfileDistortionScale: 0
- LensProfileEnable: 1
- LensProfileFilename: NIKON D90 (Nikon AF-S DX Zoom-Nikkor 12-24mm f4G IF-ED) - RAW.lcp
- LensProfileSetup: Custom
- LensProfileVignettingScale: 100
- LuminanceAdjustmentAqua: 0
- LuminanceAdjustmentBlue: 0
- LuminanceAdjustmentGreen: 0
- LuminanceAdjustmentMagenta: 0
- LuminanceAdjustmentOrange: 0
- LuminanceAdjustmentPurple: 0
- LuminanceAdjustmentRed: 0
- LuminanceAdjustmentYellow: 0
- LuminanceSmoothing: 0
- ParametricDarks: 0
- ParametricHighlightSplit: 75
- ParametricHighlights: 0
- ParametricLights: 0
- ParametricMidtoneSplit: 50
- ParametricShadowSplit: 25
- ParametricShadows: 0
- PerspectiveAspect: 0
- PerspectiveHorizontal: 0
- PerspectiveRotate: 0.0
- PerspectiveScale: 100
- PerspectiveUpright: 0
- PerspectiveVertical: 0
- PostCropVignetteAmount: 0
- ProcessVersion: 6.7
- RawFileName: NEF_2132.NEF
- RedHue: 0
- RedSaturation: 0
- Saturation: 0
- SaturationAdjustmentAqua: 0
- SaturationAdjustmentBlue: 0
- SaturationAdjustmentGreen: 0
- SaturationAdjustmentMagenta: 0
- SaturationAdjustmentOrange: 0
- SaturationAdjustmentPurple: 0
- SaturationAdjustmentRed: 0
- SaturationAdjustmentYellow: 0
- ShadowTint: 0
- Shadows2012: +80
- SharpenDetail: 25
- SharpenEdgeMasking: 0
- SharpenRadius: +1.0
- Sharpness: 25
- SplitToningBalance: 0
- SplitToningHighlightHue: 0
- SplitToningHighlightSaturation: 0
- SplitToningShadowHue: 0
- SplitToningShadowSaturation: 0
- Tint: +10
- ToneCurve: 0, 0, 32, 22, 64, 56, 128, 128, 192, 196, 255, 255
- ToneCurveBlue: 0, 0, 255, 255
- ToneCurveGreen: 0, 0, 255, 255
- ToneCurveName: Medium Contrast
- ToneCurveName2012: Linear
- ToneCurvePV2012: 0, 0, 255, 255
- ToneCurvePV2012Blue: 0, 0, 255, 255
- ToneCurvePV2012Green: 0, 0, 255, 255
- ToneCurvePV2012Red: 0, 0, 255, 255
- ToneCurveRed: 0, 0, 255, 255
- ToneMapStrength: 0
- Version: 9.5
- Vibrance: 0
- VignetteAmount: 0
- WhiteBalance: Custom
- Whites2012: 0
- XMP-dc
- Creator: < Mutaborr >
- Format: image/jpeg
- Rights: < Mutaborr >
- XMP-exif
- DateTimeDigitized: 2014:05:20 10:55:20+04:00
- DateTimeOriginal: 2014:05:20 10:55:20+04:00
- XMP-x
- XMP-xmp
- CreatorTool: Ver.1.01
- ModifyDate: 2014:05:20 10:55:20+04:00
- XMP-xmpMM
- Просмотров: 6
- Рейтинг: голосов еще нет
- Отзывов: отключены