- Раздел: Другое, разное
- Дата съёмки: неизвестно
- Дата загрузки фото: 24.01.2023 20:31
- Оригинальная фотография: 11552 x 8672 (45,8 Мб)
- Технические характеристики:
- Фотоаппарат: Panasonic DC-GH6
- Выдержка: 0,0
- Гиперфокальное расстояние: inf m
- Диафрагма: 1,7
- Светочувствительность: 1600
- Фокусное расстояние: 18,0 mm (35 mm equivalent: 36,0 mm)
- Полный EXIF
- Adobe
- ColorTransform: YCbCr
- Composite
- Aperture: 1,7
- CircleOfConfusion: 0,015 mm
- FOV: 53,0 deg
- FocalLength35efl: 18,0 mm (35 mm equivalent: 36,0 mm)
- HyperfocalDistance: inf m
- Megapixels: 100,2
- ScaleFactor35efl: 2,0
- ShutterSpeed: 0,0
- ExifIFD
- ApertureValue: 1,4
- ColorSpace: sRGB
- Contrast: Normal
- CreateDate: 2022:12:10 18:53:32
- CustomRendered: Normal
- DateTimeOriginal: 2022:12:10 18:53:32
- DigitalZoomRatio: 0
- ExposureCompensation: 0
- ExposureMode: Manual
- ExposureProgram: Manual
- ExposureTime: 0,0
- FNumber: 1,7
- Flash: Off, Did not fire
- FocalLength: 18,0 mm
- FocalLengthIn35mmFormat: 36 mm
- GainControl: High gain up
- ISO: 1600
- LensModel: LEICA DG 10-25/F1.7
- LensSerialNumber: 9GA10106100
- LightSource: Unknown
- MaxApertureValue: 1,4
- MeteringMode: Multi-segment
- Saturation: Normal
- SceneCaptureType: Standard
- SceneType: Directly photographed
- SensingMethod: One-chip color area
- SensitivityType: Standard Output Sensitivity
- SerialNumber: WG2AA003745
- Sharpness: Normal
- ShutterSpeedValue: 1/64
- StandardOutputSensitivity: 1600
- WhiteBalance: Auto
- ICC-header
- ICC-meas
- ICC-view
- IFD0
- Make: Panasonic
- Model: DC-GH6
- ModifyDate: 2023:01:24 19:19:20
- IFD1
- IPTC
- DateCreated: 2022:12:10
- System
- XMP-aux
- DistortionCorrectionAlreadyApplied: True
- LateralChromaticAberrationCorrectionAlreadyApplied: True
- Lens: LEICA DG 10-25/F1.7
- XMP-crs
- AlreadyApplied: True
- AutoLateralCA: 1
- Blacks2012: -20
- BlueHue: 0
- BlueSaturation: 0
- Clarity2012: +3
- ColorGradeBlending: 56
- ColorGradeGlobalHue: 0
- ColorGradeGlobalLum: 0
- ColorGradeGlobalSat: 0
- ColorGradeHighlightLum: -22
- ColorGradeMidtoneHue: 0
- ColorGradeMidtoneLum: -53
- ColorGradeMidtoneSat: 0
- ColorGradeShadowLum: +33
- ColorNoiseReduction: 30
- ColorNoiseReductionDetail: 50
- ColorNoiseReductionSmoothness: 60
- ColorTemperature: 3800
- Contrast2012: +40
- CropAngle: 0
- CropBottom: 1
- CropConstrainToWarp: 0
- CropLeft: 0
- CropRight: 1
- CropTop: 0
- DefringeGreenAmount: 0
- DefringeGreenHueHi: 60
- DefringeGreenHueLo: 40
- DefringePurpleAmount: 0
- DefringePurpleHueHi: 70
- DefringePurpleHueLo: 30
- Dehaze: +15
- EnableTransform: False
- Exposure2012: +0.50
- GrainAmount: 8
- GrainFrequency: 30
- GrainSize: 25
- GreenHue: 0
- GreenSaturation: 0
- HasCrop: False
- HasSettings: True
- Highlights2012: -73
- HueAdjustmentAqua: +8
- HueAdjustmentBlue: +13
- HueAdjustmentGreen: 0
- HueAdjustmentMagenta: +3
- HueAdjustmentOrange: 0
- HueAdjustmentPurple: +8
- HueAdjustmentRed: +11
- HueAdjustmentYellow: -3
- LensManualDistortionAmount: 0
- LensProfileDistortionScale: 100
- LensProfileEnable: 1
- LensProfileIsEmbedded: True
- LensProfileName: Camera Settings
- LensProfileSetup: Custom
- LensProfileVignettingScale: 100
- LookAmount: 1
- LookGroup: Profiles
- LookParametersConvertToGrayscale: False
- LookParametersLookTable: E1095149FDB39D7A057BAB208837E2E1
- LookParametersProcessVersion: 11.0
- LookParametersToneCurvePV2012: 0, 0, 22, 16, 40, 35, 127, 127, 224, 230, 240, 246, 255, 255
- LookParametersToneCurvePV2012Blue: 0, 0, 255, 255
- LookParametersToneCurvePV2012Green: 0, 0, 255, 255
- LookParametersToneCurvePV2012Red: 0, 0, 255, 255
- LookParametersVersion: 15.1
- LookSupportsAmount: false
- LookSupportsMonochrome: false
- LookSupportsOutputReferred: false
- LuminanceAdjustmentAqua: -15
- LuminanceAdjustmentBlue: -22
- LuminanceAdjustmentGreen: -8
- LuminanceAdjustmentMagenta: 0
- LuminanceAdjustmentOrange: +7
- LuminanceAdjustmentPurple: -11
- LuminanceAdjustmentRed: 0
- LuminanceAdjustmentYellow: +3
- LuminanceNoiseReductionContrast: 16
- LuminanceNoiseReductionDetail: 70
- LuminanceSmoothing: 40
- OverrideLookVignette: False
- ParametricDarks: 0
- ParametricHighlightSplit: 75
- ParametricHighlights: 0
- ParametricLights: 0
- ParametricMidtoneSplit: 50
- ParametricShadowSplit: 25
- ParametricShadows: 0
- PerspectiveAspect: 0
- PerspectiveHorizontal: 0
- PerspectiveRotate: 0.0
- PerspectiveScale: 100
- PerspectiveUpright: 1
- PerspectiveVertical: 0
- PerspectiveX: 0.00
- PerspectiveY: 0.00
- PostCropVignetteAmount: 0
- ProcessVersion: 11.0
- RawFileName: P1048690.RW2
- RedHue: 0
- RedSaturation: 0
- Saturation: +2
- SaturationAdjustmentAqua: +7
- SaturationAdjustmentBlue: +17
- SaturationAdjustmentGreen: -11
- SaturationAdjustmentMagenta: 0
- SaturationAdjustmentOrange: -23
- SaturationAdjustmentPurple: +7
- SaturationAdjustmentRed: -10
- SaturationAdjustmentYellow: -16
- ShadowTint: 0
- Shadows2012: +63
- SharpenDetail: 50
- SharpenEdgeMasking: 70
- SharpenRadius: +1.0
- Sharpness: 35
- SplitToningBalance: +23
- SplitToningHighlightHue: 0
- SplitToningHighlightSaturation: 0
- SplitToningShadowHue: 0
- SplitToningShadowSaturation: 0
- Texture: 0
- Tint: +18
- ToneCurveName2012: Custom
- ToneCurvePV2012: 0, 0, 26, 22, 72, 78, 128, 138, 201, 204, 255, 255
- ToneCurvePV2012Blue: 0, 0, 255, 255
- ToneCurvePV2012Green: 0, 0, 255, 255
- ToneCurvePV2012Red: 0, 0, 255, 255
- Version: 15.1
- Vibrance: +20
- VignetteAmount: 0
- WhiteBalance: As Shot
- Whites2012: +24
- XMP-dc
- XMP-exifEX
- XMP-xmp
- CreateDate: 2022:12:10 18:53:32.254+02:00
- ModifyDate: 2023:01:24 19:19:20+02:00
- XMP-xmpMM
- PreservedFileName: P1048690.RW2
- Просмотров: 71
- Рейтинг: голосов еще нет
- Отзывов: отключены