- Раздел: Другое, разное
- Дата съёмки: неизвестно
- Дата загрузки фото: 20.02.2023 04:45
- Оригинальная фотография: 2221 x 2221 (4,1 Мб)
- Технические характеристики:
- Фотоаппарат: DJI FC3582
- Выдержка: 0,0
- Гиперфокальное расстояние: inf m
- Диафрагма: 1,7
- Светочувствительность: 200
- Фокусное расстояние: 6,0 mm (35 mm equivalent: 24,0 mm)
- Полный EXIF
- Adobe
- ColorTransform: YCbCr
- Composite
- Aperture: 1,7
- CircleOfConfusion: 0,008 mm
- FOV: 73,0 deg
- FocalLength35efl: 6,0 mm (35 mm equivalent: 24,0 mm)
- GPSAltitude: 61 m Above Sea Level
- GPSLatitude: 2178 deg 46' 27,00" N
- GPSLongitude: 645 deg 28' 47,00" E
- GPSPosition: 2178 deg 46' 27,00" N, 645 deg 28' 47,00" E
- HyperfocalDistance: inf m
- Megapixels: 4,9
- ScaleFactor35efl: 4,0
- ShutterSpeed: 0,0
- ExifIFD
- ApertureValue: 1,4
- ColorSpace: sRGB
- Contrast: Normal
- CreateDate: 2022:11:01 15:48:35
- DateTimeOriginal: 2022:11:01 15:48:35
- DigitalZoomRatio: 1
- ExposureCompensation: 0
- ExposureMode: Auto
- ExposureProgram: Program AE
- ExposureTime: 0,0
- FNumber: 1,7
- Flash: No Flash
- FocalLength: 6,0 mm
- FocalLengthIn35mmFormat: 24 mm
- GainControl: None
- ISO: 200
- LensInfo: 6.72mm f/1.7
- LensModel: 6.7 mm f/1.7
- LightSource: Daylight
- MaxApertureValue: 1,4
- MeteringMode: Average
- Saturation: Normal
- SceneCaptureType: Standard
- SceneType: Directly photographed
- SensitivityType: Recommended Exposure Index
- SerialNumber: 53HQK6R0M107VF
- Sharpness: Normal
- ShutterSpeedValue: 1/512
- WhiteBalance: Auto
- GPS
- GPSAltitude: 61,37 m
- GPSAltitudeRef: Above Sea Level
- GPSLatitude: 2178 deg 46' 27,00"
- GPSLatitudeRef: North
- GPSLongitude: 645 deg 28' 47,00"
- GPSLongitudeRef: East
- GPSMapDatum: WGS-84
- GPSStatus: Measurement Void
- GPSVersionID: 2.3.0.0
- ICC-header
- ICC-meas
- ICC-view
- IFD0
- Make: DJI
- Model: FC3582
- ModifyDate: 2023:02:19 23:55:50
- IFD1
- IPTC
- City: РђРєСЃСѓ
- Country-PrimaryLocationCode: KZ
- Country-PrimaryLocationName: Казахстан
- DateCreated: 2022:11:01
- Province-State: Павлодарская обл
- System
- XMP-aux
- LateralChromaticAberrationCorrectionAlreadyApplied: True
- Lens: 6.7 mm f/1.7
- XMP-crs
- AlreadyApplied: True
- AutoLateralCA: 1
- Blacks2012: -27
- BlueHue: 0
- BlueSaturation: 0
- CameraProfile: Embedded
- Clarity2012: +10
- ColorGradeBlending: 50
- ColorGradeGlobalHue: 0
- ColorGradeGlobalLum: 0
- ColorGradeGlobalSat: 0
- ColorGradeHighlightLum: 0
- ColorGradeMidtoneHue: 0
- ColorGradeMidtoneLum: 0
- ColorGradeMidtoneSat: 0
- ColorGradeShadowLum: 0
- ColorNoiseReduction: 25
- ColorNoiseReductionDetail: 50
- ColorNoiseReductionSmoothness: 50
- ColorTemperature: 5000
- Contrast2012: +36
- ConvertToGrayscale: False
- CropAngle: 0
- CropBottom: 0.826134
- CropConstrainToWarp: 0
- CropLeft: 0.243207
- CropRight: 0.793963
- CropTop: 0.091793
- DefringeGreenAmount: 0
- DefringeGreenHueHi: 60
- DefringeGreenHueLo: 40
- DefringePurpleAmount: 0
- DefringePurpleHueHi: 70
- DefringePurpleHueLo: 30
- Dehaze: 0
- Exposure2012: +0.37
- GrainAmount: 0
- GreenHue: 0
- GreenSaturation: 0
- HasCrop: True
- HasSettings: True
- Highlights2012: -58
- HueAdjustmentAqua: 0
- HueAdjustmentBlue: 0
- HueAdjustmentGreen: 0
- HueAdjustmentMagenta: 0
- HueAdjustmentOrange: 0
- HueAdjustmentPurple: 0
- HueAdjustmentRed: 0
- HueAdjustmentYellow: 0
- LensManualDistortionAmount: 0
- LensProfileEnable: 1
- LensProfileSetup: LensDefaults
- LuminanceAdjustmentAqua: 0
- LuminanceAdjustmentBlue: 0
- LuminanceAdjustmentGreen: 0
- LuminanceAdjustmentMagenta: 0
- LuminanceAdjustmentOrange: 0
- LuminanceAdjustmentPurple: 0
- LuminanceAdjustmentRed: 0
- LuminanceAdjustmentYellow: 0
- LuminanceNoiseReductionContrast: 0
- LuminanceNoiseReductionDetail: 50
- LuminanceSmoothing: 15
- MissingCameraProfile: Camera Neutral
- OverrideLookVignette: False
- ParametricDarks: 0
- ParametricHighlightSplit: 75
- ParametricHighlights: 0
- ParametricLights: 0
- ParametricMidtoneSplit: 50
- ParametricShadowSplit: 25
- ParametricShadows: 0
- PerspectiveAspect: 0
- PerspectiveHorizontal: 0
- PerspectiveRotate: 0.0
- PerspectiveScale: 100
- PerspectiveUpright: 0
- PerspectiveVertical: 0
- PerspectiveX: 0.00
- PerspectiveY: 0.00
- PostCropVignetteAmount: 0
- ProcessVersion: 11.0
- RawFileName:
- RedHue: 0
- RedSaturation: 0
- Saturation: +6
- SaturationAdjustmentAqua: 0
- SaturationAdjustmentBlue: 0
- SaturationAdjustmentGreen: 0
- SaturationAdjustmentMagenta: 0
- SaturationAdjustmentOrange: 0
- SaturationAdjustmentPurple: 0
- SaturationAdjustmentRed: 0
- SaturationAdjustmentYellow: 0
- ShadowTint: 0
- Shadows2012: +33
- SharpenDetail: 25
- SharpenEdgeMasking: 0
- SharpenRadius: +1.0
- Sharpness: 50
- SplitToningBalance: 0
- SplitToningHighlightHue: 0
- SplitToningHighlightSaturation: 0
- SplitToningShadowHue: 0
- SplitToningShadowSaturation: 0
- Texture: +10
- Tint: +4
- ToneCurveName2012: Linear
- ToneCurvePV2012: 0, 0, 255, 255
- ToneCurvePV2012Blue: 0, 0, 255, 255
- ToneCurvePV2012Green: 0, 0, 255, 255
- ToneCurvePV2012Red: 0, 0, 255, 255
- Version: 14.2
- Vibrance: +20
- VignetteAmount: 0
- WhiteBalance: As Shot
- Whites2012: +22
- XMP-dc
- XMP-drone-dji
- AbsoluteAltitude: +61.370
- AltitudeType: RtkAlt
- CamReverse: 0
- CameraSerialNumber: 53HQK6R0M107VF
- DroneModel: Mini 3 Pro
- DroneSerialNumber: 1581F4XFC227B0
- FlightPitchDegree: -1.50
- FlightRollDegree: +11.90
- FlightXSpeed: 0.0
- FlightYSpeed: 0.0
- FlightYawDegree: +91.30
- FlightZSpeed: 0.0
- GimbalPitchDegree: -34.00
- GimbalReverse: 0
- GimbalRollDegree: -89.90
- GimbalYawDegree: +84.40
- GpsLatitude: +52.046093786
- GpsLongitude: +76.936744624
- GpsStatus: Invalid
- ImageSource: DefaultCamera
- LensSerialNumber:
- RelativeAltitude: +40.200
- SelfData:
- ShutterType: Electronic
- SurveyingMode: 0
- UTCAtExposure:
- Version: 1.5
- XMP-iptcCore
- XMP-rdf
- XMP-xmp
- CreateDate: 2022:11:01 15:48:35Z
- Label: Готов
- ModifyDate: 2023:02:19 23:55:50+06:00
- XMP-xmpMM
- PreservedFileName: DJI_0163.DNG
- Просмотров: 32
- Рейтинг: голосов еще нет
- Отзывов: 0