- Раздел: Путешествия
- Дата съёмки: неизвестно
- Дата загрузки фото: 16.03.2023 19:06
- Оригинальная фотография: 1917 x 2560 (2,2 Мб)
- Технические характеристики:
- Фотоаппарат: Google SM-S9080
- Выдержка: 0,0
- Гиперфокальное расстояние: inf m
- Диафрагма: 2,4
- Светочувствительность: 50
- Фокусное расстояние: 7,0 mm (35 mm equivalent: 63,0 mm)
- Полный EXIF
- Adobe
- ColorTransform: YCbCr
- Composite
- Aperture: 2,4
- CircleOfConfusion: 0,003 mm
- DOF: inf (0,00 m - inf)
- FOV: 31,0 deg
- FocalLength35efl: 7,0 mm (35 mm equivalent: 63,0 mm)
- HyperfocalDistance: inf m
- Megapixels: 4,9
- ScaleFactor35efl: 9,6
- ShutterSpeed: 0,0
- ExifIFD
- ApertureValue: 2,0
- BrightnessValue: 8,737579346
- CFAPattern: [Red,Green][Green,Blue]
- ColorSpace: sRGB
- CreateDate: 2023:03:16 15:48:28
- DateTimeOriginal: 2023:03:16 15:48:28
- DigitalZoomRatio: 0
- ExifImageHeight: 2560
- ExifImageWidth: 1917
- ExposureCompensation: 0
- ExposureTime: 0,0
- FNumber: 2,4
- Flash: Off, Did not fire
- FocalLength: 7,0 mm
- FocalLengthIn35mmFormat: 67 mm
- ISO: 50
- MaxApertureValue: 2,0
- ShutterSpeedValue: 1/1024
- SubjectDistance: 10 m
- SubjectDistanceRange: Distant
- WhiteBalance: Auto
- ICC-header
- ICC-meas
- ICC-view
- IFD0
- Make: Google
- MakerNoteSafety: Safe
- Model: SM-S9080
- ModifyDate: 2023:03:16 18:30:08
- Orientation: Horizontal (normal)
- IFD1
- IPTC
- DateCreated: 2023:03:16
- System
- XMP-aux
- ApproximateFocusDistance: 10
- DistortionCorrectionAlreadyApplied: True
- XMP-crs
- AlreadyApplied: True
- AutoLateralCA: 0
- Blacks2012: -24
- BlueHue: 0
- BlueSaturation: 0
- CameraProfile: Embedded
- Clarity2012: 0
- ColorGradeBlending: 50
- ColorGradeGlobalHue: 0
- ColorGradeGlobalLum: 0
- ColorGradeGlobalSat: 0
- ColorGradeHighlightLum: 0
- ColorGradeMidtoneHue: 0
- ColorGradeMidtoneLum: 0
- ColorGradeMidtoneSat: 0
- ColorGradeShadowLum: 0
- ColorNoiseReduction: 25
- ColorNoiseReductionDetail: 50
- ColorNoiseReductionSmoothness: 50
- ColorTemperature: 4750
- Contrast2012: +7
- DefringeGreenAmount: 0
- DefringeGreenHueHi: 60
- DefringeGreenHueLo: 40
- DefringePurpleAmount: 0
- DefringePurpleHueHi: 70
- DefringePurpleHueLo: 30
- Dehaze: 0
- Exposure2012: -0.33
- GrainAmount: 0
- GreenHue: 0
- GreenSaturation: 0
- HasCrop: False
- HasSettings: True
- Highlights2012: -71
- HueAdjustmentAqua: 0
- HueAdjustmentBlue: 0
- HueAdjustmentGreen: 0
- HueAdjustmentMagenta: 0
- HueAdjustmentOrange: 0
- HueAdjustmentPurple: 0
- HueAdjustmentRed: 0
- HueAdjustmentYellow: 0
- LensManualDistortionAmount: 0
- LensProfileEnable: 0
- LookAmount: 0.5
- LookGroup: Artistic
- LookName: Artistic 03
- LookParametersConvertToGrayscale: False
- LookParametersLookTable: E1095149FDB39D7A057BAB208837E2E1
- LookParametersProcessVersion: 11.0
- LookParametersRGBTable: F048E7203370BB21B3D98B7EFE6BEE4E
- LookParametersRGBTableAmount: 0.5
- LookParametersVersion: 14.1
- LookSupportsMonochrome: false
- LuminanceAdjustmentAqua: 0
- LuminanceAdjustmentBlue: 0
- LuminanceAdjustmentGreen: 0
- LuminanceAdjustmentMagenta: 0
- LuminanceAdjustmentOrange: 0
- LuminanceAdjustmentPurple: 0
- LuminanceAdjustmentRed: 0
- LuminanceAdjustmentYellow: 0
- LuminanceSmoothing: 0
- OverrideLookVignette: False
- ParametricDarks: 0
- ParametricHighlightSplit: 75
- ParametricHighlights: 0
- ParametricLights: 0
- ParametricMidtoneSplit: 50
- ParametricShadowSplit: 25
- ParametricShadows: 0
- PerspectiveAspect: 0
- PerspectiveHorizontal: 0
- PerspectiveRotate: 0.0
- PerspectiveScale: 100
- PerspectiveUpright: 0
- PerspectiveVertical: 0
- PerspectiveX: 0.00
- PerspectiveY: 0.00
- PostCropVignetteAmount: 0
- ProcessVersion: 11.0
- RedHue: 0
- RedSaturation: 0
- Saturation: +5
- SaturationAdjustmentAqua: 0
- SaturationAdjustmentBlue: 0
- SaturationAdjustmentGreen: 0
- SaturationAdjustmentMagenta: 0
- SaturationAdjustmentOrange: 0
- SaturationAdjustmentPurple: 0
- SaturationAdjustmentRed: 0
- SaturationAdjustmentYellow: 0
- ShadowTint: 0
- Shadows2012: +41
- SharpenDetail: 25
- SharpenEdgeMasking: 0
- SharpenRadius: +1.0
- Sharpness: 83
- SplitToningBalance: 0
- SplitToningHighlightHue: 0
- SplitToningHighlightSaturation: 0
- SplitToningShadowHue: 0
- SplitToningShadowSaturation: 0
- Texture: 0
- Tint: -16
- ToneCurveName2012: Custom
- ToneCurvePV2012: 0, 0, 23, 14, 132, 122, 192, 182, 255, 250
- ToneCurvePV2012Blue: 0, 0, 255, 255
- ToneCurvePV2012Green: 0, 0, 255, 255
- ToneCurvePV2012Red: 0, 0, 255, 255
- Version: 14.1
- Vibrance: +18
- VignetteAmount: 0
- WhiteBalance: As Shot
- Whites2012: +19
- XMP-dc
- XMP-xmp
- CreatorTool: HDR+ 1.0.Arcidezd
- ModifyDate: 2023:03:16 18:30:08+03:00
- XMP-xmpMM
- Просмотров: 127
- Рейтинг: голосов еще нет
- Отзывов: 0