- Раздел: Животные
- Дата съёмки: неизвестно
- Дата загрузки фото: 28.04.2023 14:54
- Оригинальная фотография: 600 x 900 (140 Кб)
- Технические характеристики:
- Фотоаппарат: Canon EOS M50m2
- Выдержка: 0,0
- Гиперфокальное расстояние: inf m
- Диафрагма: 6,3
- Светочувствительность: 10000
- Фокусное расстояние: 181,0 mm (35 mm equivalent: 1991,0 mm)
- Полный EXIF
- Adobe
- ColorTransform: YCbCr
- Composite
- Aperture: 6,3
- CircleOfConfusion: 0,003 mm
- FOV: 1,0 deg
- FocalLength35efl: 181,0 mm (35 mm equivalent: 1991,0 mm)
- HyperfocalDistance: inf m
- LensID: Canon EF-M 55-200mm f/4.5-6.3 IS STM
- Megapixels: 0,540
- ScaleFactor35efl: 11,2
- ShutterSpeed: 0,0
- ExifIFD
- ApertureValue: 5,7
- ColorSpace: Uncalibrated
- CustomRendered: Normal
- DateTimeOriginal: 2023:04:26 18:48:15.31+03:00
- ExifImageHeight: 900
- ExifImageWidth: 600
- ExposureCompensation: 0
- ExposureMode: Manual
- ExposureProgram: Manual
- ExposureTime: 0,0
- FNumber: 6,3
- Flash: No Flash
- FocalLength: 181,0 mm
- ISO: 10000
- MaxApertureValue: 5,7
- MeteringMode: Multi-segment
- RecommendedExposureIndex: 10000
- SceneCaptureType: Standard
- SensitivityType: Recommended Exposure Index
- ShutterSpeedValue: 1/2048
- WhiteBalance: Auto
- ICC-header
- IFD0
- Make: Canon
- Model: Canon EOS M50m2
- ModifyDate: 2023:04:28 14:25:46
- Orientation: Horizontal (normal)
- IFD1
- IPTC
- DateCreated: 2023:04:26
- System
- XMP-aux
- ApproximateFocusDistance: 6,68
- DistortionCorrectionAlreadyApplied: True
- Firmware: 1.0.1
- FlashCompensation: 0
- ImageNumber: 0
- LateralChromaticAberrationCorrectionAlreadyApplied: True
- Lens: EF-M55-200mm f/4.5-6.3 IS STM
- LensID: 4149
- LensInfo: 55-200mm f/?
- LensSerialNumber: 00000856b0
- SerialNumber: 163052000130
- VignetteCorrectionAlreadyApplied: True
- XMP-crs
- AlreadyApplied: True
- AutoLateralCA: 1
- Blacks2012: +35
- BlueHue: -7
- BlueSaturation: -36
- Clarity2012: -5
- ColorGradeBlending: 100
- ColorGradeGlobalHue: 0
- ColorGradeGlobalLum: 0
- ColorGradeGlobalSat: 0
- ColorGradeHighlightLum: 0
- ColorGradeMidtoneHue: 0
- ColorGradeMidtoneLum: 0
- ColorGradeMidtoneSat: 0
- ColorGradeShadowLum: 0
- ColorNoiseReduction: 25
- ColorNoiseReductionDetail: 50
- ColorNoiseReductionSmoothness: 50
- ColorTemperature: 6950
- Contrast2012: +7
- CropAngle: 0
- CropBottom: 0.725937
- CropConstrainToWarp: 0
- CropLeft: 0
- CropRight: 0.725937
- CropTop: 0
- DefringeGreenAmount: 0
- DefringeGreenHueHi: 60
- DefringeGreenHueLo: 40
- DefringePurpleAmount: 0
- DefringePurpleHueHi: 70
- DefringePurpleHueLo: 30
- Dehaze: +5
- Exposure2012: +0.60
- GrainAmount: 0
- GreenHue: +5
- GreenSaturation: +18
- HasCrop: True
- HasSettings: True
- Highlights2012: -58
- HueAdjustmentAqua: 0
- HueAdjustmentBlue: 0
- HueAdjustmentGreen: 0
- HueAdjustmentMagenta: 0
- HueAdjustmentOrange: -3
- HueAdjustmentPurple: 0
- HueAdjustmentRed: 0
- HueAdjustmentYellow: +5
- LensManualDistortionAmount: 0
- LensProfileDistortionScale: 100
- LensProfileEnable: 1
- LensProfileFilename: Canon EOS M10 (Canon EF-M 55-200mm f4.5-6.3 IS STM) - RAW.lcp
- LensProfileIsEmbedded: False
- LensProfileSetup: LensDefaults
- LensProfileVignettingScale: 100
- LookAmount: 0.75
- LookGroup: Artistic
- LookName: Artistic 04
- LookParametersConvertToGrayscale: False
- LookParametersLookTable: E1095149FDB39D7A057BAB208837E2E1
- LookParametersProcessVersion: 11.0
- LookParametersRGBTable: 3605ABF8AB643D59ECB70D847028A9E3
- LookParametersRGBTableAmount: 0.5
- LookParametersVersion: 15.2
- LookSupportsMonochrome: false
- LuminanceAdjustmentAqua: 0
- LuminanceAdjustmentBlue: 0
- LuminanceAdjustmentGreen: 0
- LuminanceAdjustmentMagenta: 0
- LuminanceAdjustmentOrange: 0
- LuminanceAdjustmentPurple: 0
- LuminanceAdjustmentRed: 0
- LuminanceAdjustmentYellow: 0
- LuminanceNoiseReductionContrast: 0
- LuminanceNoiseReductionDetail: 50
- LuminanceSmoothing: 25
- OverrideLookVignette: False
- ParametricDarks: 0
- ParametricHighlightSplit: 75
- ParametricHighlights: 0
- ParametricLights: 0
- ParametricMidtoneSplit: 50
- ParametricShadowSplit: 25
- ParametricShadows: 0
- PerspectiveAspect: 0
- PerspectiveHorizontal: 0
- PerspectiveRotate: 0.0
- PerspectiveScale: 100
- PerspectiveUpright: 0
- PerspectiveVertical: 0
- PerspectiveX: 0.00
- PerspectiveY: 0.00
- PostCropVignetteAmount: 0
- ProcessVersion: 11.0
- RawFileName: IMG_4663.CR3
- RedHue: +7
- RedSaturation: -2
- Saturation: -20
- SaturationAdjustmentAqua: 0
- SaturationAdjustmentBlue: 0
- SaturationAdjustmentGreen: 0
- SaturationAdjustmentMagenta: 0
- SaturationAdjustmentOrange: 0
- SaturationAdjustmentPurple: 0
- SaturationAdjustmentRed: 0
- SaturationAdjustmentYellow: 0
- ShadowTint: 0
- Shadows2012: +40
- SharpenDetail: 25
- SharpenEdgeMasking: 0
- SharpenRadius: +1.0
- Sharpness: 17
- SplitToningBalance: 0
- SplitToningHighlightHue: 35
- SplitToningHighlightSaturation: 3
- SplitToningShadowHue: 225
- SplitToningShadowSaturation: 3
- Texture: -5
- Tint: +22
- ToneCurveName2012: Custom
- ToneCurvePV2012: 0, 20, 30, 30, 66, 52, 128, 128, 185, 197, 255, 255
- ToneCurvePV2012Blue: 0, 1, 255, 254
- ToneCurvePV2012Green: 0, 0, 255, 255
- ToneCurvePV2012Red: 0, 0, 255, 255
- Version: 15.2
- Vibrance: -10
- VignetteAmount: 0
- WhiteBalance: Custom
- Whites2012: -5
- XMP-dc
- XMP-exifEX
- LensModel: EF-M55-200mm f/4.5-6.3 IS STM
- XMP-xmp
- CreateDate: 2023:04:26 18:48:15.31+03:00
- ModifyDate: 2023:04:28 14:25:46+03:00
- XMP-xmpMM
- Просмотров: 24
- Рейтинг: голосов еще нет
- Отзывов: 0