- Раздел: Город
- Дата съёмки: 20.04.2007 19:41
- Дата загрузки фото: 01.01.2008 04:10
- Оригинальная фотография: 2136 x 2848 (1,6 Мб)
- Технические характеристики:
- Фотоаппарат: FujiFilm FinePix S6500fd
- Выдержка: 1/50
- Гиперфокальное расстояние: 1,16 m
- Диафрагма: 2,8
- Светочувствительность: 800
- Фокусное расстояние: 6,2mm (35mm эквивалент: 15,7mm)
- Полный EXIF
- Adobe
- ColorTransform: YCbCr
- Composite
- Aperture: 2,8
- CircleOfConfusion: 0,012 mm
- FocalLength35efl: 6,2mm (35mm equivalent: 15,7mm)
- HyperfocalDistance: 1,16 m
- LightValue: 5,6
- ScaleFactor35efl: 2,5
- ShutterSpeed: 1/50
- ExifIFD
- ApertureValue: 2,8
- BrightnessValue: 0,71
- CreateDate: 2007:04:20 19:41:49
- DateTimeOriginal: 2007:04:20 19:41:49
- ExposureCompensation: 0
- ExposureProgram: Program AE
- ExposureTime: 1/50
- FNumber: 2,8
- Flash: Auto, Did not fire
- FocalLength: 6,2mm
- ISO: 800
- LightSource: Unknown (0)
- MaxApertureValue: 2,8
- MeteringMode: Multi-segment
- SceneType: Directly photographed
- SensingMethod: One-chip color area
- ShutterSpeedValue: 1/50
- ICC-header
- IFD0
- CustomRendered: Normal
- ExposureMode: Auto
- Make: FUJIFILM
- Model: FinePix S6500fd
- ModifyDate: 2007:12:20 20:58:24
- SceneCaptureType: Standard
- Sharpness: Normal
- Software: Digital Camera FinePix S6500fd Ver1.00
- WhiteBalance: Auto
- XMP-crs
- AlreadyApplied: True
- BlueHue: 0
- BlueSaturation: 0
- Brightness: -1
- CameraProfile: ACR 3.6
- ChromaticAberrationB: 0
- ChromaticAberrationR: 0
- Clarity: 63
- ColorNoiseReduction: 25
- Contrast: -42
- ConvertToGrayscale: False
- Defringe: 0
- Exposure: -1.90
- FillLight: 7
- GreenHue: 0
- GreenSaturation: 0
- HasCrop: False
- HasSettings: True
- HighlightRecovery: 0
- HueAdjustmentAqua: 0
- HueAdjustmentBlue: 0
- HueAdjustmentGreen: 0
- HueAdjustmentMagenta: 0
- HueAdjustmentOrange: 0
- HueAdjustmentPurple: 0
- HueAdjustmentRed: 0
- HueAdjustmentYellow: 0
- LuminanceAdjustmentAqua: 0
- LuminanceAdjustmentBlue: 0
- LuminanceAdjustmentGreen: 0
- LuminanceAdjustmentMagenta: 0
- LuminanceAdjustmentOrange: 0
- LuminanceAdjustmentPurple: 0
- LuminanceAdjustmentRed: 0
- LuminanceAdjustmentYellow: 0
- LuminanceSmoothing: 0
- ParametricDarks: 0
- ParametricHighlightSplit: 75
- ParametricHighlights: 0
- ParametricLights: 0
- ParametricMidtoneSplit: 50
- ParametricShadowSplit: 25
- ParametricShadows: 0
- RawFileName: DSCF0353.RAF
- RedHue: 0
- RedSaturation: 0
- Saturation: +44
- SaturationAdjustmentAqua: 0
- SaturationAdjustmentBlue: 0
- SaturationAdjustmentGreen: 0
- SaturationAdjustmentMagenta: 0
- SaturationAdjustmentOrange: 0
- SaturationAdjustmentPurple: 0
- SaturationAdjustmentRed: 0
- SaturationAdjustmentYellow: 0
- ShadowTint: 0
- Shadows: 5
- SharpenDetail: 25
- SharpenEdgeMasking: 0
- SharpenRadius: +1.0
- Sharpness: 25
- SplitToningBalance: 0
- SplitToningHighlightHue: 0
- SplitToningHighlightSaturation: 0
- SplitToningShadowHue: 0
- SplitToningShadowSaturation: 0
- Temperature: 12250
- Tint: -116
- ToneCurve: 0, 0, 32, 22, 64, 56, 128, 128, 192, 196, 255, 255
- ToneCurveName: Medium Contrast
- Version: 4.3
- Vibrance: +66
- VignetteAmount: 0
- WhiteBalance: Custom
- XMP-exif
- DateTimeDigitized: 2007:04:20 19:41:49+04:00
- DateTimeOriginal: 2007:04:20 19:41:49+04:00
- FlashFired: False
- FlashFunction: False
- FlashMode: Auto
- FlashRedEyeMode: False
- FlashReturn: No return detection
- SubjectDistanceRange: Unknown
- XMP-tiff
- ImageHeight: 2136
- ImageWidth: 2848
- XMP-xmp
- CreatorTool: Digital Camera FinePix S6500fd Ver1.00
- ModifyDate: 2007:12:20 20:58:24+03:00
- Просмотров: 233
- Рейтинг: голосов еще нет
- Отзывов: 0