» Участники » TiN_MGP » г.Херсон » J21M-3531.jpg |
J21M-3531.jpg |
![](img/title-line.gif) |
![](img/title-shadow.gif) | |
J21M-3531.jpg
- Раздел: Город
- Дата съёмки: 07.01.2008 12:40
- Дата загрузки фото: 07.01.2008 19:11
- Оригинальная фотография: 3008 x 2000 (2,5 Мб)
- Технические характеристики:
- Фотоаппарат: Nikon D50
- Выдержка: 1/800
- Светочувствительность: 200
- Полный EXIF
- Adobe
- ColorTransform: YCbCr
- Composite
- ShutterSpeed: 1/800
- ExifIFD
- CFAPattern: [Blue,Green][Green,Red]
- Contrast: Normal
- CreateDate: 2008:01:07 12:40:05
- CustomRendered: Normal
- DateTimeOriginal: 2008:01:07 12:40:05
- DigitalZoomRatio: 1
- ExposureCompensation: 0
- ExposureMode: Manual
- ExposureProgram: Manual
- ExposureTime: 1/800
- Flash: No Flash
- GainControl: None
- ISO: 200
- LightSource: Unknown (0)
- MaxApertureValue: 1,0
- MeteringMode: Center-weighted average
- Saturation: Normal
- SceneCaptureType: Standard
- SceneType: Directly photographed
- SensingMethod: One-chip color area
- Sharpness: Hard
- ShutterSpeedValue: 1/800
- UserComment: Tsemenko Ilya @ ilya@topmods.net
- WhiteBalance: Auto
- ICC-header
- IFD0
- Make: NIKON CORPORATION
- Model: NIKON D50
- ModifyDate: 2008:01:07 15:59:05
- Software: Ver.1.00
- XMP-aux
- ImageNumber: 14955
- Lens: 0.0 mm f/0.0
- LensInfo: 0/10 0/10 0/10 0/10
- XMP-crs
- AlreadyApplied: True
- BlueHue: 0
- BlueSaturation: 0
- Brightness: +48
- CameraProfile: ACR 2.4
- ChromaticAberrationB: 0
- ChromaticAberrationR: +2
- Clarity: 0
- ColorNoiseReduction: 25
- Contrast: +32
- ConvertToGrayscale: False
- Defringe: 0
- Exposure: +2.15
- FillLight: 0
- GreenHue: 0
- GreenSaturation: 0
- HasCrop: False
- HasSettings: True
- HighlightRecovery: 100
- HueAdjustmentAqua: 0
- HueAdjustmentBlue: 0
- HueAdjustmentGreen: 0
- HueAdjustmentMagenta: 0
- HueAdjustmentOrange: 0
- HueAdjustmentPurple: 0
- HueAdjustmentRed: 0
- HueAdjustmentYellow: 0
- LuminanceAdjustmentAqua: 0
- LuminanceAdjustmentBlue: 0
- LuminanceAdjustmentGreen: 0
- LuminanceAdjustmentMagenta: 0
- LuminanceAdjustmentOrange: 0
- LuminanceAdjustmentPurple: 0
- LuminanceAdjustmentRed: 0
- LuminanceAdjustmentYellow: 0
- LuminanceSmoothing: 0
- ParametricDarks: 0
- ParametricHighlightSplit: 75
- ParametricHighlights: 0
- ParametricLights: 0
- ParametricMidtoneSplit: 50
- ParametricShadowSplit: 25
- ParametricShadows: 0
- RedHue: 0
- RedSaturation: 0
- Saturation: 0
- SaturationAdjustmentAqua: 0
- SaturationAdjustmentBlue: 0
- SaturationAdjustmentGreen: 0
- SaturationAdjustmentMagenta: 0
- SaturationAdjustmentOrange: 0
- SaturationAdjustmentPurple: 0
- SaturationAdjustmentRed: 0
- SaturationAdjustmentYellow: 0
- ShadowTint: 0
- Shadows: 6
- SharpenDetail: 100
- SharpenEdgeMasking: 0
- SharpenRadius: +0.7
- Sharpness: 61
- SplitToningBalance: 0
- SplitToningHighlightHue: 0
- SplitToningHighlightSaturation: 0
- SplitToningShadowHue: 0
- SplitToningShadowSaturation: 0
- Temperature: 5950
- Tint: -19
- ToneCurve: 0, 0, 32, 22, 64, 56, 128, 128, 192, 196, 255, 255
- ToneCurveName: Medium Contrast
- Version: 1.0
- Vibrance: 0
- VignetteAmount: 0
- WhiteBalance: As Shot
- XMP-exif
- DateTimeDigitized: 2008:01:07 12:40:05.60+02:00
- DateTimeOriginal: 2008:01:07 12:40:05.60+02:00
- FlashFired: False
- FlashFunction: False
- FlashMode: Unknown
- FlashRedEyeMode: False
- FlashReturn: No return detection
- SubjectDistanceRange: Unknown
- XMP-tiff
- ImageHeight: 2000
- ImageWidth: 3008
- XMP-xmp
- ModifyDate: 2008:01:07 15:59:05+02:00
- Просмотров: 172
- Рейтинг: голосов еще нет
- Отзывов: 0
Получить код для блога
Вставка фотографии в текущем разрешении |
Вставка миниатюры |
HTML (для вставки в блог):
BBCode (для вставки в форум):
Ссылка на фото:
Ссылка на миниатюру:
- Послать ссылку другу
Комментарии к фотографии |