- Раздел: Другое, разное
- Дата съёмки: неизвестно
- Дата загрузки фото: 03.09.2023 16:07
- Оригинальная фотография: 5716 x 3816 (4,7 Мб)
- Технические характеристики:
- Фотоаппарат: Nikon D750
- Выдержка: 0,0
- Гиперфокальное расстояние: inf m
- Диафрагма: 2,8
- Светочувствительность: 125
- Фокусное расстояние: 35,0 mm (35 mm equivalent: 35,0 mm)
- Полный EXIF
- Adobe
- ColorTransform: YCbCr
- Composite
- Aperture: 2,8
- CircleOfConfusion: 0,030 mm
- FocalLength35efl: 35,0 mm (35 mm equivalent: 35,0 mm)
- FOV: 54,0 deg
- HyperfocalDistance: inf m
- LensID: Sigma 35mm F1.4 DG HSM
- Megapixels: 21,8
- ScaleFactor35efl: 1,0
- ShutterSpeed: 0,0
- ExifIFD
- ApertureValue: 2,0
- CFAPattern: [Red,Green][Green,Blue]
- ColorSpace: sRGB
- Contrast: High
- CreateDate: 2023:07:30 11:24:14
- CustomRendered: Normal
- DateTimeOriginal: 2023:07:30 11:24:14
- DigitalZoomRatio: 1
- ExposureCompensation: 0
- ExposureMode: Manual
- ExposureProgram: Manual
- ExposureTime: 0,0
- Flash: Off, Did not fire
- FNumber: 2,8
- FocalLength: 35,0 mm
- FocalLengthIn35mmFormat: 35 mm
- GainControl: None
- ISO: 125
- LensInfo: 35mm f/1.4
- LensModel: 35.0 mm f/1.4
- LightSource: Unknown
- MaxApertureValue: 1,4
- MeteringMode: Center-weighted average
- Saturation: Normal
- SceneCaptureType: Portrait
- SceneType: Directly photographed
- SensingMethod: One-chip color area
- SensitivityType: Recommended Exposure Index
- SerialNumber: 2105074
- Sharpness: Normal
- ShutterSpeedValue: 1/1024
- SubjectDistanceRange: Unknown
- WhiteBalance: Auto
- ICC-header
- ICC-meas
- ICC-view
- IFD0
- Artist: ARTJusic
- Copyright: ArtZebra.com
- Make: NIKON CORPORATION
- Model: NIKON D750
- ModifyDate: 2023:07:31 12:49:41
- IPTC
- By-line: ARTJusic
- CopyrightNotice: ArtZebra.com
- DateCreated: 2023:07:30
- System
- XMP-aux
- ApproximateFocusDistance: 1,26
- ImageNumber: 401833
- Lens: 35.0 mm f/1.4
- LensID: 145
- XMP-crs
- AlreadyApplied: True
- AutoLateralCA: 0
- Blacks2012: +77
- BlueHue: 0
- BlueSaturation: 0
- Clarity2012: +18
- ColorGradeBlending: 50
- ColorGradeGlobalHue: 0
- ColorGradeGlobalLum: 0
- ColorGradeGlobalSat: 0
- ColorGradeHighlightLum: 0
- ColorGradeMidtoneHue: 0
- ColorGradeMidtoneLum: 0
- ColorGradeMidtoneSat: 0
- ColorGradeShadowLum: 0
- ColorNoiseReduction: 25
- ColorNoiseReductionDetail: 50
- ColorNoiseReductionSmoothness: 50
- ColorTemperature: 5850
- Contrast2012: +12
- ConvertToGrayscale: False
- CropAngle: -0.304918
- CropBottom: 0.988943
- CropConstrainToWarp: 0
- CropLeft: 0.044798
- CropRight: 0.998459
- CropTop: 0.046232
- DefringeGreenAmount: 0
- DefringeGreenHueHi: 60
- DefringeGreenHueLo: 40
- DefringePurpleAmount: 0
- DefringePurpleHueHi: 70
- DefringePurpleHueLo: 30
- Dehaze: 0
- Exposure2012: +0.04
- GrainAmount: 6
- GrainFrequency: 54
- GrainSize: 19
- GreenHue: 0
- GreenSaturation: 0
- HasCrop: True
- HasSettings: True
- Highlights2012: -56
- HueAdjustmentAqua: 0
- HueAdjustmentBlue: 0
- HueAdjustmentGreen: +7
- HueAdjustmentMagenta: 0
- HueAdjustmentOrange: -5
- HueAdjustmentPurple: 0
- HueAdjustmentRed: +15
- HueAdjustmentYellow: -11
- LensManualDistortionAmount: 0
- LensProfileEnable: 0
- LuminanceAdjustmentAqua: 0
- LuminanceAdjustmentBlue: 0
- LuminanceAdjustmentGreen: -51
- LuminanceAdjustmentMagenta: 0
- LuminanceAdjustmentOrange: +5
- LuminanceAdjustmentPurple: 0
- LuminanceAdjustmentRed: 0
- LuminanceAdjustmentYellow: -1
- LuminanceSmoothing: 0
- OverrideLookVignette: True
- PaintCorrectionActive: true
- PaintCorrectionAmount: 1.000000
- PaintCorrectionBrightness: 0.000000
- PaintCorrectionClarity: 0.000000
- PaintCorrectionClarity2012: 0.000000
- PaintCorrectionContrast: 0.000000
- PaintCorrectionContrast2012: -0.186990
- PaintCorrectionCorrectionRangeMaskColorAmount: 0.500000
- PaintCorrectionCorrectionRangeMaskDepthFeather: 0.500000
- PaintCorrectionCorrectionRangeMaskDepthMax: 1.000000
- PaintCorrectionCorrectionRangeMaskDepthMin: 0.000000
- PaintCorrectionCorrectionRangeMaskLumFeather: 0.500000
- PaintCorrectionCorrectionRangeMaskLumMax: 1.000000
- PaintCorrectionCorrectionRangeMaskLumMin: 0.000000
- PaintCorrectionCorrectionRangeMaskType: 0
- PaintCorrectionCorrectionRangeMaskVersion: +2
- PaintCorrectionDefringe: 0.000000
- PaintCorrectionExposure: 0.000000
- PaintCorrectionExposure2012: 0.000000
- PaintCorrectionHighlights2012: 0.000000
- PaintCorrectionHue: 0.000000
- PaintCorrectionLocalBlacks2012: 0.000000
- PaintCorrectionLocalDehaze: 0.000000
- PaintCorrectionLocalHue: 0.000000
- PaintCorrectionLocalTexture: 0.000000
- PaintCorrectionLocalWhites2012: 0.000000
- PaintCorrectionLuminanceNoise: 0.000000
- PaintCorrectionMaskCenterWeight: 0.000000
- PaintCorrectionMaskFlow: 1.000000
- PaintCorrectionMaskRadius: 0.045068
- PaintCorrectionMaskValue: 1.000000
- PaintCorrectionMaskWhat: Mask/Paint
- PaintCorrectionMoire: 0.000000
- PaintCorrectionSaturation: 0.000000
- PaintCorrectionShadows2012: 0.193280
- PaintCorrectionSharpness: 0.000000
- PaintCorrectionTemperature: 0.000000
- PaintCorrectionTint: -0.070000
- PaintCorrectionWhat: Correction
- ParametricDarks: +19
- ParametricHighlights: +35
- ParametricHighlightSplit: 75
- ParametricLights: -9
- ParametricMidtoneSplit: 60
- ParametricShadows: +21
- ParametricShadowSplit: 14
- PerspectiveAspect: 0
- PerspectiveHorizontal: 0
- PerspectiveRotate: 0.0
- PerspectiveScale: 100
- PerspectiveUpright: 0
- PerspectiveVertical: 0
- PerspectiveX: 0.00
- PerspectiveY: 0.00
- PostCropVignetteAmount: 0
- ProcessVersion: 11.0
- RedHue: +5
- RedSaturation: 0
- Saturation: -4
- SaturationAdjustmentAqua: 0
- SaturationAdjustmentBlue: -13
- SaturationAdjustmentGreen: -35
- SaturationAdjustmentMagenta: 0
- SaturationAdjustmentOrange: -20
- SaturationAdjustmentPurple: 0
- SaturationAdjustmentRed: -5
- SaturationAdjustmentYellow: -17
- Shadows2012: +42
- ShadowTint: +1
- SharpenDetail: 20
- SharpenEdgeMasking: 0
- SharpenRadius: +2.0
- Sharpness: 95
- SplitToningBalance: 0
- SplitToningHighlightHue: 0
- SplitToningHighlightSaturation: 0
- SplitToningShadowHue: 0
- SplitToningShadowSaturation: 0
- Texture: 0
- Tint: -4
- ToneCurveName2012: Custom
- ToneCurvePV2012: 0, 27, 39, 48, 104, 106, 190, 197, 255, 242
- ToneCurvePV2012Blue: 0, 0, 40, 19, 80, 63, 117, 122, 174, 200, 255, 255
- ToneCurvePV2012Green: 0, 0, 46, 18, 117, 122, 179, 200, 255, 255
- ToneCurvePV2012Red: 0, 0, 47, 15, 80, 62, 117, 122, 179, 200, 255, 255
- Version: 13.3
- Vibrance: -3
- VignetteAmount: -5
- VignetteMidpoint: 50
- WhiteBalance: Custom
- Whites2012: -15
- XMP-dc
- Creator: ARTJusic
- Format: image/jpeg
- Rights: ArtZebra.com
- XMP-xmp
- CreateDate: 2023:07:30 11:24:14.89
- ModifyDate: 2023:07:31 12:49:41+03:00
- XMP-xmpMM
- PreservedFileName: ART_1866.NEF
- Просмотров: 64
- Рейтинг: голосов еще нет
- Отзывов: отключены