- Раздел: Другое, разное
- Дата съёмки: неизвестно
- Дата загрузки фото: 15.09.2023 13:19
- Оригинальная фотография: 2514 x 2514 (4,8 Мб)
- Технические характеристики:
- Фотоаппарат: Canon EOS 5D
- Выдержка: 0,0
- Гиперфокальное расстояние: inf m
- Диафрагма: 6,3
- Светочувствительность: 400
- Фокусное расстояние: 100,0 mm (35 mm equivalent: 100,0 mm)
- Полный EXIF
- Adobe
- ColorTransform: YCbCr
- Composite
- Aperture: 6,3
- CircleOfConfusion: 0,030 mm
- FocalLength35efl: 100,0 mm (35 mm equivalent: 100,0 mm)
- FOV: 20,0 deg
- HyperfocalDistance: inf m
- LensID: Canon EF 100mm f/2.8 Macro USM
- Megapixels: 6,3
- ScaleFactor35efl: 1,0
- ShutterSpeed: 0,0
- ExifIFD
- ApertureValue: 5,7
- ColorSpace: sRGB
- CreateDate: 2021:11:05 17:10:02
- CustomRendered: Normal
- DateTimeOriginal: 2021:11:05 17:10:02
- ExposureCompensation: 0
- ExposureMode: Manual
- ExposureProgram: Manual
- ExposureTime: 0,0
- Flash: Off, Did not fire
- FNumber: 6,3
- FocalLength: 100,0 mm
- ISO: 400
- LensInfo: 100mm f/?
- LensModel: EF100mm f/2.8 Macro USM
- MaxApertureValue: 2,8
- MeteringMode: Partial
- SceneCaptureType: Standard
- SerialNumber: 3631302520
- ShutterSpeedValue: 1/256
- WhiteBalance: Auto
- ICC-header
- ICC-meas
- ICC-view
- IFD0
- Make: Canon
- Model: Canon EOS 5D
- ModifyDate: 2021:11:05 20:16:24
- IFD1
- IPTC
- DateCreated: 2021:11:05
- System
- XMP-aux
- Firmware: 1.1.1
- FlashCompensation: 0
- ImageNumber: 24
- LateralChromaticAberrationCorrectionAlreadyApplied: True
- Lens: EF100mm f/2.8 Macro USM
- LensID: 190
- XMP-crs
- AlreadyApplied: True
- AutoLateralCA: 0
- Blacks2012: 0
- BlueHue: 0
- BlueSaturation: 0
- CameraProfile: Embedded
- CircGradBasedCorrActive: true
- CircGradBasedCorrAmount: 1.000000
- CircGradBasedCorrBrightness: 0.000000
- CircGradBasedCorrClarity2012: 0.000000
- CircGradBasedCorrContrast2012: 0.000000
- CircGradBasedCorrCorrectionRangeMaskColorAmount: 0.500000
- CircGradBasedCorrCorrectionRangeMaskDepthFeather: 0.500000
- CircGradBasedCorrCorrectionRangeMaskDepthMax: 1.000000
- CircGradBasedCorrCorrectionRangeMaskDepthMin: 0.000000
- CircGradBasedCorrCorrectionRangeMaskLumFeather: 0.500000
- CircGradBasedCorrCorrectionRangeMaskLumMax: 1.000000
- CircGradBasedCorrCorrectionRangeMaskLumMin: 0.000000
- CircGradBasedCorrCorrectionRangeMaskType: 0
- CircGradBasedCorrCorrectionRangeMaskVersion: +2
- CircGradBasedCorrDefringe: 0.000000
- CircGradBasedCorrExposure2012: 0.065750
- CircGradBasedCorrHighlights2012: 0.000000
- CircGradBasedCorrHue: 106.000000
- CircGradBasedCorrLocalBlacks2012: 0.000000
- CircGradBasedCorrLocalDehaze: 0.000000
- CircGradBasedCorrLocalHue: 0.000000
- CircGradBasedCorrLocalTexture: 0.000000
- CircGradBasedCorrLocalWhites2012: 0.000000
- CircGradBasedCorrLuminanceNoise: 0.000000
- CircGradBasedCorrMaskAngle: 0.000000
- CircGradBasedCorrMaskBottom: 0.742424
- CircGradBasedCorrMaskFeather: +50
- CircGradBasedCorrMaskFlipped: true
- CircGradBasedCorrMaskLeft: 0.398990
- CircGradBasedCorrMaskMidpoint: +50
- CircGradBasedCorrMaskRight: 0.878788
- CircGradBasedCorrMaskRoundness: 0
- CircGradBasedCorrMaskTop: 0.724747
- CircGradBasedCorrMaskValue: 1.000000
- CircGradBasedCorrMaskVersion: +2
- CircGradBasedCorrMaskWhat: Mask/CircularGradient
- CircGradBasedCorrMoire: 0.000000
- CircGradBasedCorrSaturation: 0.000000
- CircGradBasedCorrShadows2012: 0.000000
- CircGradBasedCorrSharpness: 0.000000
- CircGradBasedCorrTemperature: 0.036500
- CircGradBasedCorrTint: 0.000000
- CircGradBasedCorrWhat: Correction
- Clarity2012: 0
- ColorNoiseReduction: 0
- Contrast2012: 0
- ConvertToGrayscale: False
- DefringeGreenAmount: 0
- DefringeGreenHueHi: 60
- DefringeGreenHueLo: 40
- DefringePurpleAmount: 0
- DefringePurpleHueHi: 70
- DefringePurpleHueLo: 30
- Dehaze: 0
- Exposure2012: 0.00
- GrainAmount: 0
- GreenHue: 0
- GreenSaturation: 0
- HasCrop: False
- HasSettings: True
- Highlights2012: 0
- HueAdjustmentAqua: 0
- HueAdjustmentBlue: 0
- HueAdjustmentGreen: 0
- HueAdjustmentMagenta: 0
- HueAdjustmentOrange: 0
- HueAdjustmentPurple: 0
- HueAdjustmentRed: 0
- HueAdjustmentYellow: 0
- IncrementalTemperature: 0
- IncrementalTint: 0
- LensManualDistortionAmount: 0
- LensProfileEnable: 0
- LensProfileSetup: LensDefaults
- LookName:
- LuminanceAdjustmentAqua: 0
- LuminanceAdjustmentBlue: 0
- LuminanceAdjustmentGreen: 0
- LuminanceAdjustmentMagenta: 0
- LuminanceAdjustmentOrange: 0
- LuminanceAdjustmentPurple: 0
- LuminanceAdjustmentRed: 0
- LuminanceAdjustmentYellow: 0
- LuminanceSmoothing: 0
- OverrideLookVignette: False
- PaintCorrectionActive: true
- PaintCorrectionAmount: 1.000000
- PaintCorrectionBrightness: 0.000000
- PaintCorrectionClarity2012: 0.138690
- PaintCorrectionContrast2012: 0.000000
- PaintCorrectionCorrectionRangeMaskColorAmount: 0.500000
- PaintCorrectionCorrectionRangeMaskDepthFeather: 0.500000
- PaintCorrectionCorrectionRangeMaskDepthMax: 1.000000
- PaintCorrectionCorrectionRangeMaskDepthMin: 0.000000
- PaintCorrectionCorrectionRangeMaskLumFeather: 0.500000
- PaintCorrectionCorrectionRangeMaskLumMax: 1.000000
- PaintCorrectionCorrectionRangeMaskLumMin: 0.000000
- PaintCorrectionCorrectionRangeMaskType: 0
- PaintCorrectionCorrectionRangeMaskVersion: +2
- PaintCorrectionDefringe: 0.000000
- PaintCorrectionExposure2012: 0.000000
- PaintCorrectionHighlights2012: 0.000000
- PaintCorrectionHue: 106.000000
- PaintCorrectionLocalBlacks2012: 0.000000
- PaintCorrectionLocalDehaze: 0.000000
- PaintCorrectionLocalHue: 0.000000
- PaintCorrectionLocalTexture: 0.000000
- PaintCorrectionLocalWhites2012: 0.000000
- PaintCorrectionLuminanceNoise: 0.000000
- PaintCorrectionMaskCenterWeight: 0.000000
- PaintCorrectionMaskFlow: 1.000000
- PaintCorrectionMaskRadius: 0.097415
- PaintCorrectionMaskValue: 0.000000
- PaintCorrectionMaskWhat: Mask/Paint
- PaintCorrectionMoire: 0.000000
- PaintCorrectionSaturation: 0.000000
- PaintCorrectionShadows2012: 0.000000
- PaintCorrectionSharpness: 0.000000
- PaintCorrectionTemperature: 0.036500
- PaintCorrectionTint: 0.000000
- PaintCorrectionWhat: Correction
- ParametricDarks: 0
- ParametricHighlights: 0
- ParametricHighlightSplit: 75
- ParametricLights: 0
- ParametricMidtoneSplit: 50
- ParametricShadows: 0
- ParametricShadowSplit: 25
- PerspectiveAspect: 0
- PerspectiveHorizontal: 0
- PerspectiveRotate: 0.0
- PerspectiveScale: 100
- PerspectiveUpright: 0
- PerspectiveVertical: 0
- PerspectiveX: 0.00
- PerspectiveY: 0.00
- PostCropVignetteAmount: 0
- ProcessVersion: 11.0
- RawFileName:
- RedHue: 0
- RedSaturation: 0
- Saturation: 0
- SaturationAdjustmentAqua: 0
- SaturationAdjustmentBlue: 0
- SaturationAdjustmentGreen: 0
- SaturationAdjustmentMagenta: 0
- SaturationAdjustmentOrange: 0
- SaturationAdjustmentPurple: 0
- SaturationAdjustmentRed: 0
- SaturationAdjustmentYellow: 0
- Shadows2012: 0
- ShadowTint: 0
- SharpenDetail: 25
- SharpenEdgeMasking: 0
- SharpenRadius: +1.0
- Sharpness: 0
- SplitToningBalance: 0
- SplitToningHighlightHue: 0
- SplitToningHighlightSaturation: 0
- SplitToningShadowHue: 0
- SplitToningShadowSaturation: 0
- Texture: 0
- ToneCurve: 0, 0, 255, 255
- ToneCurveBlue: 0, 0, 255, 255
- ToneCurveGreen: 0, 0, 255, 255
- ToneCurveName: Linear
- ToneCurveName2012: Linear
- ToneCurvePV2012: 0, 0, 255, 255
- ToneCurvePV2012Blue: 0, 0, 255, 255
- ToneCurvePV2012Green: 0, 0, 255, 255
- ToneCurvePV2012Red: 0, 0, 255, 255
- ToneCurveRed: 0, 0, 255, 255
- ToneMapStrength: 0
- Version: 12.4
- Vibrance: 0
- VignetteAmount: 0
- WhiteBalance: As Shot
- Whites2012: 0
- XMP-dc
- XMP-exifEX
- XMP-xmp
- ModifyDate: 2021:11:05 20:16:24+03:00
- XMP-xmpMM
- PreservedFileName: IMG_2704.CR2
- Просмотров: 68
- Рейтинг: голосов еще нет
- Отзывов: отключены