- Раздел: Автомобили
- Дата съёмки: неизвестно
- Дата загрузки фото: 02.10.2023 01:17
- Оригинальная фотография: 1400 x 838 (700 Кб)
- Технические характеристики:
- Фотоаппарат: Nikon D750
- Выдержка: 0,0
- Гиперфокальное расстояние: inf m
- Диафрагма: 4,8
- Светочувствительность: 1250
- Фокусное расстояние: 42,0 mm (35 mm equivalent: 42,0 mm)
- Полный EXIF
- Adobe
- ColorTransform: YCbCr
- Composite
- Aperture: 4,8
- CircleOfConfusion: 0,020 mm
- FocalLength35efl: 42,0 mm (35 mm equivalent: 42,0 mm)
- FOV: 46,0 deg
- HyperfocalDistance: inf m
- LensID: AF-S DX VR Zoom-Nikkor 18-105mm f/3.5-5.6G ED
- Megapixels: 1,2
- ScaleFactor35efl: 1,5
- ShutterSpeed: 0,0
- ExifIFD
- ApertureValue: 4,0
- CFAPattern: [Red,Green][Green,Blue]
- ColorSpace: sRGB
- Contrast: Normal
- CreateDate: 2023:09:25 19:48:05
- CustomRendered: Normal
- DateTimeOriginal: 2023:09:25 19:48:05
- DigitalZoomRatio: 1,53
- ExifImageHeight: 838
- ExifImageWidth: 1400
- ExposureCompensation: 0
- ExposureMode: Manual
- ExposureProgram: Manual
- ExposureTime: 0,0
- Flash: Off, Did not fire
- FNumber: 4,8
- FocalLength: 42,0 mm
- FocalLengthIn35mmFormat: 63 mm
- GainControl: High gain up
- ISO: 1250
- LensInfo: 18-105mm f/3.5-5.6
- LensModel: 18.0-105.0 mm f/3.5-5.6
- LightSource: Unknown
- MaxApertureValue: 4,0
- MeteringMode: Multi-segment
- Saturation: Normal
- SceneCaptureType: Standard
- SceneType: Directly photographed
- SensingMethod: One-chip color area
- SensitivityType: Recommended Exposure Index
- SerialNumber: 2085971
- Sharpness: Soft
- ShutterSpeedValue: 1/64
- SubjectDistanceRange: Unknown
- WhiteBalance: Auto
- ICC-header
- ICC-meas
- ICC-view
- IFD0
- Make: NIKON CORPORATION
- Model: NIKON D750
- ModifyDate: 2023:09:27 22:10:38
- IFD1
- IPTC
- DateCreated: 2023:09:25
- IPTC2
- System
- XMP-aux
- ApproximateFocusDistance: 4294967295
- DistortionCorrectionAlreadyApplied: True
- EnhanceDenoiseAlreadyApplied: True
- EnhanceDenoiseLumaAmount: 50
- EnhanceDenoiseVersion: 251658240
- EnhanceDetailsAlreadyApplied: True
- EnhanceDetailsVersion: 218300416
- ImageNumber: 11994
- LateralChromaticAberrationCorrectionAlreadyApplied: True
- Lens: 18.0-105.0 mm f/3.5-5.6
- LensID: 158
- VignetteCorrectionAlreadyApplied: True
- XMP-crs
- AlreadyApplied: True
- AutoLateralCA: 1
- Blacks2012: +15
- BlueHue: 0
- BlueSaturation: 0
- Clarity2012: +29
- ColorGradeBlending: 50
- ColorGradeGlobalHue: 0
- ColorGradeGlobalLum: 0
- ColorGradeGlobalSat: 0
- ColorGradeHighlightLum: 0
- ColorGradeMidtoneHue: 0
- ColorGradeMidtoneLum: 0
- ColorGradeMidtoneSat: 0
- ColorGradeShadowLum: 0
- ColorNoiseReduction: 0
- ColorTemperature: 3879
- CompatibleVersion: 251658240
- Contrast2012: +22
- CropAngle: 0.6
- CropBottom: 0.975259
- CropConstrainToWarp: 1
- CropLeft: 0.043092
- CropRight: 0.993999
- CropTop: 0.100614
- DefringeGreenAmount: 0
- DefringeGreenHueHi: 60
- DefringeGreenHueLo: 40
- DefringePurpleAmount: 0
- DefringePurpleHueHi: 70
- DefringePurpleHueLo: 30
- Dehaze: 0
- Exposure2012: +1.75
- GrainAmount: 0
- GreenHue: 0
- GreenSaturation: 0
- HasCrop: True
- HasSettings: True
- Highlights2012: -15
- HueAdjustmentAqua: 0
- HueAdjustmentBlue: 0
- HueAdjustmentGreen: 0
- HueAdjustmentMagenta: 0
- HueAdjustmentOrange: 0
- HueAdjustmentPurple: 0
- HueAdjustmentRed: 0
- HueAdjustmentYellow: 0
- LensManualDistortionAmount: 0
- LensProfileDistortionScale: 100
- LensProfileEnable: 1
- LensProfileFilename: NIKON D90 (Nikon AF-S DX NIKKOR 18-105mm f3.5-5.6G ED VR) - RAW.lcp
- LensProfileIsEmbedded: False
- LensProfileSetup: LensDefaults
- LensProfileVignettingScale: 100
- LookAmount: 1
- LookGroup: Profiles
- LookParametersConvertToGrayscale: False
- LookParametersLookTable: E1095149FDB39D7A057BAB208837E2E1
- LookParametersProcessVersion: 11.0
- LookParametersToneCurvePV2012: 0, 0, 22, 16, 40, 35, 127, 127, 224, 230, 240, 246, 255, 255
- LookParametersToneCurvePV2012Blue: 0, 0, 255, 255
- LookParametersToneCurvePV2012Green: 0, 0, 255, 255
- LookParametersToneCurvePV2012Red: 0, 0, 255, 255
- LookParametersVersion: 15.3
- LookSupportsAmount: false
- LookSupportsMonochrome: false
- LookSupportsOutputReferred: false
- LuminanceAdjustmentAqua: 0
- LuminanceAdjustmentBlue: 0
- LuminanceAdjustmentGreen: 0
- LuminanceAdjustmentMagenta: 0
- LuminanceAdjustmentOrange: 0
- LuminanceAdjustmentPurple: 0
- LuminanceAdjustmentRed: 0
- LuminanceAdjustmentYellow: 0
- LuminanceSmoothing: 0
- OverrideLookVignette: False
- ParametricDarks: 0
- ParametricHighlights: 0
- ParametricHighlightSplit: 75
- ParametricLights: 0
- ParametricMidtoneSplit: 50
- ParametricShadows: 0
- ParametricShadowSplit: 25
- PerspectiveAspect: 0
- PerspectiveHorizontal: 0
- PerspectiveRotate: 0.0
- PerspectiveScale: 100
- PerspectiveUpright: 1
- PerspectiveVertical: -1
- PerspectiveX: 0.00
- PerspectiveY: 0.00
- PostCropVignetteAmount: 0
- ProcessVersion: 11.0
- RawFileName: DSC_6306-Улучшено-Ум. шума.dng
- RedHue: 0
- RedSaturation: 0
- Saturation: 0
- SaturationAdjustmentAqua: 0
- SaturationAdjustmentBlue: 0
- SaturationAdjustmentGreen: 0
- SaturationAdjustmentMagenta: 0
- SaturationAdjustmentOrange: 0
- SaturationAdjustmentPurple: 0
- SaturationAdjustmentRed: 0
- SaturationAdjustmentYellow: 0
- Shadows2012: +49
- ShadowTint: 0
- SharpenDetail: 25
- SharpenEdgeMasking: 0
- SharpenRadius: +1.0
- Sharpness: 62
- SplitToningBalance: 0
- SplitToningHighlightHue: 0
- SplitToningHighlightSaturation: 0
- SplitToningShadowHue: 0
- SplitToningShadowSaturation: 0
- Texture: +14
- Tint: +9
- ToneCurveName2012: Linear
- ToneCurvePV2012: 0, 0, 255, 255
- ToneCurvePV2012Blue: 0, 0, 255, 255
- ToneCurvePV2012Green: 0, 0, 255, 255
- ToneCurvePV2012Red: 0, 0, 255, 255
- Version: 15.3
- Vibrance: +15
- VignetteAmount: 0
- WhiteBalance: Custom
- Whites2012: -11
- XMP-dc
- XMP-x
- XMP-xmp
- XMP-xmpMM
- PreservedFileName: DSC_6306.NEF
- Просмотров: 146
- Рейтинг: голосов еще нет
- Отзывов: 0