- Раздел: Другое, разное
- Дата съёмки: неизвестно
- Дата загрузки фото: 27.10.2023 08:18
- Оригинальная фотография: 2757 x 4056 (6,0 Мб)
- Технические характеристики:
- Фотоаппарат: Kodak DCS Pro 14N
- Выдержка: 0,0
- Светочувствительность: 80
- Фокусное расстояние: 1,0 mm
- Полный EXIF
- Adobe
- ColorTransform: YCbCr
- Composite
- FocalLength35efl: 1,0 mm
- Megapixels: 11,2
- ShutterSpeed: 0,0
- ExifIFD
- ColorSpace: sRGB
- DateTimeOriginal: 2018:10:20 12:44:41
- ExifImageHeight: 4056
- ExifImageWidth: 2757
- ExposureCompensation: 0
- ExposureIndex: 80
- ExposureProgram: Manual
- ExposureTime: 0,0
- Flash: No Flash
- FocalLength: 1,0 mm
- ISO: 80
- LightSource: Unknown
- MaxApertureValue: 1,0
- MeteringMode: Multi-spot
- SensingMethod: One-chip color area
- SerialNumber: P14N-04080
- ShutterSpeedValue: 1/128
- ICC-header
- ICC-meas
- ICC-view
- IFD0
- Make: Kodak
- Model: DCS Pro 14N
- ModifyDate: 2022:06:10 23:11:12
- Orientation: Horizontal (normal)
- IFD1
- IPTC
- DateCreated: 2018:10:20
- System
- XMP-aux
- ImageNumber: 501
- XMP-crs
- AlreadyApplied: True
- AutoLateralCA: 0
- Blacks2012: 0
- BlueHue: 0
- BlueSaturation: 0
- Brightness: +50
- CameraProfile: ACR 4.4
- Clarity: +13
- Clarity2012: 0
- ColorNoiseReduction: 25
- ColorNoiseReductionDetail: 50
- ColorTemperature: 5050
- Contrast: -1
- Contrast2012: 0
- ConvertToGrayscale: False
- Defringe: 0
- Exposure: +0.90
- Exposure2012: 0.00
- FillLight: 0
- GrainAmount: 0
- GreenHue: 0
- GreenSaturation: 0
- HasCrop: False
- HasSettings: True
- HighlightRecovery: 16
- Highlights2012: 0
- HueAdjustmentAqua: 0
- HueAdjustmentBlue: 0
- HueAdjustmentGreen: 0
- HueAdjustmentMagenta: 0
- HueAdjustmentOrange: 0
- HueAdjustmentPurple: 0
- HueAdjustmentRed: 0
- HueAdjustmentYellow: 0
- LensManualDistortionAmount: 0
- LensProfileEnable: 0
- LensProfileSetup: LensDefaults
- LuminanceAdjustmentAqua: 0
- LuminanceAdjustmentBlue: 0
- LuminanceAdjustmentGreen: 0
- LuminanceAdjustmentMagenta: 0
- LuminanceAdjustmentOrange: 0
- LuminanceAdjustmentPurple: 0
- LuminanceAdjustmentRed: 0
- LuminanceAdjustmentYellow: 0
- LuminanceSmoothing: 0
- ParametricDarks: 0
- ParametricHighlights: 0
- ParametricHighlightSplit: 75
- ParametricLights: 0
- ParametricMidtoneSplit: 50
- ParametricShadows: 0
- ParametricShadowSplit: 25
- PerspectiveHorizontal: 0
- PerspectiveRotate: 0.0
- PerspectiveScale: 100
- PerspectiveVertical: 0
- PostCropVignetteAmount: 0
- ProcessVersion: 5.7
- RawFileName: D35Q0501.DCR
- RedHue: 0
- RedSaturation: 0
- Saturation: +23
- SaturationAdjustmentAqua: 0
- SaturationAdjustmentBlue: 0
- SaturationAdjustmentGreen: 0
- SaturationAdjustmentMagenta: 0
- SaturationAdjustmentOrange: 0
- SaturationAdjustmentPurple: 0
- SaturationAdjustmentRed: 0
- SaturationAdjustmentYellow: 0
- Shadows: 5
- Shadows2012: 0
- ShadowTint: 0
- SharpenDetail: 25
- SharpenEdgeMasking: 0
- SharpenRadius: +1.0
- Sharpness: 25
- SplitToningBalance: 0
- SplitToningHighlightHue: 0
- SplitToningHighlightSaturation: 0
- SplitToningShadowHue: 0
- SplitToningShadowSaturation: 0
- Tint: -3
- ToneCurve: 0, 0, 32, 22, 64, 56, 128, 128, 192, 196, 255, 255
- ToneCurveBlue: 0, 0, 255, 255
- ToneCurveGreen: 0, 0, 255, 255
- ToneCurveName: Medium Contrast
- ToneCurveName2012: Linear
- ToneCurvePV2012: 0, 0, 255, 255
- ToneCurvePV2012Blue: 0, 0, 255, 255
- ToneCurvePV2012Green: 0, 0, 255, 255
- ToneCurvePV2012Red: 0, 0, 255, 255
- ToneCurveRed: 0, 0, 255, 255
- Version: 6.7.1
- Vibrance: +7
- VignetteAmount: 0
- WhiteBalance: As Shot
- Whites2012: 0
- XMP-dc
- XMP-xmp
- CreateDate: 2018:10:20 12:44:41
- CreatorTool: 5.4.9
- ModifyDate: 2022:06:10 23:11:12+03:00
- Rating: 0
- XMP-xmpMM
- Просмотров: 36
- Рейтинг: голосов еще нет
- Отзывов: отключены