Уважаемые друзья и участники проекта iXBT.photo! К сожалению, 1 марта 2026 года проект iXBT.photo прекратит свою работу и будет закрыт. Мы высоко ценим ваше участие и тот вклад, который вы внесли в развитие нашего сообщества. Пожалуйста, не забудьте сохранить ваши фотографии до этой даты.
С уважением, команда iXBT.com
| 2008.01.01.13.50.38.jpg |
2008.01.01.13.50.38.jpg
- Раздел: Путешествия
- Дата съёмки: 16.01.2008 11:12
- Дата загрузки фото: 16.01.2008 19:42
- Оригинальная фотография: 800 x 1195 (269 Кб)
- Технические характеристики:
- Фотоаппарат: Nikon D80
- Выдержка: 1/125
- Гиперфокальное расстояние: 57,05 m
- Диафрагма: 5,6
- Светочувствительность: 200
- Фокусное расстояние: 80,0mm (35mm эквивалент: 120,0mm)
- Экспокоррекция: -1
- Полный EXIF
- Adobe
- ColorTransform: YCbCr
- Composite
- Aperture: 5,6
- CircleOfConfusion: 0,020 mm
- FocalLength35efl: 80,0mm (35mm equivalent: 120,0mm)
- HyperfocalDistance: 57,05 m
- LightValue: 10,9
- ScaleFactor35efl: 1,5
- ShutterSpeed: 1/125
- ExifIFD
- ApertureValue: 5,6
- CFAPattern: [Green,Blue][Red,Green]
- ColorSpace: sRGB
- Contrast: Normal
- CreateDate: 2008:01:01 13:50:38
- CustomRendered: Normal
- DateTimeOriginal: 2008:01:01 13:50:38
- DigitalZoomRatio: 1
- ExifImageLength: 1195
- ExifImageWidth: 800
- ExposureCompensation: -1
- ExposureMode: Auto
- ExposureProgram: Aperture-priority AE
- ExposureTime: 1/125
- FNumber: 5,6
- Flash: No Flash
- FocalLength: 80,0mm
- FocalLengthIn35mmFormat: 120mm
- GainControl: None
- ISO: 200
- LightSource: Unknown (0)
- MaxApertureValue: 2,8
- MeteringMode: Center-weighted average
- Saturation: Normal
- SceneCaptureType: Standard
- SceneType: Directly photographed
- SensingMethod: One-chip color area
- Sharpness: Normal
- ShutterSpeedValue: 1/125
- WhiteBalance: Auto
- ICC-header
- ICC-meas
- ICC-view
- IFD0
- Make: NIKON CORPORATION
- Model: NIKON D80
- ModifyDate: 2008:01:16 11:12:15
- Orientation: Horizontal (normal)
- IFD1
- IPTC
- XMP-aux
- ImageNumber: 13398
- Lens: 80.0-200.0 mm f/2.8
- LensInfo: 800/10 2000/10 28/10 28/10
- XMP-crs
- AlreadyApplied: True
- BlueHue: 0
- BlueSaturation: 0
- Brightness: +150
- CameraProfile: ACR 3.6
- ChromaticAberrationB: 0
- ChromaticAberrationR: 0
- Clarity: 99
- ColorNoiseReduction: 44
- Contrast: -1
- ConvertToGrayscale: False
- Defringe: 0
- Exposure: -1.10
- FillLight: 44
- GreenHue: 0
- GreenSaturation: 0
- HasCrop: False
- HasSettings: True
- HighlightRecovery: 0
- HueAdjustmentAqua: 0
- HueAdjustmentBlue: 0
- HueAdjustmentGreen: 0
- HueAdjustmentMagenta: 0
- HueAdjustmentOrange: 0
- HueAdjustmentPurple: 0
- HueAdjustmentRed: 0
- HueAdjustmentYellow: 0
- LuminanceAdjustmentAqua: 0
- LuminanceAdjustmentBlue: 0
- LuminanceAdjustmentGreen: 0
- LuminanceAdjustmentMagenta: 0
- LuminanceAdjustmentOrange: 0
- LuminanceAdjustmentPurple: 0
- LuminanceAdjustmentRed: 0
- LuminanceAdjustmentYellow: 0
- LuminanceSmoothing: 30
- ParametricDarks: 0
- ParametricHighlightSplit: 75
- ParametricHighlights: 0
- ParametricLights: 0
- ParametricMidtoneSplit: 50
- ParametricShadowSplit: 25
- ParametricShadows: 0
- RawFileName: DSC_7734.NEF
- RedHue: 0
- RedSaturation: 0
- Saturation: +15
- SaturationAdjustmentAqua: 0
- SaturationAdjustmentBlue: 0
- SaturationAdjustmentGreen: 0
- SaturationAdjustmentMagenta: 0
- SaturationAdjustmentOrange: 0
- SaturationAdjustmentPurple: 0
- SaturationAdjustmentRed: 0
- SaturationAdjustmentYellow: 0
- ShadowTint: 0
- Shadows: 16
- SharpenDetail: 65
- SharpenEdgeMasking: 0
- SharpenRadius: +0.8
- Sharpness: 92
- SplitToningBalance: 0
- SplitToningHighlightHue: 0
- SplitToningHighlightSaturation: 0
- SplitToningShadowHue: 0
- SplitToningShadowSaturation: 0
- Temperature: 5500
- Tint: +10
- ToneCurve: 0, 0, 32, 22, 64, 56, 128, 128, 192, 196, 255, 255
- ToneCurveName: Medium Contrast
- Version: 4.3
- Vibrance: +10
- VignetteAmount: +33
- VignetteMidpoint: 50
- WhiteBalance: Daylight
- XMP-dc
- XMP-exif
- DateTimeDigitized: 2008:01:01 13:50:38.30+03:00
- DateTimeOriginal: 2008:01:01 13:50:38.30+03:00
- FlashFired: False
- FlashFunction: False
- FlashMode: Unknown
- FlashRedEyeMode: False
- FlashReturn: No return detection
- FocalLengthIn35mmFormat: 120
- SubjectDistanceRange: Unknown
- XMP-tiff
- ImageHeight: 3872
- ImageWidth: 2592
- XMP-xmp
- CreateDate: 2008:01:16 11:12:15+03:00
- ModifyDate: 2008:01:16 11:12:15+03:00
- XMP-xmpMM
- DerivedFrom:
- Просмотров: 82
- Рейтинг: голосов еще нет
- Отзывов: 0
Получить код для блога
| Вставка фотографии в текущем разрешении |
Вставка миниатюры |
HTML (для вставки в блог):
BBCode (для вставки в форум):
Ссылка на фото:
Ссылка на миниатюру:
- Послать ссылку другу
| Комментарии к фотографии |