- Раздел: Тесты фототехники
- Дата съёмки: неизвестно
- Дата загрузки фото: 19.06.2024 09:04
- Оригинальная фотография: 7200 x 4800 (37,1 Мб)
- Технические характеристики:
- Фотоаппарат: Sony ILCE-1
- Выдержка: 0,0
- Гиперфокальное расстояние: inf m
- Диафрагма: 4,0
- Светочувствительность: 1250
- Фокусное расстояние: 420,0 mm (35 mm equivalent: 420,0 mm)
- Экспокоррекция: -1
- Полный EXIF
- Adobe
- ColorTransform: YCbCr
- Composite
- Aperture: 4,0
- CircleOfConfusion: 0,030 mm
- FocalLength35efl: 420,0 mm (35 mm equivalent: 420,0 mm)
- FOV: 4,0 deg
- HyperfocalDistance: inf m
- Megapixels: 34,6
- ScaleFactor35efl: 1,0
- ShutterSpeed: 0,0
- ExifIFD
- ApertureValue: 4,0
- BrightnessValue: 4,54453125
- ColorSpace: sRGB
- Contrast: Normal
- CreateDate: 2024:06:15 19:44:40
- CustomRendered: Normal
- DateTimeOriginal: 2024:06:15 19:44:40
- DigitalZoomRatio: 1
- ExifImageHeight: 4800
- ExifImageWidth: 7200
- ExposureCompensation: -1
- ExposureMode: Auto
- ExposureProgram: Aperture-priority AE
- ExposureTime: 0,0
- Flash: Off, Did not fire
- FNumber: 4,0
- FocalLength: 420,0 mm
- FocalLengthIn35mmFormat: 420 mm
- ISO: 1250
- LensInfo: 420mm f/4
- LensModel: FE 300mm F2.8 GM OSS + 1.4X Teleconverter
- LightSource: Unknown
- MaxApertureValue: 4,0
- MeteringMode: Multi-segment
- RecommendedExposureIndex: 1250
- Saturation: Normal
- SceneCaptureType: Standard
- SceneType: Directly photographed
- SensitivityType: Recommended Exposure Index
- Sharpness: Normal
- ShutterSpeedValue: 1/512
- WhiteBalance: Auto
- ICC-header
- ICC-meas
- ICC-view
- IFD0
- BitsPerSample: 8 8 8
- ImageHeight: 5134
- ImageWidth: 7700
- Make: SONY
- Model: ILCE-1
- ModifyDate: 2024:06:19 08:57:29
- Orientation: Horizontal (normal)
- PhotometricInterpretation: RGB
- SamplesPerPixel: 3
- IFD1
- IPTC
- DateCreated: 2024:06:15
- System
- XMP-aux
- EnhanceDenoiseAlreadyApplied: True
- EnhanceDenoiseLumaAmount: 20
- EnhanceDenoiseVersion: 251658240
- EnhanceDetailsAlreadyApplied: True
- EnhanceDetailsVersion: 218300416
- LateralChromaticAberrationCorrectionAlreadyApplied: True
- Lens: FE 300mm F2.8 GM OSS + 1.4X Teleconverter
- LensDistortInfo: 32894/32768 -13106878/1073741824 -486160/1073741824 -3002697/1073741824
- XMP-crs
- AlreadyApplied: True
- AutoLateralCA: 1
- Blacks2012: +42
- BlueHue: 0
- BlueSaturation: 0
- CameraProfile: Camera ST
- Clarity2012: 0
- ColorGradeBlending: 50
- ColorGradeGlobalHue: 0
- ColorGradeGlobalLum: 0
- ColorGradeGlobalSat: 0
- ColorGradeHighlightLum: 0
- ColorGradeMidtoneHue: 0
- ColorGradeMidtoneLum: 0
- ColorGradeMidtoneSat: 0
- ColorGradeShadowLum: 0
- ColorNoiseReduction: 0
- ColorTemperature: 6200
- CompatibleVersion: 251854848
- Contrast2012: 0
- ConvertToGrayscale: False
- DefringeGreenAmount: 0
- DefringeGreenHueHi: 60
- DefringeGreenHueLo: 40
- DefringePurpleAmount: 0
- DefringePurpleHueHi: 70
- DefringePurpleHueLo: 30
- Dehaze: 0
- Exposure2012: +0.05
- GrainAmount: 0
- GreenHue: 0
- GreenSaturation: 0
- HasCrop: False
- HasSettings: True
- HDREditMode: 0
- Highlights2012: -16
- HueAdjustmentAqua: 0
- HueAdjustmentBlue: 0
- HueAdjustmentGreen: 0
- HueAdjustmentMagenta: 0
- HueAdjustmentOrange: 0
- HueAdjustmentPurple: 0
- HueAdjustmentRed: 0
- HueAdjustmentYellow: 0
- LensManualDistortionAmount: 0
- LensProfileEnable: 0
- LuminanceAdjustmentAqua: 0
- LuminanceAdjustmentBlue: 0
- LuminanceAdjustmentGreen: 0
- LuminanceAdjustmentMagenta: 0
- LuminanceAdjustmentOrange: 0
- LuminanceAdjustmentPurple: 0
- LuminanceAdjustmentRed: 0
- LuminanceAdjustmentYellow: 0
- LuminanceSmoothing: 0
- OverrideLookVignette: False
- ParametricDarks: 0
- ParametricHighlights: 0
- ParametricHighlightSplit: 75
- ParametricLights: 0
- ParametricMidtoneSplit: 50
- ParametricShadows: 0
- ParametricShadowSplit: 25
- PerspectiveAspect: 0
- PerspectiveHorizontal: 0
- PerspectiveRotate: 0.0
- PerspectiveScale: 100
- PerspectiveUpright: 0
- PerspectiveVertical: 0
- PerspectiveX: 0.00
- PerspectiveY: 0.00
- PointColors: -1.000000, -1.000000, -1.000000, -1.000000, -1.000000, -1.000000, -1.000000, -1.000000, -1.000000, -1.000000, -1.000000, -1.000000, -1.000000, -1.000000, -1.000000, -1.000000, -1.000000, -1.000000, -1.000000
- PostCropVignetteAmount: 0
- ProcessVersion: 15.4
- RedHue: 0
- RedSaturation: 0
- Saturation: 0
- SaturationAdjustmentAqua: 0
- SaturationAdjustmentBlue: 0
- SaturationAdjustmentGreen: 0
- SaturationAdjustmentMagenta: 0
- SaturationAdjustmentOrange: 0
- SaturationAdjustmentPurple: 0
- SaturationAdjustmentRed: 0
- SaturationAdjustmentYellow: 0
- Shadows2012: +22
- ShadowTint: 0
- SharpenDetail: 71
- SharpenEdgeMasking: 71
- SharpenRadius: +0.8
- Sharpness: 40
- SplitToningBalance: 0
- SplitToningHighlightHue: 0
- SplitToningHighlightSaturation: 0
- SplitToningShadowHue: 0
- SplitToningShadowSaturation: 0
- Texture: 0
- Tint: +14
- ToneCurveName2012: Linear
- ToneCurvePV2012: 0, 0, 255, 255
- ToneCurvePV2012Blue: 0, 0, 255, 255
- ToneCurvePV2012Green: 0, 0, 255, 255
- ToneCurvePV2012Red: 0, 0, 255, 255
- Version: 16.3.1
- Vibrance: 0
- VignetteAmount: 0
- WhiteBalance: Custom
- Whites2012: +58
- XMP-dc
- XMP-exifEX
- XMP-xmp
- ModifyDate: 2024:06:19 08:57:29+03:00
- XMP-xmpMM
- Просмотров: 13
- Рейтинг: голосов еще нет
- Отзывов: отключены