- Раздел: Хобби
- Дата съёмки: неизвестно
- Дата загрузки фото: 20.06.2024 13:39
- Оригинальная фотография: 179 x 191 ( 75 Кб)
- Технические характеристики:
- Фотоаппарат: Samsung Galaxy S23 Ultra
- Выдержка: 0,0
- Гиперфокальное расстояние: inf m
- Диафрагма: 1,7
- Светочувствительность: 10
- Фокусное расстояние: 6,0 mm (35 mm equivalent: 18,0 mm)
- Полный EXIF
- Composite
- Aperture: 1,7
- CircleOfConfusion: 0,008 mm
- FocalLength35efl: 6,0 mm (35 mm equivalent: 18,0 mm)
- FOV: 90,0 deg
- GPSAltitude: 1299 m Above Sea Level
- GPSLatitude: 170 deg 48' 8,00" N
- GPSLongitude: 289 deg 56' 2,00" E
- GPSPosition: 170 deg 48' 8,00" N, 289 deg 56' 2,00" E
- HyperfocalDistance: inf m
- Megapixels: 0,034
- ScaleFactor35efl: 3,8
- ShutterSpeed: 0,0
- ExifIFD
- ApertureValue: 1,4
- BrightnessValue: 9,17
- ColorSpace: sRGB
- CreateDate: 2024:06:08 17:43:13
- DateTimeOriginal: 2024:06:08 17:43:13
- DigitalZoomRatio: 1
- ExposureCompensation: 0
- ExposureMode: Auto
- ExposureProgram: Program AE
- ExposureTime: 0,0
- Flash: No Flash
- FNumber: 1,7
- FocalLength: 6,0 mm
- FocalLengthIn35mmFormat: 23 mm
- ISO: 10
- LensModel: Samsung Galaxy S23 Ultra Rear Wide Camera
- MaxApertureValue: 1,4
- MeteringMode: Center-weighted average
- SceneCaptureType: Standard
- ShutterSpeedValue: 1/512
- WhiteBalance: Auto
- GPS
- GPSAltitude: 1299 m
- GPSAltitudeRef: Above Sea Level
- GPSLatitude: 170 deg 48' 8,00"
- GPSLatitudeRef: North
- GPSLongitude: 289 deg 56' 2,00"
- GPSLongitudeRef: East
- ICC-header
- ICC-meas
- ICC-view
- IFD0
- Make: samsung
- Model: Galaxy S23 Ultra
- ModifyDate: 2024:06:08 18:55:32
- Orientation: Horizontal (normal)
- IFD1
- IPTC
- DateCreated: 2024:06:08
- System
- XMP-aux
- Lens: Samsung Galaxy S23 Ultra Rear Wide Camera
- XMP-crs
- AlreadyApplied: True
- AutoLateralCA: 0
- Blacks2012: -15
- BlueHue: 0
- BlueSaturation: 0
- Brightness: +50
- CameraProfile: Embedded
- Clarity2012: 0
- ColorGradeBlending: 50
- ColorGradeGlobalHue: 0
- ColorGradeGlobalLum: 0
- ColorGradeGlobalSat: 0
- ColorGradeHighlightLum: 0
- ColorGradeMidtoneHue: 0
- ColorGradeMidtoneLum: 0
- ColorGradeMidtoneSat: 0
- ColorGradeShadowLum: 0
- ColorNoiseReduction: 0
- Contrast: +25
- Contrast2012: +6
- ConvertToGrayscale: False
- CropAngle: 1.24363
- CropBottom: 1
- CropConstrainToWarp: 0
- CropLeft: 0.021977
- CropRight: 0.978023
- CropTop: 0
- DefringeGreenAmount: 0
- DefringeGreenHueHi: 60
- DefringeGreenHueLo: 40
- DefringePurpleAmount: 0
- DefringePurpleHueHi: 70
- DefringePurpleHueLo: 30
- Dehaze: +31
- Exposure2012: -0.13
- GrainAmount: 0
- GreenHue: 0
- GreenSaturation: 0
- HasCrop: True
- HasSettings: True
- Highlights2012: -10
- HueAdjustmentAqua: 0
- HueAdjustmentBlue: 0
- HueAdjustmentGreen: 0
- HueAdjustmentMagenta: 0
- HueAdjustmentOrange: 0
- HueAdjustmentPurple: 0
- HueAdjustmentRed: 0
- HueAdjustmentYellow: 0
- IncrementalTemperature: 0
- IncrementalTint: 0
- LensManualDistortionAmount: 0
- LensProfileEnable: 0
- LuminanceAdjustmentAqua: 0
- LuminanceAdjustmentBlue: -35
- LuminanceAdjustmentGreen: 0
- LuminanceAdjustmentMagenta: 0
- LuminanceAdjustmentOrange: 0
- LuminanceAdjustmentPurple: 0
- LuminanceAdjustmentRed: 0
- LuminanceAdjustmentYellow: 0
- LuminanceSmoothing: 0
- OverrideLookVignette: False
- ParametricDarks: 0
- ParametricHighlights: 0
- ParametricHighlightSplit: 75
- ParametricLights: 0
- ParametricMidtoneSplit: 50
- ParametricShadows: 0
- ParametricShadowSplit: 25
- PerspectiveAspect: 0
- PerspectiveHorizontal: 0
- PerspectiveRotate: 0.0
- PerspectiveScale: 100
- PerspectiveUpright: 0
- PerspectiveVertical: 0
- PerspectiveX: 0.00
- PerspectiveY: 0.00
- PostCropVignetteAmount: 0
- ProcessVersion: 11.0
- RawFileName: 20240608_174313.jpg
- RedHue: 0
- RedSaturation: 0
- Saturation: +1
- SaturationAdjustmentAqua: 0
- SaturationAdjustmentBlue: 0
- SaturationAdjustmentGreen: 0
- SaturationAdjustmentMagenta: 0
- SaturationAdjustmentOrange: 0
- SaturationAdjustmentPurple: 0
- SaturationAdjustmentRed: 0
- SaturationAdjustmentYellow: 0
- Shadows: 5
- Shadows2012: +40
- ShadowTint: 0
- Sharpness: 0
- SplitToningBalance: 0
- SplitToningHighlightHue: 0
- SplitToningHighlightSaturation: 0
- SplitToningShadowHue: 0
- SplitToningShadowSaturation: 0
- Texture: 0
- ToneCurveName2012: Linear
- ToneCurvePV2012: 0, 0, 255, 255
- ToneCurvePV2012Blue: 0, 0, 255, 255
- ToneCurvePV2012Green: 0, 0, 255, 255
- ToneCurvePV2012Red: 0, 0, 255, 255
- Version: 15.3
- Vibrance: +9
- VignetteAmount: 0
- WhiteBalance: As Shot
- Whites2012: 0
- XMP-dc
- XMP-exifEX
- XMP-xmp
- CreateDate: 2024:06:08 17:43:13.844
- ModifyDate: 2024:06:08 18:55:32+05:00
- XMP-xmpMM
- PreservedFileName: 20240608_174313.jpg
- Просмотров: 93
- Рейтинг: голосов еще нет
- Отзывов: 0