- Раздел: Другое, разное
- Дата съёмки: неизвестно
- Дата загрузки фото: 04.07.2024 08:01
- Оригинальная фотография: 3000 x 2350 (4,1 Мб)
- Технические характеристики:
- Фотоаппарат: Canon PowerShot SX50 HS
- Выдержка: 0,0
- Гиперфокальное расстояние: inf m
- Диафрагма: 4,5
- Светочувствительность: 80
- Фокусное расстояние: 13,0 mm (35 mm equivalent: 65,0 mm)
- Экспокоррекция: -1
- Полный EXIF
- Adobe
- ColorTransform: YCbCr
- Composite
- Aperture: 4,5
- CircleOfConfusion: 0,005 mm
- Flash: Off, Did not fire
- FocalLength35efl: 13,0 mm (35 mm equivalent: 65,0 mm)
- FOV: 30,0 deg
- HyperfocalDistance: inf m
- Megapixels: 7,0
- ScaleFactor35efl: 5,6
- ShutterSpeed: 0,0
- ExifIFD
- ApertureValue: 4,0
- ColorSpace: sRGB
- CreateDate: 2024:07:03 09:01:37
- CustomRendered: Normal
- DateTimeOriginal: 2024:07:03 09:01:37
- DigitalZoomRatio: 1
- ExifImageHeight: 2350
- ExifImageWidth: 3000
- ExposureCompensation: -1
- ExposureMode: Manual
- ExposureTime: 0,0
- FNumber: 4,5
- FocalLength: 13,0 mm
- ISO: 80
- LensInfo: 4.3-215mm f/?
- LensModel: 4.3-215.0 mm
- MaxApertureValue: 4,0
- MeteringMode: Multi-segment
- SceneCaptureType: Standard
- SensingMethod: One-chip color area
- SensitivityType: Standard Output Sensitivity and Recommended Exposure Index
- ShutterSpeedValue: 1/16
- WhiteBalance: Manual
- ICC-header
- ICC-meas
- ICC-view
- IFD0
- Artist: ALEKSANDR SMIRNOV
- Copyright: tondra@yandex.ru
- Make: Canon
- Model: Canon PowerShot SX50 HS
- ModifyDate: 2024:07:03 20:49:46
- Orientation: Horizontal (normal)
- IFD1
- IPTC
- By-line: ALEKSANDR SMIRNOV
- CopyrightNotice: tondra@yandex.ru
- DateCreated: 2024:07:03
- System
- XMP-aux
- ApproximateFocusDistance: 0,37
- Firmware: 1.00
- FlashCompensation: 0
- Lens: 4.3-215.0 mm
- XMP-crs
- AlreadyApplied: True
- AutoLateralCA: 0
- Blacks2012: +33
- BlueHue: 0
- BlueSaturation: 0
- CameraProfile: Embedded
- Clarity2012: +23
- ColorNoiseReduction: 0
- Contrast2012: +17
- ConvertToGrayscale: False
- DefringeGreenAmount: 0
- DefringeGreenHueHi: 60
- DefringeGreenHueLo: 40
- DefringePurpleAmount: 0
- DefringePurpleHueHi: 70
- DefringePurpleHueLo: 30
- Dehaze: 0
- Exposure2012: 0.00
- GrainAmount: 0
- GreenHue: 0
- GreenSaturation: 0
- HasCrop: False
- HasSettings: True
- Highlights2012: -12
- HueAdjustmentAqua: 0
- HueAdjustmentBlue: 0
- HueAdjustmentGreen: 0
- HueAdjustmentMagenta: 0
- HueAdjustmentOrange: -13
- HueAdjustmentPurple: 0
- HueAdjustmentRed: 0
- HueAdjustmentYellow: -22
- IncrementalTemperature: 0
- IncrementalTint: 0
- LensManualDistortionAmount: 0
- LensProfileEnable: 0
- LensProfileSetup: LensDefaults
- LuminanceAdjustmentAqua: 0
- LuminanceAdjustmentBlue: +4
- LuminanceAdjustmentGreen: 0
- LuminanceAdjustmentMagenta: 0
- LuminanceAdjustmentOrange: -40
- LuminanceAdjustmentPurple: 0
- LuminanceAdjustmentRed: -1
- LuminanceAdjustmentYellow: -13
- LuminanceSmoothing: 0
- ParametricDarks: 0
- ParametricHighlights: 0
- ParametricHighlightSplit: 75
- ParametricLights: 0
- ParametricMidtoneSplit: 50
- ParametricShadows: 0
- ParametricShadowSplit: 25
- PerspectiveAspect: 0
- PerspectiveHorizontal: 0
- PerspectiveRotate: 0.0
- PerspectiveScale: 100
- PerspectiveUpright: 0
- PerspectiveVertical: 0
- PerspectiveX: 0.00
- PerspectiveY: 0.00
- PostCropVignetteAmount: 0
- ProcessVersion: 6.7
- RawFileName: 141.JPG
- RedHue: 0
- RedSaturation: 0
- Saturation: 0
- SaturationAdjustmentAqua: -15
- SaturationAdjustmentBlue: -21
- SaturationAdjustmentGreen: -17
- SaturationAdjustmentMagenta: -3
- SaturationAdjustmentOrange: +3
- SaturationAdjustmentPurple: -2
- SaturationAdjustmentRed: +3
- SaturationAdjustmentYellow: -5
- Shadows2012: +32
- ShadowTint: 0
- SharpenDetail: 25
- SharpenEdgeMasking: 0
- SharpenRadius: +1.0
- Sharpness: 0
- SplitToningBalance: 0
- SplitToningHighlightHue: 0
- SplitToningHighlightSaturation: 0
- SplitToningShadowHue: 0
- SplitToningShadowSaturation: 0
- ToneCurve: 0, 0, 255, 255
- ToneCurveBlue: 0, 0, 255, 255
- ToneCurveGreen: 0, 0, 255, 255
- ToneCurveName: Linear
- ToneCurveName2012: Linear
- ToneCurvePV2012: 0, 0, 255, 255
- ToneCurvePV2012Blue: 0, 0, 255, 255
- ToneCurvePV2012Green: 0, 0, 255, 255
- ToneCurvePV2012Red: 0, 0, 255, 255
- ToneCurveRed: 0, 0, 255, 255
- ToneMapStrength: 0
- Version: 9.12.1
- Vibrance: +16
- VignetteAmount: 0
- WhiteBalance: As Shot
- Whites2012: -12
- XMP-dc
- Creator: ALEKSANDR SMIRNOV
- Format: image/jpeg
- Rights: tondra@yandex.ru
- XMP-exif
- ApertureValue: 4,5
- DateTimeDigitized: 2024:07:03 09:01:37+05:00
- DateTimeOriginal: 2024:07:03 09:01:37+05:00
- ExposureTime: 1/20
- FlashFired: False
- FlashFunction: False
- FlashMode: Off
- FlashRedEyeMode: False
- FlashReturn: No return detection
- FocalLength: 13,8 mm
- MaxApertureValue: 4,5
- ShutterSpeedValue: 1/20
- XMP-microsoft
- DateAcquired: 2024:07:03 15:53:04.276
- XMP-rdf
- XMP-tiff
- XMP-x
- XMP-xmp
- CreateDate: 2024:07:03 20:49:46+05:00
- ModifyDate: 2024:07:03 20:49:46+05:00
- XMP-xmpMM
- Просмотров: 37
- Рейтинг: голосов еще нет
- Отзывов: 0