- Раздел: Другое, разное
- Дата съёмки: неизвестно
- Дата загрузки фото: 22.07.2024 21:26
- Оригинальная фотография: 7975 x 9341 (3,8 Мб)
- Технические характеристики:
- Фотоаппарат: Hasselblad X2D 100C
- Выдержка: 0,0
- Гиперфокальное расстояние: inf m
- Диафрагма: 2,5
- Светочувствительность: 6400
- Фокусное расстояние: 55,0 mm
- Полный EXIF
- Adobe
- ColorTransform: YCbCr
- Composite
- Aperture: 2,5
- CircleOfConfusion: 0,038 mm
- FocalLength35efl: 55,0 mm
- HyperfocalDistance: inf m
- Megapixels: 74,5
- ScaleFactor35efl: 0,8
- ShutterSpeed: 0,0
- ExifIFD
- ApertureValue: 2,0
- ColorSpace: sRGB
- DateTimeOriginal: 2024:02:17 12:34:37
- ExifImageHeight: 9341
- ExifImageWidth: 7975
- ExposureCompensation: 0
- ExposureProgram: Aperture-priority AE
- ExposureTime: 0,0
- Flash: No Flash
- FNumber: 2,5
- FocalLength: 55,0 mm
- FocalLengthIn35mmFormat: 43 mm
- ISO: 6400
- LensMake: Hasselblad
- LensModel: XCD 55V
- MaxApertureValue: 2,0
- MeteringMode: Center-weighted average
- SerialNumber: XT21007724
- ShutterSpeedValue: 1/2048
- ICC-header
- ICC-meas
- ICC-view
- IFD0
- BitsPerSample: 8 8 8
- ImageHeight: 11656
- ImageWidth: 8742
- Make: Hasselblad
- Model: X2D 100C
- ModifyDate: 2024:07:22 21:23:59
- Orientation: Horizontal (normal)
- PhotometricInterpretation: RGB
- SamplesPerPixel: 3
- IFD1
- IPTC
- DateCreated: 2024:02:17
- System
- XMP-aux
- Lens: XCD 55V
- XMP-crs
- AlreadyApplied: True
- AutoLateralCA: 0
- Blacks2012: 0
- BlueHue: 0
- BlueSaturation: 0
- CameraProfile: Camera Standard
- Clarity2012: 0
- ColorGradeBlending: 50
- ColorGradeGlobalHue: 0
- ColorGradeGlobalLum: 0
- ColorGradeGlobalSat: 0
- ColorGradeHighlightLum: 0
- ColorGradeMidtoneHue: 0
- ColorGradeMidtoneLum: 0
- ColorGradeMidtoneSat: 0
- ColorGradeShadowLum: 0
- ColorNoiseReduction: 66
- ColorNoiseReductionDetail: 50
- ColorNoiseReductionSmoothness: 50
- ColorTemperature: 4550
- Contrast2012: 0
- ConvertToGrayscale: False
- DefringeGreenAmount: 0
- DefringeGreenHueHi: 60
- DefringeGreenHueLo: 40
- DefringePurpleAmount: 0
- DefringePurpleHueHi: 70
- DefringePurpleHueLo: 30
- Dehaze: 0
- Exposure2012: 0.00
- GrainAmount: 0
- GreenHue: 0
- GreenSaturation: 0
- HasCrop: False
- HasSettings: True
- HDREditMode: 0
- Highlights2012: 0
- HueAdjustmentAqua: 0
- HueAdjustmentBlue: 0
- HueAdjustmentGreen: 0
- HueAdjustmentMagenta: 0
- HueAdjustmentOrange: -24
- HueAdjustmentPurple: 0
- HueAdjustmentRed: 0
- HueAdjustmentYellow: 0
- LensManualDistortionAmount: 0
- LensProfileEnable: 0
- LuminanceAdjustmentAqua: 0
- LuminanceAdjustmentBlue: 0
- LuminanceAdjustmentGreen: 0
- LuminanceAdjustmentMagenta: 0
- LuminanceAdjustmentOrange: 0
- LuminanceAdjustmentPurple: 0
- LuminanceAdjustmentRed: 0
- LuminanceAdjustmentYellow: 0
- LuminanceNoiseReductionContrast: 0
- LuminanceNoiseReductionDetail: 50
- LuminanceSmoothing: 60
- OverrideLookVignette: False
- ParametricDarks: +100
- ParametricHighlights: 0
- ParametricHighlightSplit: 75
- ParametricLights: 0
- ParametricMidtoneSplit: 50
- ParametricShadows: -20
- ParametricShadowSplit: 25
- PerspectiveAspect: 0
- PerspectiveHorizontal: 0
- PerspectiveRotate: 0.0
- PerspectiveScale: 100
- PerspectiveUpright: 0
- PerspectiveVertical: 0
- PerspectiveX: 0.00
- PerspectiveY: 0.00
- PostCropVignetteAmount: 0
- ProcessVersion: 15.4
- RedHue: 0
- RedSaturation: 0
- Saturation: +61
- SaturationAdjustmentAqua: 0
- SaturationAdjustmentBlue: 0
- SaturationAdjustmentGreen: 0
- SaturationAdjustmentMagenta: 0
- SaturationAdjustmentOrange: +15
- SaturationAdjustmentPurple: 0
- SaturationAdjustmentRed: 0
- SaturationAdjustmentYellow: 0
- Shadows2012: +87
- ShadowTint: 0
- SharpenDetail: 25
- SharpenEdgeMasking: 0
- SharpenRadius: +1.0
- Sharpness: 40
- SplitToningBalance: 0
- SplitToningHighlightHue: 0
- SplitToningHighlightSaturation: 0
- SplitToningShadowHue: 0
- SplitToningShadowSaturation: 0
- Texture: 0
- Tint: +8
- ToneCurveName2012: Linear
- ToneCurvePV2012: 0, 0, 255, 255
- ToneCurvePV2012Blue: 0, 0, 255, 255
- ToneCurvePV2012Green: 0, 0, 255, 255
- ToneCurvePV2012Red: 0, 0, 255, 255
- Version: 16.0
- Vibrance: 0
- VignetteAmount: 0
- WhiteBalance: Custom
- Whites2012: 0
- XMP-dc
- XMP-exifEX
- XMP-xmp
- CreateDate: 2024:02:17 12:34:37
- CreatorTool: 3.1.0
- ModifyDate: 2024:07:22 21:23:59+03:00
- Rating: 0
- XMP-xmpMM
- Просмотров: 16
- Рейтинг: голосов еще нет
- Отзывов: отключены